{"text_format":"1","workbook":"xlsx","n_sheets":6,"sheets":["Mode-emploi","Calendrier","Demande de VS","Liste des DT-EIC-SITES","Programme de travail prev","Paramètres (à masquer)"],"not_rendered":{"charts":0,"images":4,"macros":1,"external_links":0,"defined_names":14,"comments":1,"pivot_tables":0},"unopened":[],"bounds":{"document_bytes":16777216,"sheet_cells":100000,"rows_first":2000,"rows_last":500,"rows_between":2000,"halvings":0,"cell_chars":16384,"cell_head_chars":4096},"cells_cut":0,"cells_raw":0,"read":"whole","date_system":"1900"}

{"sheet":"Mode-emploi","index":0,"n_rows":64,"n_cols":3,"rows_kept":64,"cut":false,"hidden":false,"merged":[[25,2,25,7],[10,1,10,7],[13,1,14,7],[17,1,17,7],[23,2,23,7],[24,2,24,7],[64,1,64,7],[31,2,32,7],[35,1,35,7],[36,1,36,7],[37,1,37,7],[38,1,38,7],[39,1,39,7],[43,1,45,7],[51,1,51,7],[52,1,52,7],[55,1,55,7],[63,1,63,7]]}
[]
["FORMULAIRE DE DEMANDE DE VOIES DE SERVICE"]
["MODE D'EMPLOI"]
[]
[null,"Pour toutes questions sur la complétude du fichier, contacter la PSEF : services.psef@sncf.fr"]
[]
[null,"Horaire de service : "]
[null,"Service Annuel : \u009f SA 2025 (du 15/12/2024 au 13/12/2025)"]
[]
[null,"Direction Territoriale SNCF Réseau : "]
[null,"Le candidat doit impérativement soumettre une demande (= un fichier) par périmètre de  Direction Territoriale SNCF Réseau. C'est un préalable obligatoire pour pouvoir sélectionner ensuite des sites dépendant du périmètre de celle-ci.\nExemple : si besoin de capacité sur les sites de Sibelin et Woippy, \nà Alors renseigner un formulaire pour la DT Auvergne Rhone Alpes pour Sibelin ET un formulaire pour la DT Grand-Est pour Woippy"]
[]
[null,"Site : "]
[null,"Site proposant des voies de service commercialisables. A choisir dans la liste déroulante des sites dépendant de la DT SNCF Réseau (à sélectionner obligatoirement au préalable)"]
[]
[]
[null,"Longueur minimale demandée en ml"]
[null,"Pour un site donné, par exemple, au choix, quatre lignes de fichier à 500 ml chacune, ou une seule ligne de fichier à 2000 ml"]
[]
[null,"Régime d'utilisation : "]
[null,"Renseigner le régime (ou fréquence) de circulation prévu : "]
[null,"Pour une circulation quotidienne, indiquer OUI dans quotidien ?. Les champs seront complétés automatiquement. "]
[null,"Pour tout autre régime d'utilisation, sélectionner les jours souhaités."]
[null,"Par exemple :","\u009f LU ME : signifie que le train est prévu de circuler tous les lundis et mercredis pendant la période demandée"]
[null,null,"\u009f Quotidien ? : du lundi au dimanche yc jours fériés, pendant la période demandée"]
[null,null,"\u009f Férié : jour de fêtes ( le 1er janvier, Pâques, le lundi de Pâques, le 1er mai, le 8 mai, l'Ascension, le lundi de Pentecôte, le 14 juillet, le 15 août, le 1er novembre, le 11 novembre et le 25 décembre)"]
[]
[null,"Période : "]
[null,"Renseigner une ligne pour chaque période de l'année concernée en choisissant une date de début et une date de fin"]
[null,"Par exemple :  \u009f SA2024 (pour tout le service annuel, en 2024 : du 10/12/2023 au 14/12/2024)"]
[null,null,"\u009f Du 01/07/2024 au 31/08/2024 (dates début et fin, si demande d'une période particulière)"]
[null,null,"\u009f Si une même demande de capacité concerne plusieurs périodes différentes alors il faudra renseigner une ligne par période. \nPar exemple, j'ai besoin de 700m pour le même train du 01/07/2024 au 31/08/2024 puis du 01/10/2024 au 14/12/2024, il faudra que je renseigne 2 lignes différentes en indiquant les périodes"]
[]
[]
[null,"Nombre de train accédant par jour sur le site : "]
[null,"\u009f Je suis un train qui entre chaque jour sur le même site, j'indique 1 train accédant à chaque fois."]
[null,"\u009f Je suis un train qui entre plusieurs fois par jour sur le  même site, j'indique le nombre de fois par jour où le train accède ."]
[null,"\u009f Je suis un train qui entre sur plusieurs sites différents, j'indique 1 accès sur chaque site."]
[null,"\u009f Je fais des manœuvres d'un train à l’intérieur du même site, j'indique 1 fois le train accédant."]
[null,"\u009f Je suis un train qui utilise des voies de service commercialisables pour faire une relève conducteur, j'indique le train accédant."]
[]
[]
[null,"Numéro de voie souhaité ; "]
[null,"La demande s'exprime par une expression de capacité en mètres linéaires de voie. \nEn complément, l'entreprise peut indiquer les numéros des voies qu'elle souhaite se voir allouer, mais sans garantie d'obtention."]
[]
[]
[]
[null,"Aptitude TE : "]
[null,"Aptitude Transport Exceptionnel de la voie (OUI / NON)"]
[]
[null,"Charge : "]
[null,"Se référer au chapitre 2.3.5 LIMITES DE CHARGE du DRR 2023"]
[null,"Les voies de service sont normalement classées en catégorie C4, sauf mention particulière portée dans les documents d’exploitation remis par SNCF Réseau aux entreprises ferroviaires."]
[null,"Electrification :"]
[null,"Electrification de la voie (OUI / NON)"]
[]
[null,"MD : "]
[null,"Aptitude de la voie à recevoir des Matières Dangereuses (OUI / NON)"]
[]
[null,"Prospection : "]
[null,"NON : besoin ferme du candidat ; OUI : besoin pour une prospection commerciale en cours"]
[]
[null,"Commentaires O/D : "]
[null,"Observations complémentaires sur le souhait du candidat, facilitant le traitement de la demande. \nPar exemple : Origine/Destination"]

{"sheet":"Calendrier","index":1,"n_rows":4,"n_cols":2,"rows_kept":4,"cut":false,"hidden":false,"merged":[]}
[]
["CALENDRIER  D'INSTRUCTION DES DEMANDES D'ALLOCATION DE CAPACITÉ"]
["VOIES DE SERVICE À USAGE COURANT"]
[null,"(cf. DRR chap. 7.3.5.6 b)"]

{"sheet":"Demande de VS","index":2,"n_rows":519,"n_cols":46,"rows_kept":519,"cut":false,"hidden":false,"merged":[[17,4,17,12],[17,13,17,14],[16,40,17,41],[16,44,17,45],[16,23,17,27],[16,28,17,31],[16,32,17,39],[16,42,18,42],[16,43,18,43],[0,2,0,16],[2,2,2,12],[16,1,17,2],[16,3,16,14],[16,16,17,22],[8,2,8,12],[8,13,8,16],[10,2,10,12],[10,13,10,16],[12,2,12,12],[12,13,12,16],[2,13,2,16],[4,2,4,12],[4,13,4,16],[6,2,6,12],[6,13,6,16]]}
[null,null,"EXPRESSION DE BESOIN EN VOIES DE SERVICE\nFiche à envoyer à la PSEF -  courriel : services.psef@sncf.fr "]
[]
[null,null,"Horaire de service * :",null,null,null,null,null,null,null,null,null,null,2026,null,null,null,{"$f":"_xlfn.CONCAT(\"Du \",TEXT('Paramètres (à masquer)'!AF3,\"jj/mm/aaaa\"),\" au \",TEXT('Paramètres (à masquer)'!AG3,\"jj/mm/aaaa\"))","v":"Du 14/12/2025 au 12/12/2026"}]
[]
[null,null,"Date de la demande * :",null,null,null,null,null,null,null,null,null,null,null,null,null,null,null,"Rappel : Calendrier d'envoi des demandes pour l'année A (cf. DRR chap. 7.3.5.6 b)"]
[]
[null,null,"Raison sociale du demandeur * : ",null,null,null,null,null,null,null,null,null,null,null,null,null,null,null,"\u009f Demandes initiales : jusqu'au 15 juin année A-1"]
[]
[null,null,"Identité du demandeur * :",null,null,null,null,null,null,null,null,null,null,null,null,null,null,null,"\u009f Demandes complémentaires : du 16 juin au 15 octobre année A-1"]
[]
[null,null,"Coordonnées du demandeur (courriel, tel.) * :",null,null,null,null,null,null,null,null,null,null,null,null,null,null,null,"\u009f Demandes tardives ou ad hoc : du 16 octobre année A-1 à fin de SA année A"]
[]
[null,null,"Direction Territoriale SNCF Réseau * :"]
[null,"Les champs marqués d'un astérisque * sont à compléter obligatoirement par le Candidat, à défaut, la demande sera considérée comme incomplète et sera retournée au Candidat sans instruction. "]
[null,"Compléter une ligne par VS demandée ; si la demande concerne un linéaire sans nombre précis de voie, indiquer sur une seule ligne le linéaire global souhaité pour ce site."]
[null,"Consulter l'onglet \"Mode d'emploi\" au préalable"]
[null,"Localisation",null,"Capacité demandée",null,null,null,null,null,null,null,null,null,null,null,null,"Caractéristiques des Voie(s) demandée(s)",null,null,null,null,null,null,"Objectivation de la demande ",null,null,null,null,"Zone Réservée à SNCF Réseau - EIC et DT Réseau ",null,null,null,"Régime d'utilisation",null,null,null,null,null,null,null,"Période",null,"Commentaires (ex: jours exclus, infos complémentaires...) ou motif si refus"," Modèle contractuel retenu","Nombre d'Unités d'Œuvre (UO)\ncalcul de la redevance "]
[null,null,null,null,"Régime d'utilisation *",null,null,null,null,null,null,null,null,"Période *"]
["Index","Site *","EIC \n (pas de saisie ici)","Longueur minimale demandée en ml *","Quotidien?","LU","MA","ME","JE","VE","SA","DI","Férié","Du","au","Nombre de train accédant / jour *","Numéro de voie souhaité","Aptitude TE *","Electrification *","Charge *","MD *","Type \nd'utilisation *","Contraintes\nAutres","Type d'Activité  *","Nature du trafic  *","N° sillon \nou \nN° commande","Prospection","Commentaires  \nO/D","Type de réponse","id VS","N° de Voie\nallouée","Longueur utile totale allouée en ml","LU","MA","ME","JE","VE","SA","DI","Férié","Du","au",null,null,"Nb de jours d'utilisation","Nb de trains accédant"]
[{"$f":"_xlfn.SEQUENCE(500)","v":1},null,{"$f":"IFERROR(VLOOKUP(B20,'Paramètres (à masquer)'!$O$4:$P$2040,2,FALSE),\"\")","v":""},null,"Non",null,null,null,null,null,null,null,null,null,null,null,null,null,null,null,null,null,null,null,null,null,null,null,null,null,null,null,null,null,null,null,null,null,null,null,null,null,""]
[2,null,{"$f":"IFERROR(VLOOKUP(B21,'Paramètres (à masquer)'!$O$4:$P$2040,2,FALSE),\"\")","v":""},null,null,null,null,null,null,null,null,null,null,null,null,null,null,null,null,null,null,null,null,null,null,null,null,null,null,null,null,null,null,null,null,null,null,null,null,null,null,null,""]
[3,null,{"$f":"IFERROR(VLOOKUP(B22,'Paramètres (à masquer)'!$O$4:$P$2040,2,FALSE),\"\")","v":""},null,null,null,null,null,null,null,null,null,null,null,null,null,null,null,null,null,null,null,null,null,null,null,null,null,null,null,null,null,null,null,null,null,null,null,null,null,null,null,""]
[4,null,{"$f":"IFERROR(VLOOKUP(B23,'Paramètres (à masquer)'!$O$4:$P$2040,2,FALSE),\"\")","v":""},null,null,null,null,null,null,null,null,null,null,null,null,null,null,null,null,null,null,null,null,null,null,null,null,null,null,null,null,null,null,null,null,null,null,null,null,null,null,null,""]
[5,null,{"$f":"IFERROR(VLOOKUP(B24,'Paramètres (à masquer)'!$O$4:$P$2040,2,FALSE),\"\")","v":""},null,null,null,null,null,null,null,null,null,null,null,null,null,null,null,null,null,null,null,null,null,null,null,null,null,null,null,null,null,null,null,null,null,null,null,null,null,null,null,""]
[6,null,{"$f":"IFERROR(VLOOKUP(B25,'Paramètres (à masquer)'!$O$4:$P$2040,2,FALSE),\"\")","v":""},null,null,null,null,null,null,null,null,null,null,null,null,null,null,null,null,null,null,null,null,null,null,null,null,null,null,null,null,null,null,null,null,null,null,null,null,null,null,null,""]
[7,null,{"$f":"IFERROR(VLOOKUP(B26,'Paramètres (à masquer)'!$O$4:$P$2040,2,FALSE),\"\")","v":""},null,null,null,null,null,null,null,null,null,null,null,null,null,null,null,null,null,null,null,null,null,null,null,null,null,null,null,null,null,null,null,null,null,null,null,null,null,null,null,""]
[8,null,{"$f":"IFERROR(VLOOKUP(B27,'Paramètres (à masquer)'!$O$4:$P$2040,2,FALSE),\"\")","v":""},null,null,null,null,null,null,null,null,null,null,null,null,null,null,null,null,null,null,null,null,null,null,null,null,null,null,null,null,null,null,null,null,null,null,null,null,null,null,null,""]
[9,null,{"$f":"IFERROR(VLOOKUP(B28,'Paramètres (à masquer)'!$O$4:$P$2040,2,FALSE),\"\")","v":""}]
[10,null,{"$f":"IFERROR(VLOOKUP(B29,'Paramètres (à masquer)'!$O$4:$P$2040,2,FALSE),\"\")","v":""}]
[11,null,{"$f":"IFERROR(VLOOKUP(B30,'Paramètres (à masquer)'!$O$4:$P$2040,2,FALSE),\"\")","v":""}]
[12,null,{"$f":"IFERROR(VLOOKUP(B31,'Paramètres (à masquer)'!$O$4:$P$2040,2,FALSE),\"\")","v":""}]
[13,null,{"$f":"IFERROR(VLOOKUP(B32,'Paramètres (à masquer)'!$O$4:$P$2040,2,FALSE),\"\")","v":""}]
[14,null,{"$f":"IFERROR(VLOOKUP(B33,'Paramètres (à masquer)'!$O$4:$P$2040,2,FALSE),\"\")","v":""}]
[15,null,{"$f":"IFERROR(VLOOKUP(B34,'Paramètres (à masquer)'!$O$4:$P$2040,2,FALSE),\"\")","v":""}]
[16,null,{"$f":"IFERROR(VLOOKUP(B35,'Paramètres (à masquer)'!$O$4:$P$2040,2,FALSE),\"\")","v":""}]
[17,null,{"$f":"IFERROR(VLOOKUP(B36,'Paramètres (à masquer)'!$O$4:$P$2040,2,FALSE),\"\")","v":""}]
[18,null,{"$f":"IFERROR(VLOOKUP(B37,'Paramètres (à masquer)'!$O$4:$P$2040,2,FALSE),\"\")","v":""}]
[19,null,{"$f":"IFERROR(VLOOKUP(B38,'Paramètres (à masquer)'!$O$4:$P$2040,2,FALSE),\"\")","v":""}]
[20,null,{"$f":"IFERROR(VLOOKUP(B39,'Paramètres (à masquer)'!$O$4:$P$2040,2,FALSE),\"\")","v":""}]
[21,null,{"$f":"IFERROR(VLOOKUP(B40,'Paramètres (à masquer)'!$O$4:$P$2040,2,FALSE),\"\")","v":""}]
[22,null,{"$f":"IFERROR(VLOOKUP(B41,'Paramètres (à masquer)'!$O$4:$P$2040,2,FALSE),\"\")","v":""}]
[23,null,{"$f":"IFERROR(VLOOKUP(B42,'Paramètres (à masquer)'!$O$4:$P$2040,2,FALSE),\"\")","v":""}]
[24,null,{"$f":"IFERROR(VLOOKUP(B43,'Paramètres (à masquer)'!$O$4:$P$2040,2,FALSE),\"\")","v":""}]
[25,null,{"$f":"IFERROR(VLOOKUP(B44,'Paramètres (à masquer)'!$O$4:$P$2040,2,FALSE),\"\")","v":""}]
[26,null,{"$f":"IFERROR(VLOOKUP(B45,'Paramètres (à masquer)'!$O$4:$P$2040,2,FALSE),\"\")","v":""}]
[27,null,{"$f":"IFERROR(VLOOKUP(B46,'Paramètres (à masquer)'!$O$4:$P$2040,2,FALSE),\"\")","v":""}]
[28,null,{"$f":"IFERROR(VLOOKUP(B47,'Paramètres (à masquer)'!$O$4:$P$2040,2,FALSE),\"\")","v":""}]
[29,null,{"$f":"IFERROR(VLOOKUP(B48,'Paramètres (à masquer)'!$O$4:$P$2040,2,FALSE),\"\")","v":""}]
[30,null,{"$f":"IFERROR(VLOOKUP(B49,'Paramètres (à masquer)'!$O$4:$P$2040,2,FALSE),\"\")","v":""}]
[31,null,{"$f":"IFERROR(VLOOKUP(B50,'Paramètres (à masquer)'!$O$4:$P$2040,2,FALSE),\"\")","v":""}]
[32,null,{"$f":"IFERROR(VLOOKUP(B51,'Paramètres (à masquer)'!$O$4:$P$2040,2,FALSE),\"\")","v":""}]
[33,null,{"$f":"IFERROR(VLOOKUP(B52,'Paramètres (à masquer)'!$O$4:$P$2040,2,FALSE),\"\")","v":""}]
[34,null,{"$f":"IFERROR(VLOOKUP(B53,'Paramètres (à masquer)'!$O$4:$P$2040,2,FALSE),\"\")","v":""}]
[35,null,{"$f":"IFERROR(VLOOKUP(B54,'Paramètres (à masquer)'!$O$4:$P$2040,2,FALSE),\"\")","v":""}]
[36,null,{"$f":"IFERROR(VLOOKUP(B55,'Paramètres (à masquer)'!$O$4:$P$2040,2,FALSE),\"\")","v":""}]
[37,null,{"$f":"IFERROR(VLOOKUP(B56,'Paramètres (à masquer)'!$O$4:$P$2040,2,FALSE),\"\")","v":""}]
[38,null,{"$f":"IFERROR(VLOOKUP(B57,'Paramètres (à masquer)'!$O$4:$P$2040,2,FALSE),\"\")","v":""}]
[39,null,{"$f":"IFERROR(VLOOKUP(B58,'Paramètres (à masquer)'!$O$4:$P$2040,2,FALSE),\"\")","v":""}]
[40,null,{"$f":"IFERROR(VLOOKUP(B59,'Paramètres (à masquer)'!$O$4:$P$2040,2,FALSE),\"\")","v":""}]
[41,null,{"$f":"IFERROR(VLOOKUP(B60,'Paramètres (à masquer)'!$O$4:$P$2040,2,FALSE),\"\")","v":""}]
[42,null,{"$f":"IFERROR(VLOOKUP(B61,'Paramètres (à masquer)'!$O$4:$P$2040,2,FALSE),\"\")","v":""}]
[43,null,{"$f":"IFERROR(VLOOKUP(B62,'Paramètres (à masquer)'!$O$4:$P$2040,2,FALSE),\"\")","v":""}]
[44,null,{"$f":"IFERROR(VLOOKUP(B63,'Paramètres (à masquer)'!$O$4:$P$2040,2,FALSE),\"\")","v":""}]
[45,null,{"$f":"IFERROR(VLOOKUP(B64,'Paramètres (à masquer)'!$O$4:$P$2040,2,FALSE),\"\")","v":""}]
[46,null,{"$f":"IFERROR(VLOOKUP(B65,'Paramètres (à masquer)'!$O$4:$P$2040,2,FALSE),\"\")","v":""}]
[47,null,{"$f":"IFERROR(VLOOKUP(B66,'Paramètres (à masquer)'!$O$4:$P$2040,2,FALSE),\"\")","v":""}]
[48,null,{"$f":"IFERROR(VLOOKUP(B67,'Paramètres (à masquer)'!$O$4:$P$2040,2,FALSE),\"\")","v":""}]
[49,null,{"$f":"IFERROR(VLOOKUP(B68,'Paramètres (à masquer)'!$O$4:$P$2040,2,FALSE),\"\")","v":""}]
[50,null,{"$f":"IFERROR(VLOOKUP(B69,'Paramètres (à masquer)'!$O$4:$P$2040,2,FALSE),\"\")","v":""}]
[51,null,{"$f":"IFERROR(VLOOKUP(B70,'Paramètres (à masquer)'!$O$4:$P$2040,2,FALSE),\"\")","v":""}]
[52,null,{"$f":"IFERROR(VLOOKUP(B71,'Paramètres (à masquer)'!$O$4:$P$2040,2,FALSE),\"\")","v":""}]
[53,null,{"$f":"IFERROR(VLOOKUP(B72,'Paramètres (à masquer)'!$O$4:$P$2040,2,FALSE),\"\")","v":""}]
[54,null,{"$f":"IFERROR(VLOOKUP(B73,'Paramètres (à masquer)'!$O$4:$P$2040,2,FALSE),\"\")","v":""}]
[55,null,{"$f":"IFERROR(VLOOKUP(B74,'Paramètres (à masquer)'!$O$4:$P$2040,2,FALSE),\"\")","v":""}]
[56,null,{"$f":"IFERROR(VLOOKUP(B75,'Paramètres (à masquer)'!$O$4:$P$2040,2,FALSE),\"\")","v":""}]
[57,null,{"$f":"IFERROR(VLOOKUP(B76,'Paramètres (à masquer)'!$O$4:$P$2040,2,FALSE),\"\")","v":""}]
[58,null,{"$f":"IFERROR(VLOOKUP(B77,'Paramètres (à masquer)'!$O$4:$P$2040,2,FALSE),\"\")","v":""}]
[59,null,{"$f":"IFERROR(VLOOKUP(B78,'Paramètres (à masquer)'!$O$4:$P$2040,2,FALSE),\"\")","v":""}]
[60,null,{"$f":"IFERROR(VLOOKUP(B79,'Paramètres (à masquer)'!$O$4:$P$2040,2,FALSE),\"\")","v":""}]
[61,null,{"$f":"IFERROR(VLOOKUP(B80,'Paramètres (à masquer)'!$O$4:$P$2040,2,FALSE),\"\")","v":""}]
[62,null,{"$f":"IFERROR(VLOOKUP(B81,'Paramètres (à masquer)'!$O$4:$P$2040,2,FALSE),\"\")","v":""}]
[63,null,{"$f":"IFERROR(VLOOKUP(B82,'Paramètres (à masquer)'!$O$4:$P$2040,2,FALSE),\"\")","v":""}]
[64,null,{"$f":"IFERROR(VLOOKUP(B83,'Paramètres (à masquer)'!$O$4:$P$2040,2,FALSE),\"\")","v":""}]
[65,null,{"$f":"IFERROR(VLOOKUP(B84,'Paramètres (à masquer)'!$O$4:$P$2040,2,FALSE),\"\")","v":""}]
[66,null,{"$f":"IFERROR(VLOOKUP(B85,'Paramètres (à masquer)'!$O$4:$P$2040,2,FALSE),\"\")","v":""}]
[67,null,{"$f":"IFERROR(VLOOKUP(B86,'Paramètres (à masquer)'!$O$4:$P$2040,2,FALSE),\"\")","v":""}]
[68,null,{"$f":"IFERROR(VLOOKUP(B87,'Paramètres (à masquer)'!$O$4:$P$2040,2,FALSE),\"\")","v":""}]
[69,null,{"$f":"IFERROR(VLOOKUP(B88,'Paramètres (à masquer)'!$O$4:$P$2040,2,FALSE),\"\")","v":""}]
[70,null,{"$f":"IFERROR(VLOOKUP(B89,'Paramètres (à masquer)'!$O$4:$P$2040,2,FALSE),\"\")","v":""}]
[71,null,{"$f":"IFERROR(VLOOKUP(B90,'Paramètres (à masquer)'!$O$4:$P$2040,2,FALSE),\"\")","v":""}]
[72,null,{"$f":"IFERROR(VLOOKUP(B91,'Paramètres (à masquer)'!$O$4:$P$2040,2,FALSE),\"\")","v":""}]
[73,null,{"$f":"IFERROR(VLOOKUP(B92,'Paramètres (à masquer)'!$O$4:$P$2040,2,FALSE),\"\")","v":""}]
[74,null,{"$f":"IFERROR(VLOOKUP(B93,'Paramètres (à masquer)'!$O$4:$P$2040,2,FALSE),\"\")","v":""}]
[75,null,{"$f":"IFERROR(VLOOKUP(B94,'Paramètres (à masquer)'!$O$4:$P$2040,2,FALSE),\"\")","v":""}]
[76,null,{"$f":"IFERROR(VLOOKUP(B95,'Paramètres (à masquer)'!$O$4:$P$2040,2,FALSE),\"\")","v":""}]
[77,null,{"$f":"IFERROR(VLOOKUP(B96,'Paramètres (à masquer)'!$O$4:$P$2040,2,FALSE),\"\")","v":""}]
[78,null,{"$f":"IFERROR(VLOOKUP(B97,'Paramètres (à masquer)'!$O$4:$P$2040,2,FALSE),\"\")","v":""}]
[79,null,{"$f":"IFERROR(VLOOKUP(B98,'Paramètres (à masquer)'!$O$4:$P$2040,2,FALSE),\"\")","v":""}]
[80,null,{"$f":"IFERROR(VLOOKUP(B99,'Paramètres (à masquer)'!$O$4:$P$2040,2,FALSE),\"\")","v":""}]
[81,null,{"$f":"IFERROR(VLOOKUP(B100,'Paramètres (à masquer)'!$O$4:$P$2040,2,FALSE),\"\")","v":""}]
[82,null,{"$f":"IFERROR(VLOOKUP(B101,'Paramètres (à masquer)'!$O$4:$P$2040,2,FALSE),\"\")","v":""}]
[83,null,{"$f":"IFERROR(VLOOKUP(B102,'Paramètres (à masquer)'!$O$4:$P$2040,2,FALSE),\"\")","v":""}]
[84,null,{"$f":"IFERROR(VLOOKUP(B103,'Paramètres (à masquer)'!$O$4:$P$2040,2,FALSE),\"\")","v":""}]
[85,null,{"$f":"IFERROR(VLOOKUP(B104,'Paramètres (à masquer)'!$O$4:$P$2040,2,FALSE),\"\")","v":""}]
[86,null,{"$f":"IFERROR(VLOOKUP(B105,'Paramètres (à masquer)'!$O$4:$P$2040,2,FALSE),\"\")","v":""}]
[87,null,{"$f":"IFERROR(VLOOKUP(B106,'Paramètres (à masquer)'!$O$4:$P$2040,2,FALSE),\"\")","v":""}]
[88,null,{"$f":"IFERROR(VLOOKUP(B107,'Paramètres (à masquer)'!$O$4:$P$2040,2,FALSE),\"\")","v":""}]
[89,null,{"$f":"IFERROR(VLOOKUP(B108,'Paramètres (à masquer)'!$O$4:$P$2040,2,FALSE),\"\")","v":""}]
[90,null,{"$f":"IFERROR(VLOOKUP(B109,'Paramètres (à masquer)'!$O$4:$P$2040,2,FALSE),\"\")","v":""}]
[91,null,{"$f":"IFERROR(VLOOKUP(B110,'Paramètres (à masquer)'!$O$4:$P$2040,2,FALSE),\"\")","v":""}]
[92,null,{"$f":"IFERROR(VLOOKUP(B111,'Paramètres (à masquer)'!$O$4:$P$2040,2,FALSE),\"\")","v":""}]
[93,null,{"$f":"IFERROR(VLOOKUP(B112,'Paramètres (à masquer)'!$O$4:$P$2040,2,FALSE),\"\")","v":""}]
[94,null,{"$f":"IFERROR(VLOOKUP(B113,'Paramètres (à masquer)'!$O$4:$P$2040,2,FALSE),\"\")","v":""}]
[95,null,{"$f":"IFERROR(VLOOKUP(B114,'Paramètres (à masquer)'!$O$4:$P$2040,2,FALSE),\"\")","v":""}]
[96,null,{"$f":"IFERROR(VLOOKUP(B115,'Paramètres (à masquer)'!$O$4:$P$2040,2,FALSE),\"\")","v":""}]
[97,null,{"$f":"IFERROR(VLOOKUP(B116,'Paramètres (à masquer)'!$O$4:$P$2040,2,FALSE),\"\")","v":""}]
[98,null,{"$f":"IFERROR(VLOOKUP(B117,'Paramètres (à masquer)'!$O$4:$P$2040,2,FALSE),\"\")","v":""}]
[99,null,{"$f":"IFERROR(VLOOKUP(B118,'Paramètres (à masquer)'!$O$4:$P$2040,2,FALSE),\"\")","v":""}]
[100,null,{"$f":"IFERROR(VLOOKUP(B119,'Paramètres (à masquer)'!$O$4:$P$2040,2,FALSE),\"\")","v":""}]
[101,null,{"$f":"IFERROR(VLOOKUP(B120,'Paramètres (à masquer)'!$O$4:$P$2040,2,FALSE),\"\")","v":""}]
[102,null,{"$f":"IFERROR(VLOOKUP(B121,'Paramètres (à masquer)'!$O$4:$P$2040,2,FALSE),\"\")","v":""}]
[103,null,{"$f":"IFERROR(VLOOKUP(B122,'Paramètres (à masquer)'!$O$4:$P$2040,2,FALSE),\"\")","v":""}]
[104,null,{"$f":"IFERROR(VLOOKUP(B123,'Paramètres (à masquer)'!$O$4:$P$2040,2,FALSE),\"\")","v":""}]
[105,null,{"$f":"IFERROR(VLOOKUP(B124,'Paramètres (à masquer)'!$O$4:$P$2040,2,FALSE),\"\")","v":""}]
[106,null,{"$f":"IFERROR(VLOOKUP(B125,'Paramètres (à masquer)'!$O$4:$P$2040,2,FALSE),\"\")","v":""}]
[107,null,{"$f":"IFERROR(VLOOKUP(B126,'Paramètres (à masquer)'!$O$4:$P$2040,2,FALSE),\"\")","v":""}]
[108,null,{"$f":"IFERROR(VLOOKUP(B127,'Paramètres (à masquer)'!$O$4:$P$2040,2,FALSE),\"\")","v":""}]
[109,null,{"$f":"IFERROR(VLOOKUP(B128,'Paramètres (à masquer)'!$O$4:$P$2040,2,FALSE),\"\")","v":""}]
[110,null,{"$f":"IFERROR(VLOOKUP(B129,'Paramètres (à masquer)'!$O$4:$P$2040,2,FALSE),\"\")","v":""}]
[111,null,{"$f":"IFERROR(VLOOKUP(B130,'Paramètres (à masquer)'!$O$4:$P$2040,2,FALSE),\"\")","v":""}]
[112,null,{"$f":"IFERROR(VLOOKUP(B131,'Paramètres (à masquer)'!$O$4:$P$2040,2,FALSE),\"\")","v":""}]
[113,null,{"$f":"IFERROR(VLOOKUP(B132,'Paramètres (à masquer)'!$O$4:$P$2040,2,FALSE),\"\")","v":""}]
[114,null,{"$f":"IFERROR(VLOOKUP(B133,'Paramètres (à masquer)'!$O$4:$P$2040,2,FALSE),\"\")","v":""}]
[115,null,{"$f":"IFERROR(VLOOKUP(B134,'Paramètres (à masquer)'!$O$4:$P$2040,2,FALSE),\"\")","v":""}]
[116,null,{"$f":"IFERROR(VLOOKUP(B135,'Paramètres (à masquer)'!$O$4:$P$2040,2,FALSE),\"\")","v":""}]
[117,null,{"$f":"IFERROR(VLOOKUP(B136,'Paramètres (à masquer)'!$O$4:$P$2040,2,FALSE),\"\")","v":""}]
[118,null,{"$f":"IFERROR(VLOOKUP(B137,'Paramètres (à masquer)'!$O$4:$P$2040,2,FALSE),\"\")","v":""}]
[119,null,{"$f":"IFERROR(VLOOKUP(B138,'Paramètres (à masquer)'!$O$4:$P$2040,2,FALSE),\"\")","v":""}]
[120,null,{"$f":"IFERROR(VLOOKUP(B139,'Paramètres (à masquer)'!$O$4:$P$2040,2,FALSE),\"\")","v":""}]
[121,null,{"$f":"IFERROR(VLOOKUP(B140,'Paramètres (à masquer)'!$O$4:$P$2040,2,FALSE),\"\")","v":""}]
[122,null,{"$f":"IFERROR(VLOOKUP(B141,'Paramètres (à masquer)'!$O$4:$P$2040,2,FALSE),\"\")","v":""}]
[123,null,{"$f":"IFERROR(VLOOKUP(B142,'Paramètres (à masquer)'!$O$4:$P$2040,2,FALSE),\"\")","v":""}]
[124,null,{"$f":"IFERROR(VLOOKUP(B143,'Paramètres (à masquer)'!$O$4:$P$2040,2,FALSE),\"\")","v":""}]
[125,null,{"$f":"IFERROR(VLOOKUP(B144,'Paramètres (à masquer)'!$O$4:$P$2040,2,FALSE),\"\")","v":""}]
[126,null,{"$f":"IFERROR(VLOOKUP(B145,'Paramètres (à masquer)'!$O$4:$P$2040,2,FALSE),\"\")","v":""}]
[127,null,{"$f":"IFERROR(VLOOKUP(B146,'Paramètres (à masquer)'!$O$4:$P$2040,2,FALSE),\"\")","v":""}]
[128,null,{"$f":"IFERROR(VLOOKUP(B147,'Paramètres (à masquer)'!$O$4:$P$2040,2,FALSE),\"\")","v":""}]
[129,null,{"$f":"IFERROR(VLOOKUP(B148,'Paramètres (à masquer)'!$O$4:$P$2040,2,FALSE),\"\")","v":""}]
[130,null,{"$f":"IFERROR(VLOOKUP(B149,'Paramètres (à masquer)'!$O$4:$P$2040,2,FALSE),\"\")","v":""}]
[131,null,{"$f":"IFERROR(VLOOKUP(B150,'Paramètres (à masquer)'!$O$4:$P$2040,2,FALSE),\"\")","v":""}]
[132,null,{"$f":"IFERROR(VLOOKUP(B151,'Paramètres (à masquer)'!$O$4:$P$2040,2,FALSE),\"\")","v":""}]
[133,null,{"$f":"IFERROR(VLOOKUP(B152,'Paramètres (à masquer)'!$O$4:$P$2040,2,FALSE),\"\")","v":""}]
[134,null,{"$f":"IFERROR(VLOOKUP(B153,'Paramètres (à masquer)'!$O$4:$P$2040,2,FALSE),\"\")","v":""}]
[135,null,{"$f":"IFERROR(VLOOKUP(B154,'Paramètres (à masquer)'!$O$4:$P$2040,2,FALSE),\"\")","v":""}]
[136,null,{"$f":"IFERROR(VLOOKUP(B155,'Paramètres (à masquer)'!$O$4:$P$2040,2,FALSE),\"\")","v":""}]
[137,null,{"$f":"IFERROR(VLOOKUP(B156,'Paramètres (à masquer)'!$O$4:$P$2040,2,FALSE),\"\")","v":""}]
[138,null,{"$f":"IFERROR(VLOOKUP(B157,'Paramètres (à masquer)'!$O$4:$P$2040,2,FALSE),\"\")","v":""}]
[139,null,{"$f":"IFERROR(VLOOKUP(B158,'Paramètres (à masquer)'!$O$4:$P$2040,2,FALSE),\"\")","v":""}]
[140,null,{"$f":"IFERROR(VLOOKUP(B159,'Paramètres (à masquer)'!$O$4:$P$2040,2,FALSE),\"\")","v":""}]
[141,null,{"$f":"IFERROR(VLOOKUP(B160,'Paramètres (à masquer)'!$O$4:$P$2040,2,FALSE),\"\")","v":""}]
[142,null,{"$f":"IFERROR(VLOOKUP(B161,'Paramètres (à masquer)'!$O$4:$P$2040,2,FALSE),\"\")","v":""}]
[143,null,{"$f":"IFERROR(VLOOKUP(B162,'Paramètres (à masquer)'!$O$4:$P$2040,2,FALSE),\"\")","v":""}]
[144,null,{"$f":"IFERROR(VLOOKUP(B163,'Paramètres (à masquer)'!$O$4:$P$2040,2,FALSE),\"\")","v":""}]
[145,null,{"$f":"IFERROR(VLOOKUP(B164,'Paramètres (à masquer)'!$O$4:$P$2040,2,FALSE),\"\")","v":""}]
[146,null,{"$f":"IFERROR(VLOOKUP(B165,'Paramètres (à masquer)'!$O$4:$P$2040,2,FALSE),\"\")","v":""}]
[147,null,{"$f":"IFERROR(VLOOKUP(B166,'Paramètres (à masquer)'!$O$4:$P$2040,2,FALSE),\"\")","v":""}]
[148,null,{"$f":"IFERROR(VLOOKUP(B167,'Paramètres (à masquer)'!$O$4:$P$2040,2,FALSE),\"\")","v":""}]
[149,null,{"$f":"IFERROR(VLOOKUP(B168,'Paramètres (à masquer)'!$O$4:$P$2040,2,FALSE),\"\")","v":""}]
[150,null,{"$f":"IFERROR(VLOOKUP(B169,'Paramètres (à masquer)'!$O$4:$P$2040,2,FALSE),\"\")","v":""}]
[151,null,{"$f":"IFERROR(VLOOKUP(B170,'Paramètres (à masquer)'!$O$4:$P$2040,2,FALSE),\"\")","v":""}]
[152,null,{"$f":"IFERROR(VLOOKUP(B171,'Paramètres (à masquer)'!$O$4:$P$2040,2,FALSE),\"\")","v":""}]
[153,null,{"$f":"IFERROR(VLOOKUP(B172,'Paramètres (à masquer)'!$O$4:$P$2040,2,FALSE),\"\")","v":""}]
[154,null,{"$f":"IFERROR(VLOOKUP(B173,'Paramètres (à masquer)'!$O$4:$P$2040,2,FALSE),\"\")","v":""}]
[155,null,{"$f":"IFERROR(VLOOKUP(B174,'Paramètres (à masquer)'!$O$4:$P$2040,2,FALSE),\"\")","v":""}]
[156,null,{"$f":"IFERROR(VLOOKUP(B175,'Paramètres (à masquer)'!$O$4:$P$2040,2,FALSE),\"\")","v":""}]
[157,null,{"$f":"IFERROR(VLOOKUP(B176,'Paramètres (à masquer)'!$O$4:$P$2040,2,FALSE),\"\")","v":""}]
[158,null,{"$f":"IFERROR(VLOOKUP(B177,'Paramètres (à masquer)'!$O$4:$P$2040,2,FALSE),\"\")","v":""}]
[159,null,{"$f":"IFERROR(VLOOKUP(B178,'Paramètres (à masquer)'!$O$4:$P$2040,2,FALSE),\"\")","v":""}]
[160,null,{"$f":"IFERROR(VLOOKUP(B179,'Paramètres (à masquer)'!$O$4:$P$2040,2,FALSE),\"\")","v":""}]
[161,null,{"$f":"IFERROR(VLOOKUP(B180,'Paramètres (à masquer)'!$O$4:$P$2040,2,FALSE),\"\")","v":""}]
[162,null,{"$f":"IFERROR(VLOOKUP(B181,'Paramètres (à masquer)'!$O$4:$P$2040,2,FALSE),\"\")","v":""}]
[163,null,{"$f":"IFERROR(VLOOKUP(B182,'Paramètres (à masquer)'!$O$4:$P$2040,2,FALSE),\"\")","v":""}]
[164,null,{"$f":"IFERROR(VLOOKUP(B183,'Paramètres (à masquer)'!$O$4:$P$2040,2,FALSE),\"\")","v":""}]
[165,null,{"$f":"IFERROR(VLOOKUP(B184,'Paramètres (à masquer)'!$O$4:$P$2040,2,FALSE),\"\")","v":""}]
[166,null,{"$f":"IFERROR(VLOOKUP(B185,'Paramètres (à masquer)'!$O$4:$P$2040,2,FALSE),\"\")","v":""}]
[167,null,{"$f":"IFERROR(VLOOKUP(B186,'Paramètres (à masquer)'!$O$4:$P$2040,2,FALSE),\"\")","v":""}]
[168,null,{"$f":"IFERROR(VLOOKUP(B187,'Paramètres (à masquer)'!$O$4:$P$2040,2,FALSE),\"\")","v":""}]
[169,null,{"$f":"IFERROR(VLOOKUP(B188,'Paramètres (à masquer)'!$O$4:$P$2040,2,FALSE),\"\")","v":""}]
[170,null,{"$f":"IFERROR(VLOOKUP(B189,'Paramètres (à masquer)'!$O$4:$P$2040,2,FALSE),\"\")","v":""}]
[171,null,{"$f":"IFERROR(VLOOKUP(B190,'Paramètres (à masquer)'!$O$4:$P$2040,2,FALSE),\"\")","v":""}]
[172,null,{"$f":"IFERROR(VLOOKUP(B191,'Paramètres (à masquer)'!$O$4:$P$2040,2,FALSE),\"\")","v":""}]
[173,null,{"$f":"IFERROR(VLOOKUP(B192,'Paramètres (à masquer)'!$O$4:$P$2040,2,FALSE),\"\")","v":""}]
[174,null,{"$f":"IFERROR(VLOOKUP(B193,'Paramètres (à masquer)'!$O$4:$P$2040,2,FALSE),\"\")","v":""}]
[175,null,{"$f":"IFERROR(VLOOKUP(B194,'Paramètres (à masquer)'!$O$4:$P$2040,2,FALSE),\"\")","v":""}]
[176,null,{"$f":"IFERROR(VLOOKUP(B195,'Paramètres (à masquer)'!$O$4:$P$2040,2,FALSE),\"\")","v":""}]
[177,null,{"$f":"IFERROR(VLOOKUP(B196,'Paramètres (à masquer)'!$O$4:$P$2040,2,FALSE),\"\")","v":""}]
[178,null,{"$f":"IFERROR(VLOOKUP(B197,'Paramètres (à masquer)'!$O$4:$P$2040,2,FALSE),\"\")","v":""}]
[179,null,{"$f":"IFERROR(VLOOKUP(B198,'Paramètres (à masquer)'!$O$4:$P$2040,2,FALSE),\"\")","v":""}]
[180,null,{"$f":"IFERROR(VLOOKUP(B199,'Paramètres (à masquer)'!$O$4:$P$2040,2,FALSE),\"\")","v":""}]
[181,null,{"$f":"IFERROR(VLOOKUP(B200,'Paramètres (à masquer)'!$O$4:$P$2040,2,FALSE),\"\")","v":""}]
[182,null,{"$f":"IFERROR(VLOOKUP(B201,'Paramètres (à masquer)'!$O$4:$P$2040,2,FALSE),\"\")","v":""}]
[183,null,{"$f":"IFERROR(VLOOKUP(B202,'Paramètres (à masquer)'!$O$4:$P$2040,2,FALSE),\"\")","v":""}]
[184,null,{"$f":"IFERROR(VLOOKUP(B203,'Paramètres (à masquer)'!$O$4:$P$2040,2,FALSE),\"\")","v":""}]
[185,null,{"$f":"IFERROR(VLOOKUP(B204,'Paramètres (à masquer)'!$O$4:$P$2040,2,FALSE),\"\")","v":""}]
[186,null,{"$f":"IFERROR(VLOOKUP(B205,'Paramètres (à masquer)'!$O$4:$P$2040,2,FALSE),\"\")","v":""}]
[187,null,{"$f":"IFERROR(VLOOKUP(B206,'Paramètres (à masquer)'!$O$4:$P$2040,2,FALSE),\"\")","v":""}]
[188,null,{"$f":"IFERROR(VLOOKUP(B207,'Paramètres (à masquer)'!$O$4:$P$2040,2,FALSE),\"\")","v":""}]
[189,null,{"$f":"IFERROR(VLOOKUP(B208,'Paramètres (à masquer)'!$O$4:$P$2040,2,FALSE),\"\")","v":""}]
[190,null,{"$f":"IFERROR(VLOOKUP(B209,'Paramètres (à masquer)'!$O$4:$P$2040,2,FALSE),\"\")","v":""}]
[191,null,{"$f":"IFERROR(VLOOKUP(B210,'Paramètres (à masquer)'!$O$4:$P$2040,2,FALSE),\"\")","v":""}]
[192,null,{"$f":"IFERROR(VLOOKUP(B211,'Paramètres (à masquer)'!$O$4:$P$2040,2,FALSE),\"\")","v":""}]
[193,null,{"$f":"IFERROR(VLOOKUP(B212,'Paramètres (à masquer)'!$O$4:$P$2040,2,FALSE),\"\")","v":""}]
[194,null,{"$f":"IFERROR(VLOOKUP(B213,'Paramètres (à masquer)'!$O$4:$P$2040,2,FALSE),\"\")","v":""}]
[195,null,{"$f":"IFERROR(VLOOKUP(B214,'Paramètres (à masquer)'!$O$4:$P$2040,2,FALSE),\"\")","v":""}]
[196,null,{"$f":"IFERROR(VLOOKUP(B215,'Paramètres (à masquer)'!$O$4:$P$2040,2,FALSE),\"\")","v":""}]
[197,null,{"$f":"IFERROR(VLOOKUP(B216,'Paramètres (à masquer)'!$O$4:$P$2040,2,FALSE),\"\")","v":""}]
[198,null,{"$f":"IFERROR(VLOOKUP(B217,'Paramètres (à masquer)'!$O$4:$P$2040,2,FALSE),\"\")","v":""}]
[199,null,{"$f":"IFERROR(VLOOKUP(B218,'Paramètres (à masquer)'!$O$4:$P$2040,2,FALSE),\"\")","v":""}]
[200,null,{"$f":"IFERROR(VLOOKUP(B219,'Paramètres (à masquer)'!$O$4:$P$2040,2,FALSE),\"\")","v":""}]
[201,null,{"$f":"IFERROR(VLOOKUP(B220,'Paramètres (à masquer)'!$O$4:$P$2040,2,FALSE),\"\")","v":""}]
[202,null,{"$f":"IFERROR(VLOOKUP(B221,'Paramètres (à masquer)'!$O$4:$P$2040,2,FALSE),\"\")","v":""}]
[203,null,{"$f":"IFERROR(VLOOKUP(B222,'Paramètres (à masquer)'!$O$4:$P$2040,2,FALSE),\"\")","v":""}]
[204,null,{"$f":"IFERROR(VLOOKUP(B223,'Paramètres (à masquer)'!$O$4:$P$2040,2,FALSE),\"\")","v":""}]
[205,null,{"$f":"IFERROR(VLOOKUP(B224,'Paramètres (à masquer)'!$O$4:$P$2040,2,FALSE),\"\")","v":""}]
[206,null,{"$f":"IFERROR(VLOOKUP(B225,'Paramètres (à masquer)'!$O$4:$P$2040,2,FALSE),\"\")","v":""}]
[207,null,{"$f":"IFERROR(VLOOKUP(B226,'Paramètres (à masquer)'!$O$4:$P$2040,2,FALSE),\"\")","v":""}]
[208,null,{"$f":"IFERROR(VLOOKUP(B227,'Paramètres (à masquer)'!$O$4:$P$2040,2,FALSE),\"\")","v":""}]
[209,null,{"$f":"IFERROR(VLOOKUP(B228,'Paramètres (à masquer)'!$O$4:$P$2040,2,FALSE),\"\")","v":""}]
[210,null,{"$f":"IFERROR(VLOOKUP(B229,'Paramètres (à masquer)'!$O$4:$P$2040,2,FALSE),\"\")","v":""}]
[211,null,{"$f":"IFERROR(VLOOKUP(B230,'Paramètres (à masquer)'!$O$4:$P$2040,2,FALSE),\"\")","v":""}]
[212,null,{"$f":"IFERROR(VLOOKUP(B231,'Paramètres (à masquer)'!$O$4:$P$2040,2,FALSE),\"\")","v":""}]
[213,null,{"$f":"IFERROR(VLOOKUP(B232,'Paramètres (à masquer)'!$O$4:$P$2040,2,FALSE),\"\")","v":""}]
[214,null,{"$f":"IFERROR(VLOOKUP(B233,'Paramètres (à masquer)'!$O$4:$P$2040,2,FALSE),\"\")","v":""}]
[215,null,{"$f":"IFERROR(VLOOKUP(B234,'Paramètres (à masquer)'!$O$4:$P$2040,2,FALSE),\"\")","v":""}]
[216,null,{"$f":"IFERROR(VLOOKUP(B235,'Paramètres (à masquer)'!$O$4:$P$2040,2,FALSE),\"\")","v":""}]
[217,null,{"$f":"IFERROR(VLOOKUP(B236,'Paramètres (à masquer)'!$O$4:$P$2040,2,FALSE),\"\")","v":""}]
[218,null,{"$f":"IFERROR(VLOOKUP(B237,'Paramètres (à masquer)'!$O$4:$P$2040,2,FALSE),\"\")","v":""}]
[219,null,{"$f":"IFERROR(VLOOKUP(B238,'Paramètres (à masquer)'!$O$4:$P$2040,2,FALSE),\"\")","v":""}]
[220,null,{"$f":"IFERROR(VLOOKUP(B239,'Paramètres (à masquer)'!$O$4:$P$2040,2,FALSE),\"\")","v":""}]
[221,null,{"$f":"IFERROR(VLOOKUP(B240,'Paramètres (à masquer)'!$O$4:$P$2040,2,FALSE),\"\")","v":""}]
[222,null,{"$f":"IFERROR(VLOOKUP(B241,'Paramètres (à masquer)'!$O$4:$P$2040,2,FALSE),\"\")","v":""}]
[223,null,{"$f":"IFERROR(VLOOKUP(B242,'Paramètres (à masquer)'!$O$4:$P$2040,2,FALSE),\"\")","v":""}]
[224,null,{"$f":"IFERROR(VLOOKUP(B243,'Paramètres (à masquer)'!$O$4:$P$2040,2,FALSE),\"\")","v":""}]
[225,null,{"$f":"IFERROR(VLOOKUP(B244,'Paramètres (à masquer)'!$O$4:$P$2040,2,FALSE),\"\")","v":""}]
[226,null,{"$f":"IFERROR(VLOOKUP(B245,'Paramètres (à masquer)'!$O$4:$P$2040,2,FALSE),\"\")","v":""}]
[227,null,{"$f":"IFERROR(VLOOKUP(B246,'Paramètres (à masquer)'!$O$4:$P$2040,2,FALSE),\"\")","v":""}]
[228,null,{"$f":"IFERROR(VLOOKUP(B247,'Paramètres (à masquer)'!$O$4:$P$2040,2,FALSE),\"\")","v":""}]
[229,null,{"$f":"IFERROR(VLOOKUP(B248,'Paramètres (à masquer)'!$O$4:$P$2040,2,FALSE),\"\")","v":""}]
[230,null,{"$f":"IFERROR(VLOOKUP(B249,'Paramètres (à masquer)'!$O$4:$P$2040,2,FALSE),\"\")","v":""}]
[231,null,{"$f":"IFERROR(VLOOKUP(B250,'Paramètres (à masquer)'!$O$4:$P$2040,2,FALSE),\"\")","v":""}]
[232,null,{"$f":"IFERROR(VLOOKUP(B251,'Paramètres (à masquer)'!$O$4:$P$2040,2,FALSE),\"\")","v":""}]
[233,null,{"$f":"IFERROR(VLOOKUP(B252,'Paramètres (à masquer)'!$O$4:$P$2040,2,FALSE),\"\")","v":""}]
[234,null,{"$f":"IFERROR(VLOOKUP(B253,'Paramètres (à masquer)'!$O$4:$P$2040,2,FALSE),\"\")","v":""}]
[235,null,{"$f":"IFERROR(VLOOKUP(B254,'Paramètres (à masquer)'!$O$4:$P$2040,2,FALSE),\"\")","v":""}]
[236,null,{"$f":"IFERROR(VLOOKUP(B255,'Paramètres (à masquer)'!$O$4:$P$2040,2,FALSE),\"\")","v":""}]
[237,null,{"$f":"IFERROR(VLOOKUP(B256,'Paramètres (à masquer)'!$O$4:$P$2040,2,FALSE),\"\")","v":""}]
[238,null,{"$f":"IFERROR(VLOOKUP(B257,'Paramètres (à masquer)'!$O$4:$P$2040,2,FALSE),\"\")","v":""}]
[239,null,{"$f":"IFERROR(VLOOKUP(B258,'Paramètres (à masquer)'!$O$4:$P$2040,2,FALSE),\"\")","v":""}]
[240,null,{"$f":"IFERROR(VLOOKUP(B259,'Paramètres (à masquer)'!$O$4:$P$2040,2,FALSE),\"\")","v":""}]
[241,null,{"$f":"IFERROR(VLOOKUP(B260,'Paramètres (à masquer)'!$O$4:$P$2040,2,FALSE),\"\")","v":""}]
[242,null,{"$f":"IFERROR(VLOOKUP(B261,'Paramètres (à masquer)'!$O$4:$P$2040,2,FALSE),\"\")","v":""}]
[243,null,{"$f":"IFERROR(VLOOKUP(B262,'Paramètres (à masquer)'!$O$4:$P$2040,2,FALSE),\"\")","v":""}]
[244,null,{"$f":"IFERROR(VLOOKUP(B263,'Paramètres (à masquer)'!$O$4:$P$2040,2,FALSE),\"\")","v":""}]
[245,null,{"$f":"IFERROR(VLOOKUP(B264,'Paramètres (à masquer)'!$O$4:$P$2040,2,FALSE),\"\")","v":""}]
[246,null,{"$f":"IFERROR(VLOOKUP(B265,'Paramètres (à masquer)'!$O$4:$P$2040,2,FALSE),\"\")","v":""}]
[247,null,{"$f":"IFERROR(VLOOKUP(B266,'Paramètres (à masquer)'!$O$4:$P$2040,2,FALSE),\"\")","v":""}]
[248,null,{"$f":"IFERROR(VLOOKUP(B267,'Paramètres (à masquer)'!$O$4:$P$2040,2,FALSE),\"\")","v":""}]
[249,null,{"$f":"IFERROR(VLOOKUP(B268,'Paramètres (à masquer)'!$O$4:$P$2040,2,FALSE),\"\")","v":""}]
[250,null,{"$f":"IFERROR(VLOOKUP(B269,'Paramètres (à masquer)'!$O$4:$P$2040,2,FALSE),\"\")","v":""}]
[251,null,{"$f":"IFERROR(VLOOKUP(B270,'Paramètres (à masquer)'!$O$4:$P$2040,2,FALSE),\"\")","v":""}]
[252,null,{"$f":"IFERROR(VLOOKUP(B271,'Paramètres (à masquer)'!$O$4:$P$2040,2,FALSE),\"\")","v":""}]
[253,null,{"$f":"IFERROR(VLOOKUP(B272,'Paramètres (à masquer)'!$O$4:$P$2040,2,FALSE),\"\")","v":""}]
[254,null,{"$f":"IFERROR(VLOOKUP(B273,'Paramètres (à masquer)'!$O$4:$P$2040,2,FALSE),\"\")","v":""}]
[255,null,{"$f":"IFERROR(VLOOKUP(B274,'Paramètres (à masquer)'!$O$4:$P$2040,2,FALSE),\"\")","v":""}]
[256,null,{"$f":"IFERROR(VLOOKUP(B275,'Paramètres (à masquer)'!$O$4:$P$2040,2,FALSE),\"\")","v":""}]
[257,null,{"$f":"IFERROR(VLOOKUP(B276,'Paramètres (à masquer)'!$O$4:$P$2040,2,FALSE),\"\")","v":""}]
[258,null,{"$f":"IFERROR(VLOOKUP(B277,'Paramètres (à masquer)'!$O$4:$P$2040,2,FALSE),\"\")","v":""}]
[259,null,{"$f":"IFERROR(VLOOKUP(B278,'Paramètres (à masquer)'!$O$4:$P$2040,2,FALSE),\"\")","v":""}]
[260,null,{"$f":"IFERROR(VLOOKUP(B279,'Paramètres (à masquer)'!$O$4:$P$2040,2,FALSE),\"\")","v":""}]
[261,null,{"$f":"IFERROR(VLOOKUP(B280,'Paramètres (à masquer)'!$O$4:$P$2040,2,FALSE),\"\")","v":""}]
[262,null,{"$f":"IFERROR(VLOOKUP(B281,'Paramètres (à masquer)'!$O$4:$P$2040,2,FALSE),\"\")","v":""}]
[263,null,{"$f":"IFERROR(VLOOKUP(B282,'Paramètres (à masquer)'!$O$4:$P$2040,2,FALSE),\"\")","v":""}]
[264,null,{"$f":"IFERROR(VLOOKUP(B283,'Paramètres (à masquer)'!$O$4:$P$2040,2,FALSE),\"\")","v":""}]
[265,null,{"$f":"IFERROR(VLOOKUP(B284,'Paramètres (à masquer)'!$O$4:$P$2040,2,FALSE),\"\")","v":""}]
[266,null,{"$f":"IFERROR(VLOOKUP(B285,'Paramètres (à masquer)'!$O$4:$P$2040,2,FALSE),\"\")","v":""}]
[267,null,{"$f":"IFERROR(VLOOKUP(B286,'Paramètres (à masquer)'!$O$4:$P$2040,2,FALSE),\"\")","v":""}]
[268,null,{"$f":"IFERROR(VLOOKUP(B287,'Paramètres (à masquer)'!$O$4:$P$2040,2,FALSE),\"\")","v":""}]
[269,null,{"$f":"IFERROR(VLOOKUP(B288,'Paramètres (à masquer)'!$O$4:$P$2040,2,FALSE),\"\")","v":""}]
[270,null,{"$f":"IFERROR(VLOOKUP(B289,'Paramètres (à masquer)'!$O$4:$P$2040,2,FALSE),\"\")","v":""}]
[271,null,{"$f":"IFERROR(VLOOKUP(B290,'Paramètres (à masquer)'!$O$4:$P$2040,2,FALSE),\"\")","v":""}]
[272,null,{"$f":"IFERROR(VLOOKUP(B291,'Paramètres (à masquer)'!$O$4:$P$2040,2,FALSE),\"\")","v":""}]
[273,null,{"$f":"IFERROR(VLOOKUP(B292,'Paramètres (à masquer)'!$O$4:$P$2040,2,FALSE),\"\")","v":""}]
[274,null,{"$f":"IFERROR(VLOOKUP(B293,'Paramètres (à masquer)'!$O$4:$P$2040,2,FALSE),\"\")","v":""}]
[275,null,{"$f":"IFERROR(VLOOKUP(B294,'Paramètres (à masquer)'!$O$4:$P$2040,2,FALSE),\"\")","v":""}]
[276,null,{"$f":"IFERROR(VLOOKUP(B295,'Paramètres (à masquer)'!$O$4:$P$2040,2,FALSE),\"\")","v":""}]
[277,null,{"$f":"IFERROR(VLOOKUP(B296,'Paramètres (à masquer)'!$O$4:$P$2040,2,FALSE),\"\")","v":""}]
[278,null,{"$f":"IFERROR(VLOOKUP(B297,'Paramètres (à masquer)'!$O$4:$P$2040,2,FALSE),\"\")","v":""}]
[279,null,{"$f":"IFERROR(VLOOKUP(B298,'Paramètres (à masquer)'!$O$4:$P$2040,2,FALSE),\"\")","v":""}]
[280,null,{"$f":"IFERROR(VLOOKUP(B299,'Paramètres (à masquer)'!$O$4:$P$2040,2,FALSE),\"\")","v":""}]
[281,null,{"$f":"IFERROR(VLOOKUP(B300,'Paramètres (à masquer)'!$O$4:$P$2040,2,FALSE),\"\")","v":""}]
[282,null,{"$f":"IFERROR(VLOOKUP(B301,'Paramètres (à masquer)'!$O$4:$P$2040,2,FALSE),\"\")","v":""}]
[283,null,{"$f":"IFERROR(VLOOKUP(B302,'Paramètres (à masquer)'!$O$4:$P$2040,2,FALSE),\"\")","v":""}]
[284,null,{"$f":"IFERROR(VLOOKUP(B303,'Paramètres (à masquer)'!$O$4:$P$2040,2,FALSE),\"\")","v":""}]
[285,null,{"$f":"IFERROR(VLOOKUP(B304,'Paramètres (à masquer)'!$O$4:$P$2040,2,FALSE),\"\")","v":""}]
[286,null,{"$f":"IFERROR(VLOOKUP(B305,'Paramètres (à masquer)'!$O$4:$P$2040,2,FALSE),\"\")","v":""}]
[287,null,{"$f":"IFERROR(VLOOKUP(B306,'Paramètres (à masquer)'!$O$4:$P$2040,2,FALSE),\"\")","v":""}]
[288,null,{"$f":"IFERROR(VLOOKUP(B307,'Paramètres (à masquer)'!$O$4:$P$2040,2,FALSE),\"\")","v":""}]
[289,null,{"$f":"IFERROR(VLOOKUP(B308,'Paramètres (à masquer)'!$O$4:$P$2040,2,FALSE),\"\")","v":""}]
[290,null,{"$f":"IFERROR(VLOOKUP(B309,'Paramètres (à masquer)'!$O$4:$P$2040,2,FALSE),\"\")","v":""}]
[291,null,{"$f":"IFERROR(VLOOKUP(B310,'Paramètres (à masquer)'!$O$4:$P$2040,2,FALSE),\"\")","v":""}]
[292,null,{"$f":"IFERROR(VLOOKUP(B311,'Paramètres (à masquer)'!$O$4:$P$2040,2,FALSE),\"\")","v":""}]
[293,null,{"$f":"IFERROR(VLOOKUP(B312,'Paramètres (à masquer)'!$O$4:$P$2040,2,FALSE),\"\")","v":""}]
[294,null,{"$f":"IFERROR(VLOOKUP(B313,'Paramètres (à masquer)'!$O$4:$P$2040,2,FALSE),\"\")","v":""}]
[295,null,{"$f":"IFERROR(VLOOKUP(B314,'Paramètres (à masquer)'!$O$4:$P$2040,2,FALSE),\"\")","v":""}]
[296,null,{"$f":"IFERROR(VLOOKUP(B315,'Paramètres (à masquer)'!$O$4:$P$2040,2,FALSE),\"\")","v":""}]
[297,null,{"$f":"IFERROR(VLOOKUP(B316,'Paramètres (à masquer)'!$O$4:$P$2040,2,FALSE),\"\")","v":""}]
[298,null,{"$f":"IFERROR(VLOOKUP(B317,'Paramètres (à masquer)'!$O$4:$P$2040,2,FALSE),\"\")","v":""}]
[299,null,{"$f":"IFERROR(VLOOKUP(B318,'Paramètres (à masquer)'!$O$4:$P$2040,2,FALSE),\"\")","v":""}]
[300,null,{"$f":"IFERROR(VLOOKUP(B319,'Paramètres (à masquer)'!$O$4:$P$2040,2,FALSE),\"\")","v":""}]
[301,null,{"$f":"IFERROR(VLOOKUP(B320,'Paramètres (à masquer)'!$O$4:$P$2040,2,FALSE),\"\")","v":""}]
[302,null,{"$f":"IFERROR(VLOOKUP(B321,'Paramètres (à masquer)'!$O$4:$P$2040,2,FALSE),\"\")","v":""}]
[303,null,{"$f":"IFERROR(VLOOKUP(B322,'Paramètres (à masquer)'!$O$4:$P$2040,2,FALSE),\"\")","v":""}]
[304,null,{"$f":"IFERROR(VLOOKUP(B323,'Paramètres (à masquer)'!$O$4:$P$2040,2,FALSE),\"\")","v":""}]
[305,null,{"$f":"IFERROR(VLOOKUP(B324,'Paramètres (à masquer)'!$O$4:$P$2040,2,FALSE),\"\")","v":""}]
[306,null,{"$f":"IFERROR(VLOOKUP(B325,'Paramètres (à masquer)'!$O$4:$P$2040,2,FALSE),\"\")","v":""}]
[307,null,{"$f":"IFERROR(VLOOKUP(B326,'Paramètres (à masquer)'!$O$4:$P$2040,2,FALSE),\"\")","v":""}]
[308,null,{"$f":"IFERROR(VLOOKUP(B327,'Paramètres (à masquer)'!$O$4:$P$2040,2,FALSE),\"\")","v":""}]
[309,null,{"$f":"IFERROR(VLOOKUP(B328,'Paramètres (à masquer)'!$O$4:$P$2040,2,FALSE),\"\")","v":""}]
[310,null,{"$f":"IFERROR(VLOOKUP(B329,'Paramètres (à masquer)'!$O$4:$P$2040,2,FALSE),\"\")","v":""}]
[311,null,{"$f":"IFERROR(VLOOKUP(B330,'Paramètres (à masquer)'!$O$4:$P$2040,2,FALSE),\"\")","v":""}]
[312,null,{"$f":"IFERROR(VLOOKUP(B331,'Paramètres (à masquer)'!$O$4:$P$2040,2,FALSE),\"\")","v":""}]
[313,null,{"$f":"IFERROR(VLOOKUP(B332,'Paramètres (à masquer)'!$O$4:$P$2040,2,FALSE),\"\")","v":""}]
[314,null,{"$f":"IFERROR(VLOOKUP(B333,'Paramètres (à masquer)'!$O$4:$P$2040,2,FALSE),\"\")","v":""}]
[315,null,{"$f":"IFERROR(VLOOKUP(B334,'Paramètres (à masquer)'!$O$4:$P$2040,2,FALSE),\"\")","v":""}]
[316,null,{"$f":"IFERROR(VLOOKUP(B335,'Paramètres (à masquer)'!$O$4:$P$2040,2,FALSE),\"\")","v":""}]
[317,null,{"$f":"IFERROR(VLOOKUP(B336,'Paramètres (à masquer)'!$O$4:$P$2040,2,FALSE),\"\")","v":""}]
[318,null,{"$f":"IFERROR(VLOOKUP(B337,'Paramètres (à masquer)'!$O$4:$P$2040,2,FALSE),\"\")","v":""}]
[319,null,{"$f":"IFERROR(VLOOKUP(B338,'Paramètres (à masquer)'!$O$4:$P$2040,2,FALSE),\"\")","v":""}]
[320,null,{"$f":"IFERROR(VLOOKUP(B339,'Paramètres (à masquer)'!$O$4:$P$2040,2,FALSE),\"\")","v":""}]
[321,null,{"$f":"IFERROR(VLOOKUP(B340,'Paramètres (à masquer)'!$O$4:$P$2040,2,FALSE),\"\")","v":""}]
[322,null,{"$f":"IFERROR(VLOOKUP(B341,'Paramètres (à masquer)'!$O$4:$P$2040,2,FALSE),\"\")","v":""}]
[323,null,{"$f":"IFERROR(VLOOKUP(B342,'Paramètres (à masquer)'!$O$4:$P$2040,2,FALSE),\"\")","v":""}]
[324,null,{"$f":"IFERROR(VLOOKUP(B343,'Paramètres (à masquer)'!$O$4:$P$2040,2,FALSE),\"\")","v":""}]
[325,null,{"$f":"IFERROR(VLOOKUP(B344,'Paramètres (à masquer)'!$O$4:$P$2040,2,FALSE),\"\")","v":""}]
[326,null,{"$f":"IFERROR(VLOOKUP(B345,'Paramètres (à masquer)'!$O$4:$P$2040,2,FALSE),\"\")","v":""}]
[327,null,{"$f":"IFERROR(VLOOKUP(B346,'Paramètres (à masquer)'!$O$4:$P$2040,2,FALSE),\"\")","v":""}]
[328,null,{"$f":"IFERROR(VLOOKUP(B347,'Paramètres (à masquer)'!$O$4:$P$2040,2,FALSE),\"\")","v":""}]
[329,null,{"$f":"IFERROR(VLOOKUP(B348,'Paramètres (à masquer)'!$O$4:$P$2040,2,FALSE),\"\")","v":""}]
[330,null,{"$f":"IFERROR(VLOOKUP(B349,'Paramètres (à masquer)'!$O$4:$P$2040,2,FALSE),\"\")","v":""}]
[331,null,{"$f":"IFERROR(VLOOKUP(B350,'Paramètres (à masquer)'!$O$4:$P$2040,2,FALSE),\"\")","v":""}]
[332,null,{"$f":"IFERROR(VLOOKUP(B351,'Paramètres (à masquer)'!$O$4:$P$2040,2,FALSE),\"\")","v":""}]
[333,null,{"$f":"IFERROR(VLOOKUP(B352,'Paramètres (à masquer)'!$O$4:$P$2040,2,FALSE),\"\")","v":""}]
[334,null,{"$f":"IFERROR(VLOOKUP(B353,'Paramètres (à masquer)'!$O$4:$P$2040,2,FALSE),\"\")","v":""}]
[335,null,{"$f":"IFERROR(VLOOKUP(B354,'Paramètres (à masquer)'!$O$4:$P$2040,2,FALSE),\"\")","v":""}]
[336,null,{"$f":"IFERROR(VLOOKUP(B355,'Paramètres (à masquer)'!$O$4:$P$2040,2,FALSE),\"\")","v":""}]
[337,null,{"$f":"IFERROR(VLOOKUP(B356,'Paramètres (à masquer)'!$O$4:$P$2040,2,FALSE),\"\")","v":""}]
[338,null,{"$f":"IFERROR(VLOOKUP(B357,'Paramètres (à masquer)'!$O$4:$P$2040,2,FALSE),\"\")","v":""}]
[339,null,{"$f":"IFERROR(VLOOKUP(B358,'Paramètres (à masquer)'!$O$4:$P$2040,2,FALSE),\"\")","v":""}]
[340,null,{"$f":"IFERROR(VLOOKUP(B359,'Paramètres (à masquer)'!$O$4:$P$2040,2,FALSE),\"\")","v":""}]
[341,null,{"$f":"IFERROR(VLOOKUP(B360,'Paramètres (à masquer)'!$O$4:$P$2040,2,FALSE),\"\")","v":""}]
[342,null,{"$f":"IFERROR(VLOOKUP(B361,'Paramètres (à masquer)'!$O$4:$P$2040,2,FALSE),\"\")","v":""}]
[343,null,{"$f":"IFERROR(VLOOKUP(B362,'Paramètres (à masquer)'!$O$4:$P$2040,2,FALSE),\"\")","v":""}]
[344,null,{"$f":"IFERROR(VLOOKUP(B363,'Paramètres (à masquer)'!$O$4:$P$2040,2,FALSE),\"\")","v":""}]
[345,null,{"$f":"IFERROR(VLOOKUP(B364,'Paramètres (à masquer)'!$O$4:$P$2040,2,FALSE),\"\")","v":""}]
[346,null,{"$f":"IFERROR(VLOOKUP(B365,'Paramètres (à masquer)'!$O$4:$P$2040,2,FALSE),\"\")","v":""}]
[347,null,{"$f":"IFERROR(VLOOKUP(B366,'Paramètres (à masquer)'!$O$4:$P$2040,2,FALSE),\"\")","v":""}]
[348,null,{"$f":"IFERROR(VLOOKUP(B367,'Paramètres (à masquer)'!$O$4:$P$2040,2,FALSE),\"\")","v":""}]
[349,null,{"$f":"IFERROR(VLOOKUP(B368,'Paramètres (à masquer)'!$O$4:$P$2040,2,FALSE),\"\")","v":""}]
[350,null,{"$f":"IFERROR(VLOOKUP(B369,'Paramètres (à masquer)'!$O$4:$P$2040,2,FALSE),\"\")","v":""}]
[351,null,{"$f":"IFERROR(VLOOKUP(B370,'Paramètres (à masquer)'!$O$4:$P$2040,2,FALSE),\"\")","v":""}]
[352,null,{"$f":"IFERROR(VLOOKUP(B371,'Paramètres (à masquer)'!$O$4:$P$2040,2,FALSE),\"\")","v":""}]
[353,null,{"$f":"IFERROR(VLOOKUP(B372,'Paramètres (à masquer)'!$O$4:$P$2040,2,FALSE),\"\")","v":""}]
[354,null,{"$f":"IFERROR(VLOOKUP(B373,'Paramètres (à masquer)'!$O$4:$P$2040,2,FALSE),\"\")","v":""}]
[355,null,{"$f":"IFERROR(VLOOKUP(B374,'Paramètres (à masquer)'!$O$4:$P$2040,2,FALSE),\"\")","v":""}]
[356,null,{"$f":"IFERROR(VLOOKUP(B375,'Paramètres (à masquer)'!$O$4:$P$2040,2,FALSE),\"\")","v":""}]
[357,null,{"$f":"IFERROR(VLOOKUP(B376,'Paramètres (à masquer)'!$O$4:$P$2040,2,FALSE),\"\")","v":""}]
[358,null,{"$f":"IFERROR(VLOOKUP(B377,'Paramètres (à masquer)'!$O$4:$P$2040,2,FALSE),\"\")","v":""}]
[359,null,{"$f":"IFERROR(VLOOKUP(B378,'Paramètres (à masquer)'!$O$4:$P$2040,2,FALSE),\"\")","v":""}]
[360,null,{"$f":"IFERROR(VLOOKUP(B379,'Paramètres (à masquer)'!$O$4:$P$2040,2,FALSE),\"\")","v":""}]
[361,null,{"$f":"IFERROR(VLOOKUP(B380,'Paramètres (à masquer)'!$O$4:$P$2040,2,FALSE),\"\")","v":""}]
[362,null,{"$f":"IFERROR(VLOOKUP(B381,'Paramètres (à masquer)'!$O$4:$P$2040,2,FALSE),\"\")","v":""}]
[363,null,{"$f":"IFERROR(VLOOKUP(B382,'Paramètres (à masquer)'!$O$4:$P$2040,2,FALSE),\"\")","v":""}]
[364,null,{"$f":"IFERROR(VLOOKUP(B383,'Paramètres (à masquer)'!$O$4:$P$2040,2,FALSE),\"\")","v":""}]
[365,null,{"$f":"IFERROR(VLOOKUP(B384,'Paramètres (à masquer)'!$O$4:$P$2040,2,FALSE),\"\")","v":""}]
[366,null,{"$f":"IFERROR(VLOOKUP(B385,'Paramètres (à masquer)'!$O$4:$P$2040,2,FALSE),\"\")","v":""}]
[367,null,{"$f":"IFERROR(VLOOKUP(B386,'Paramètres (à masquer)'!$O$4:$P$2040,2,FALSE),\"\")","v":""}]
[368,null,{"$f":"IFERROR(VLOOKUP(B387,'Paramètres (à masquer)'!$O$4:$P$2040,2,FALSE),\"\")","v":""}]
[369,null,{"$f":"IFERROR(VLOOKUP(B388,'Paramètres (à masquer)'!$O$4:$P$2040,2,FALSE),\"\")","v":""}]
[370,null,{"$f":"IFERROR(VLOOKUP(B389,'Paramètres (à masquer)'!$O$4:$P$2040,2,FALSE),\"\")","v":""}]
[371,null,{"$f":"IFERROR(VLOOKUP(B390,'Paramètres (à masquer)'!$O$4:$P$2040,2,FALSE),\"\")","v":""}]
[372,null,{"$f":"IFERROR(VLOOKUP(B391,'Paramètres (à masquer)'!$O$4:$P$2040,2,FALSE),\"\")","v":""}]
[373,null,{"$f":"IFERROR(VLOOKUP(B392,'Paramètres (à masquer)'!$O$4:$P$2040,2,FALSE),\"\")","v":""}]
[374,null,{"$f":"IFERROR(VLOOKUP(B393,'Paramètres (à masquer)'!$O$4:$P$2040,2,FALSE),\"\")","v":""}]
[375,null,{"$f":"IFERROR(VLOOKUP(B394,'Paramètres (à masquer)'!$O$4:$P$2040,2,FALSE),\"\")","v":""}]
[376,null,{"$f":"IFERROR(VLOOKUP(B395,'Paramètres (à masquer)'!$O$4:$P$2040,2,FALSE),\"\")","v":""}]
[377,null,{"$f":"IFERROR(VLOOKUP(B396,'Paramètres (à masquer)'!$O$4:$P$2040,2,FALSE),\"\")","v":""}]
[378,null,{"$f":"IFERROR(VLOOKUP(B397,'Paramètres (à masquer)'!$O$4:$P$2040,2,FALSE),\"\")","v":""}]
[379,null,{"$f":"IFERROR(VLOOKUP(B398,'Paramètres (à masquer)'!$O$4:$P$2040,2,FALSE),\"\")","v":""}]
[380,null,{"$f":"IFERROR(VLOOKUP(B399,'Paramètres (à masquer)'!$O$4:$P$2040,2,FALSE),\"\")","v":""}]
[381,null,{"$f":"IFERROR(VLOOKUP(B400,'Paramètres (à masquer)'!$O$4:$P$2040,2,FALSE),\"\")","v":""}]
[382,null,{"$f":"IFERROR(VLOOKUP(B401,'Paramètres (à masquer)'!$O$4:$P$2040,2,FALSE),\"\")","v":""}]
[383,null,{"$f":"IFERROR(VLOOKUP(B402,'Paramètres (à masquer)'!$O$4:$P$2040,2,FALSE),\"\")","v":""}]
[384,null,{"$f":"IFERROR(VLOOKUP(B403,'Paramètres (à masquer)'!$O$4:$P$2040,2,FALSE),\"\")","v":""}]
[385,null,{"$f":"IFERROR(VLOOKUP(B404,'Paramètres (à masquer)'!$O$4:$P$2040,2,FALSE),\"\")","v":""}]
[386,null,{"$f":"IFERROR(VLOOKUP(B405,'Paramètres (à masquer)'!$O$4:$P$2040,2,FALSE),\"\")","v":""}]
[387,null,{"$f":"IFERROR(VLOOKUP(B406,'Paramètres (à masquer)'!$O$4:$P$2040,2,FALSE),\"\")","v":""}]
[388,null,{"$f":"IFERROR(VLOOKUP(B407,'Paramètres (à masquer)'!$O$4:$P$2040,2,FALSE),\"\")","v":""}]
[389,null,{"$f":"IFERROR(VLOOKUP(B408,'Paramètres (à masquer)'!$O$4:$P$2040,2,FALSE),\"\")","v":""}]
[390,null,{"$f":"IFERROR(VLOOKUP(B409,'Paramètres (à masquer)'!$O$4:$P$2040,2,FALSE),\"\")","v":""}]
[391,null,{"$f":"IFERROR(VLOOKUP(B410,'Paramètres (à masquer)'!$O$4:$P$2040,2,FALSE),\"\")","v":""}]
[392,null,{"$f":"IFERROR(VLOOKUP(B411,'Paramètres (à masquer)'!$O$4:$P$2040,2,FALSE),\"\")","v":""}]
[393,null,{"$f":"IFERROR(VLOOKUP(B412,'Paramètres (à masquer)'!$O$4:$P$2040,2,FALSE),\"\")","v":""}]
[394,null,{"$f":"IFERROR(VLOOKUP(B413,'Paramètres (à masquer)'!$O$4:$P$2040,2,FALSE),\"\")","v":""}]
[395,null,{"$f":"IFERROR(VLOOKUP(B414,'Paramètres (à masquer)'!$O$4:$P$2040,2,FALSE),\"\")","v":""}]
[396,null,{"$f":"IFERROR(VLOOKUP(B415,'Paramètres (à masquer)'!$O$4:$P$2040,2,FALSE),\"\")","v":""}]
[397,null,{"$f":"IFERROR(VLOOKUP(B416,'Paramètres (à masquer)'!$O$4:$P$2040,2,FALSE),\"\")","v":""}]
[398,null,{"$f":"IFERROR(VLOOKUP(B417,'Paramètres (à masquer)'!$O$4:$P$2040,2,FALSE),\"\")","v":""}]
[399,null,{"$f":"IFERROR(VLOOKUP(B418,'Paramètres (à masquer)'!$O$4:$P$2040,2,FALSE),\"\")","v":""}]
[400,null,{"$f":"IFERROR(VLOOKUP(B419,'Paramètres (à masquer)'!$O$4:$P$2040,2,FALSE),\"\")","v":""}]
[401,null,{"$f":"IFERROR(VLOOKUP(B420,'Paramètres (à masquer)'!$O$4:$P$2040,2,FALSE),\"\")","v":""}]
[402,null,{"$f":"IFERROR(VLOOKUP(B421,'Paramètres (à masquer)'!$O$4:$P$2040,2,FALSE),\"\")","v":""}]
[403,null,{"$f":"IFERROR(VLOOKUP(B422,'Paramètres (à masquer)'!$O$4:$P$2040,2,FALSE),\"\")","v":""}]
[404,null,{"$f":"IFERROR(VLOOKUP(B423,'Paramètres (à masquer)'!$O$4:$P$2040,2,FALSE),\"\")","v":""}]
[405,null,{"$f":"IFERROR(VLOOKUP(B424,'Paramètres (à masquer)'!$O$4:$P$2040,2,FALSE),\"\")","v":""}]
[406,null,{"$f":"IFERROR(VLOOKUP(B425,'Paramètres (à masquer)'!$O$4:$P$2040,2,FALSE),\"\")","v":""}]
[407,null,{"$f":"IFERROR(VLOOKUP(B426,'Paramètres (à masquer)'!$O$4:$P$2040,2,FALSE),\"\")","v":""}]
[408,null,{"$f":"IFERROR(VLOOKUP(B427,'Paramètres (à masquer)'!$O$4:$P$2040,2,FALSE),\"\")","v":""}]
[409,null,{"$f":"IFERROR(VLOOKUP(B428,'Paramètres (à masquer)'!$O$4:$P$2040,2,FALSE),\"\")","v":""}]
[410,null,{"$f":"IFERROR(VLOOKUP(B429,'Paramètres (à masquer)'!$O$4:$P$2040,2,FALSE),\"\")","v":""}]
[411,null,{"$f":"IFERROR(VLOOKUP(B430,'Paramètres (à masquer)'!$O$4:$P$2040,2,FALSE),\"\")","v":""}]
[412,null,{"$f":"IFERROR(VLOOKUP(B431,'Paramètres (à masquer)'!$O$4:$P$2040,2,FALSE),\"\")","v":""}]
[413,null,{"$f":"IFERROR(VLOOKUP(B432,'Paramètres (à masquer)'!$O$4:$P$2040,2,FALSE),\"\")","v":""}]
[414,null,{"$f":"IFERROR(VLOOKUP(B433,'Paramètres (à masquer)'!$O$4:$P$2040,2,FALSE),\"\")","v":""}]
[415,null,{"$f":"IFERROR(VLOOKUP(B434,'Paramètres (à masquer)'!$O$4:$P$2040,2,FALSE),\"\")","v":""}]
[416,null,{"$f":"IFERROR(VLOOKUP(B435,'Paramètres (à masquer)'!$O$4:$P$2040,2,FALSE),\"\")","v":""}]
[417,null,{"$f":"IFERROR(VLOOKUP(B436,'Paramètres (à masquer)'!$O$4:$P$2040,2,FALSE),\"\")","v":""}]
[418,null,{"$f":"IFERROR(VLOOKUP(B437,'Paramètres (à masquer)'!$O$4:$P$2040,2,FALSE),\"\")","v":""}]
[419,null,{"$f":"IFERROR(VLOOKUP(B438,'Paramètres (à masquer)'!$O$4:$P$2040,2,FALSE),\"\")","v":""}]
[420,null,{"$f":"IFERROR(VLOOKUP(B439,'Paramètres (à masquer)'!$O$4:$P$2040,2,FALSE),\"\")","v":""}]
[421,null,{"$f":"IFERROR(VLOOKUP(B440,'Paramètres (à masquer)'!$O$4:$P$2040,2,FALSE),\"\")","v":""}]
[422,null,{"$f":"IFERROR(VLOOKUP(B441,'Paramètres (à masquer)'!$O$4:$P$2040,2,FALSE),\"\")","v":""}]
[423,null,{"$f":"IFERROR(VLOOKUP(B442,'Paramètres (à masquer)'!$O$4:$P$2040,2,FALSE),\"\")","v":""}]
[424,null,{"$f":"IFERROR(VLOOKUP(B443,'Paramètres (à masquer)'!$O$4:$P$2040,2,FALSE),\"\")","v":""}]
[425,null,{"$f":"IFERROR(VLOOKUP(B444,'Paramètres (à masquer)'!$O$4:$P$2040,2,FALSE),\"\")","v":""}]
[426,null,{"$f":"IFERROR(VLOOKUP(B445,'Paramètres (à masquer)'!$O$4:$P$2040,2,FALSE),\"\")","v":""}]
[427,null,{"$f":"IFERROR(VLOOKUP(B446,'Paramètres (à masquer)'!$O$4:$P$2040,2,FALSE),\"\")","v":""}]
[428,null,{"$f":"IFERROR(VLOOKUP(B447,'Paramètres (à masquer)'!$O$4:$P$2040,2,FALSE),\"\")","v":""}]
[429,null,{"$f":"IFERROR(VLOOKUP(B448,'Paramètres (à masquer)'!$O$4:$P$2040,2,FALSE),\"\")","v":""}]
[430,null,{"$f":"IFERROR(VLOOKUP(B449,'Paramètres (à masquer)'!$O$4:$P$2040,2,FALSE),\"\")","v":""}]
[431,null,{"$f":"IFERROR(VLOOKUP(B450,'Paramètres (à masquer)'!$O$4:$P$2040,2,FALSE),\"\")","v":""}]
[432,null,{"$f":"IFERROR(VLOOKUP(B451,'Paramètres (à masquer)'!$O$4:$P$2040,2,FALSE),\"\")","v":""}]
[433,null,{"$f":"IFERROR(VLOOKUP(B452,'Paramètres (à masquer)'!$O$4:$P$2040,2,FALSE),\"\")","v":""}]
[434,null,{"$f":"IFERROR(VLOOKUP(B453,'Paramètres (à masquer)'!$O$4:$P$2040,2,FALSE),\"\")","v":""}]
[435,null,{"$f":"IFERROR(VLOOKUP(B454,'Paramètres (à masquer)'!$O$4:$P$2040,2,FALSE),\"\")","v":""}]
[436,null,{"$f":"IFERROR(VLOOKUP(B455,'Paramètres (à masquer)'!$O$4:$P$2040,2,FALSE),\"\")","v":""}]
[437,null,{"$f":"IFERROR(VLOOKUP(B456,'Paramètres (à masquer)'!$O$4:$P$2040,2,FALSE),\"\")","v":""}]
[438,null,{"$f":"IFERROR(VLOOKUP(B457,'Paramètres (à masquer)'!$O$4:$P$2040,2,FALSE),\"\")","v":""}]
[439,null,{"$f":"IFERROR(VLOOKUP(B458,'Paramètres (à masquer)'!$O$4:$P$2040,2,FALSE),\"\")","v":""}]
[440,null,{"$f":"IFERROR(VLOOKUP(B459,'Paramètres (à masquer)'!$O$4:$P$2040,2,FALSE),\"\")","v":""}]
[441,null,{"$f":"IFERROR(VLOOKUP(B460,'Paramètres (à masquer)'!$O$4:$P$2040,2,FALSE),\"\")","v":""}]
[442,null,{"$f":"IFERROR(VLOOKUP(B461,'Paramètres (à masquer)'!$O$4:$P$2040,2,FALSE),\"\")","v":""}]
[443,null,{"$f":"IFERROR(VLOOKUP(B462,'Paramètres (à masquer)'!$O$4:$P$2040,2,FALSE),\"\")","v":""}]
[444,null,{"$f":"IFERROR(VLOOKUP(B463,'Paramètres (à masquer)'!$O$4:$P$2040,2,FALSE),\"\")","v":""}]
[445,null,{"$f":"IFERROR(VLOOKUP(B464,'Paramètres (à masquer)'!$O$4:$P$2040,2,FALSE),\"\")","v":""}]
[446,null,{"$f":"IFERROR(VLOOKUP(B465,'Paramètres (à masquer)'!$O$4:$P$2040,2,FALSE),\"\")","v":""}]
[447,null,{"$f":"IFERROR(VLOOKUP(B466,'Paramètres (à masquer)'!$O$4:$P$2040,2,FALSE),\"\")","v":""}]
[448,null,{"$f":"IFERROR(VLOOKUP(B467,'Paramètres (à masquer)'!$O$4:$P$2040,2,FALSE),\"\")","v":""}]
[449,null,{"$f":"IFERROR(VLOOKUP(B468,'Paramètres (à masquer)'!$O$4:$P$2040,2,FALSE),\"\")","v":""}]
[450,null,{"$f":"IFERROR(VLOOKUP(B469,'Paramètres (à masquer)'!$O$4:$P$2040,2,FALSE),\"\")","v":""}]
[451,null,{"$f":"IFERROR(VLOOKUP(B470,'Paramètres (à masquer)'!$O$4:$P$2040,2,FALSE),\"\")","v":""}]
[452,null,{"$f":"IFERROR(VLOOKUP(B471,'Paramètres (à masquer)'!$O$4:$P$2040,2,FALSE),\"\")","v":""}]
[453,null,{"$f":"IFERROR(VLOOKUP(B472,'Paramètres (à masquer)'!$O$4:$P$2040,2,FALSE),\"\")","v":""}]
[454,null,{"$f":"IFERROR(VLOOKUP(B473,'Paramètres (à masquer)'!$O$4:$P$2040,2,FALSE),\"\")","v":""}]
[455,null,{"$f":"IFERROR(VLOOKUP(B474,'Paramètres (à masquer)'!$O$4:$P$2040,2,FALSE),\"\")","v":""}]
[456,null,{"$f":"IFERROR(VLOOKUP(B475,'Paramètres (à masquer)'!$O$4:$P$2040,2,FALSE),\"\")","v":""}]
[457,null,{"$f":"IFERROR(VLOOKUP(B476,'Paramètres (à masquer)'!$O$4:$P$2040,2,FALSE),\"\")","v":""}]
[458,null,{"$f":"IFERROR(VLOOKUP(B477,'Paramètres (à masquer)'!$O$4:$P$2040,2,FALSE),\"\")","v":""}]
[459,null,{"$f":"IFERROR(VLOOKUP(B478,'Paramètres (à masquer)'!$O$4:$P$2040,2,FALSE),\"\")","v":""}]
[460,null,{"$f":"IFERROR(VLOOKUP(B479,'Paramètres (à masquer)'!$O$4:$P$2040,2,FALSE),\"\")","v":""}]
[461,null,{"$f":"IFERROR(VLOOKUP(B480,'Paramètres (à masquer)'!$O$4:$P$2040,2,FALSE),\"\")","v":""}]
[462,null,{"$f":"IFERROR(VLOOKUP(B481,'Paramètres (à masquer)'!$O$4:$P$2040,2,FALSE),\"\")","v":""}]
[463,null,{"$f":"IFERROR(VLOOKUP(B482,'Paramètres (à masquer)'!$O$4:$P$2040,2,FALSE),\"\")","v":""}]
[464,null,{"$f":"IFERROR(VLOOKUP(B483,'Paramètres (à masquer)'!$O$4:$P$2040,2,FALSE),\"\")","v":""}]
[465,null,{"$f":"IFERROR(VLOOKUP(B484,'Paramètres (à masquer)'!$O$4:$P$2040,2,FALSE),\"\")","v":""}]
[466,null,{"$f":"IFERROR(VLOOKUP(B485,'Paramètres (à masquer)'!$O$4:$P$2040,2,FALSE),\"\")","v":""}]
[467,null,{"$f":"IFERROR(VLOOKUP(B486,'Paramètres (à masquer)'!$O$4:$P$2040,2,FALSE),\"\")","v":""}]
[468,null,{"$f":"IFERROR(VLOOKUP(B487,'Paramètres (à masquer)'!$O$4:$P$2040,2,FALSE),\"\")","v":""}]
[469,null,{"$f":"IFERROR(VLOOKUP(B488,'Paramètres (à masquer)'!$O$4:$P$2040,2,FALSE),\"\")","v":""}]
[470,null,{"$f":"IFERROR(VLOOKUP(B489,'Paramètres (à masquer)'!$O$4:$P$2040,2,FALSE),\"\")","v":""}]
[471,null,{"$f":"IFERROR(VLOOKUP(B490,'Paramètres (à masquer)'!$O$4:$P$2040,2,FALSE),\"\")","v":""}]
[472,null,{"$f":"IFERROR(VLOOKUP(B491,'Paramètres (à masquer)'!$O$4:$P$2040,2,FALSE),\"\")","v":""}]
[473,null,{"$f":"IFERROR(VLOOKUP(B492,'Paramètres (à masquer)'!$O$4:$P$2040,2,FALSE),\"\")","v":""}]
[474,null,{"$f":"IFERROR(VLOOKUP(B493,'Paramètres (à masquer)'!$O$4:$P$2040,2,FALSE),\"\")","v":""}]
[475,null,{"$f":"IFERROR(VLOOKUP(B494,'Paramètres (à masquer)'!$O$4:$P$2040,2,FALSE),\"\")","v":""}]
[476,null,{"$f":"IFERROR(VLOOKUP(B495,'Paramètres (à masquer)'!$O$4:$P$2040,2,FALSE),\"\")","v":""}]
[477,null,{"$f":"IFERROR(VLOOKUP(B496,'Paramètres (à masquer)'!$O$4:$P$2040,2,FALSE),\"\")","v":""}]
[478,null,{"$f":"IFERROR(VLOOKUP(B497,'Paramètres (à masquer)'!$O$4:$P$2040,2,FALSE),\"\")","v":""}]
[479,null,{"$f":"IFERROR(VLOOKUP(B498,'Paramètres (à masquer)'!$O$4:$P$2040,2,FALSE),\"\")","v":""}]
[480,null,{"$f":"IFERROR(VLOOKUP(B499,'Paramètres (à masquer)'!$O$4:$P$2040,2,FALSE),\"\")","v":""}]
[481,null,{"$f":"IFERROR(VLOOKUP(B500,'Paramètres (à masquer)'!$O$4:$P$2040,2,FALSE),\"\")","v":""}]
[482,null,{"$f":"IFERROR(VLOOKUP(B501,'Paramètres (à masquer)'!$O$4:$P$2040,2,FALSE),\"\")","v":""}]
[483,null,{"$f":"IFERROR(VLOOKUP(B502,'Paramètres (à masquer)'!$O$4:$P$2040,2,FALSE),\"\")","v":""}]
[484,null,{"$f":"IFERROR(VLOOKUP(B503,'Paramètres (à masquer)'!$O$4:$P$2040,2,FALSE),\"\")","v":""}]
[485,null,{"$f":"IFERROR(VLOOKUP(B504,'Paramètres (à masquer)'!$O$4:$P$2040,2,FALSE),\"\")","v":""}]
[486,null,{"$f":"IFERROR(VLOOKUP(B505,'Paramètres (à masquer)'!$O$4:$P$2040,2,FALSE),\"\")","v":""}]
[487,null,{"$f":"IFERROR(VLOOKUP(B506,'Paramètres (à masquer)'!$O$4:$P$2040,2,FALSE),\"\")","v":""}]
[488,null,{"$f":"IFERROR(VLOOKUP(B507,'Paramètres (à masquer)'!$O$4:$P$2040,2,FALSE),\"\")","v":""}]
[489,null,{"$f":"IFERROR(VLOOKUP(B508,'Paramètres (à masquer)'!$O$4:$P$2040,2,FALSE),\"\")","v":""}]
[490,null,{"$f":"IFERROR(VLOOKUP(B509,'Paramètres (à masquer)'!$O$4:$P$2040,2,FALSE),\"\")","v":""}]
[491,null,{"$f":"IFERROR(VLOOKUP(B510,'Paramètres (à masquer)'!$O$4:$P$2040,2,FALSE),\"\")","v":""}]
[492,null,{"$f":"IFERROR(VLOOKUP(B511,'Paramètres (à masquer)'!$O$4:$P$2040,2,FALSE),\"\")","v":""}]
[493,null,{"$f":"IFERROR(VLOOKUP(B512,'Paramètres (à masquer)'!$O$4:$P$2040,2,FALSE),\"\")","v":""}]
[494,null,{"$f":"IFERROR(VLOOKUP(B513,'Paramètres (à masquer)'!$O$4:$P$2040,2,FALSE),\"\")","v":""}]
[495,null,{"$f":"IFERROR(VLOOKUP(B514,'Paramètres (à masquer)'!$O$4:$P$2040,2,FALSE),\"\")","v":""}]
[496,null,{"$f":"IFERROR(VLOOKUP(B515,'Paramètres (à masquer)'!$O$4:$P$2040,2,FALSE),\"\")","v":""}]
[497,null,{"$f":"IFERROR(VLOOKUP(B516,'Paramètres (à masquer)'!$O$4:$P$2040,2,FALSE),\"\")","v":""}]
[498,null,{"$f":"IFERROR(VLOOKUP(B517,'Paramètres (à masquer)'!$O$4:$P$2040,2,FALSE),\"\")","v":""}]
[499,null,{"$f":"IFERROR(VLOOKUP(B518,'Paramètres (à masquer)'!$O$4:$P$2040,2,FALSE),\"\")","v":""}]
[500,null,{"$f":"IFERROR(VLOOKUP(B519,'Paramètres (à masquer)'!$O$4:$P$2040,2,FALSE),\"\")","v":""}]

{"sheet":"Liste des DT-EIC-SITES","index":3,"n_rows":2042,"n_cols":5,"rows_kept":2042,"cut":false,"hidden":false,"merged":[[1,1,2,4]]}
[]
[null,"Liste des sites au 06/05/2025"]
[]
[]
[null,"Direction territoriale","Région SNCF (EIC)","Nom du site","Actif"]
[null,"AURA","EIC Alpes","Aiguebelle","OUI"]
[null,"AURA","EIC Alpes","Aime-La Plagne","OUI"]
[null,"AURA","EIC Alpes","Aix-les-Bains-Le Revard","OUI"]
[null,"AURA","EIC Alpes","Albens","OUI"]
[null,"AURA","EIC Alpes","Albertville","OUI"]
[null,"AURA","EIC Alpes","Ambérieu","OUI"]
[null,"AURA","EIC Alpes","Ambronay-Priay","OUI"]
[null,"AURA","EIC Alpes","Anglefort","OUI"]
[null,"AURA","EIC Alpes","Annecy","OUI"]
[null,"AURA","EIC Alpes","Annemasse","OUI"]
[null,"AURA","EIC Alpes","Argentière","OUI"]
[null,"AURA","EIC Alpes","Bellegarde","OUI"]
[null,"AURA","EIC Alpes","Bloye","OUI"]
[null,"AURA","EIC Alpes","Bonneville","OUI"]
[null,"AURA","EIC Alpes","Bons-en-Chablais","OUI"]
[null,"AURA","EIC Alpes","Bossey-Veyrier","OUI"]
[null,"AURA","EIC Alpes","Bourg-en-Bresse","OUI"]
[null,"AURA","EIC Alpes","Bourg-St-Maurice","OUI"]
[null,"AURA","EIC Alpes","Brens-Virignin","OUI"]
[null,"AURA","EIC Alpes","Cevins","OUI"]
[null,"AURA","EIC Alpes","Chambéry-Challes-les-Eaux","OUI"]
[null,"AURA","EIC Alpes","Charix-Lalleyriat","OUI"]
[null,"AURA","EIC Alpes","Chedde","OUI"]
[null,"AURA","EIC Alpes","Clelles-Mens","OUI"]
[null,"AURA","EIC Alpes","Cluses","OUI"]
[null,"AURA","EIC Alpes","Culoz","OUI"]
[null,"AURA","EIC Alpes","Épierre-St-Léger","OUI"]
[null,"AURA","EIC Alpes","Évian-les-Bains","OUI"]
[null,"AURA","EIC Alpes","Évires","OUI"]
[null,"AURA","EIC Alpes","Fort-l'Écluse-Collonges","OUI"]
[null,"AURA","EIC Alpes","Frontenex","OUI"]
[null,"AURA","EIC Alpes","Grenoble","OUI"]
[null,"AURA","EIC Alpes","Grenoble-Université-Gières","OUI"]
[null,"AURA","EIC Alpes","Grésy-sur-Aix","NON"]
[null,"AURA","EIC Alpes","Grésy-sur-Isère","OUI"]
[null,"AURA","EIC Alpes","Groisy-Thorens-la-Caille","OUI"]
[null,"AURA","EIC Alpes","ITE 526,5","OUI"]
[null,"AURA","EIC Alpes","ITE N°1","OUI"]
[null,"AURA","EIC Alpes","Jarrie-Vizille","OUI"]
[null,"AURA","EIC Alpes","La Bâthie","OUI"]
[null,"AURA","EIC Alpes","La Roche-sur-Foron","OUI"]
[null,"AURA","EIC Alpes","Lagnieu","OUI"]
[null,"AURA","EIC Alpes","Le Cheylas-La Buissière","OUI"]
[null,"AURA","EIC Alpes","Les Houches","OUI"]
[null,"AURA","EIC Alpes","Leyment","OUI"]
[null,"AURA","EIC Alpes","Longeray-Léaz","OUI"]
[null,"AURA","EIC Alpes","Lus-la-Croix-Haute","OUI"]
[null,"AURA","EIC Alpes","Magland","OUI"]
[null,"AURA","EIC Alpes","Marcellaz-Hauteville","OUI"]
[null,"AURA","EIC Alpes","Marignier","OUI"]
[null,"AURA","EIC Alpes","Modane","OUI"]
[null,"AURA","EIC Alpes","Monestier-de-Clermont","OUI"]
[null,"AURA","EIC Alpes","Montmélian","OUI"]
[null,"AURA","EIC Alpes","Moûtiers-Salins-Brides-les-Bains","OUI"]
[null,"AURA","EIC Alpes","Notre-Dame-de-Briançon","OUI"]
[null,"AURA","EIC Alpes","Nurieux","OUI"]
[null,"AURA","EIC Alpes","Oyonnax","OUI"]
[null,"AURA","EIC Alpes","Perrignier","OUI"]
[null,"AURA","EIC Alpes","Petit-Coeur-La Léchère-les-Bains","OUI"]
[null,"AURA","EIC Alpes","Pontcharra-sur-Breda-Allevard","OUI"]
[null,"AURA","EIC Alpes","Pont-de-Beauvoisin","OUI"]
[null,"AURA","EIC Alpes","Pont-de-Claix","OUI"]
[null,"AURA","EIC Alpes","Pont-de-Veyle","OUI"]
[null,"AURA","EIC Alpes","Publier","OUI"]
[null,"AURA","EIC Alpes","Rives","OUI"]
[null,"AURA","EIC Alpes","Romans-Bourg-de-Péage","OUI"]
[null,"AURA","EIC Alpes","Rumilly","OUI"]
[null,"AURA","EIC Alpes","Saint-Jean-de-Maurienne","OUI"]
[null,"AURA","EIC Alpes","Sallanches-Combloux-Megève","OUI"]
[null,"AURA","EIC Alpes","Servoz","OUI"]
[null,"AURA","EIC Alpes","Seyssel-Corbonod","OUI"]
[null,"AURA","EIC Alpes","Société Caves BERTRAND","NON"]
[null,"AURA","EIC Alpes","St-André-le-Gaz","OUI"]
[null,"AURA","EIC Alpes","St-Avre-la-Chambre","OUI"]
[null,"AURA","EIC Alpes","St-Béron-La Bridoire","OUI"]
[null,"AURA","EIC Alpes","St-Égrève-St-Robert","OUI"]
[null,"AURA","EIC Alpes","St-Gervais-Châteauneuf","OUI"]
[null,"AURA","EIC Alpes","St-Gervais-les-Bains-Le Fayet","OUI"]
[null,"AURA","EIC Alpes","St-Julien-en-Genevois","OUI"]
[null,"AURA","EIC Alpes","St-Julien-Montricher","OUI"]
[null,"AURA","EIC Alpes","St-Marcellin","OUI"]
[null,"AURA","EIC Alpes","St-Martin-Bellevue","OUI"]
[null,"AURA","EIC Alpes","St-Michel-Valloire","OUI"]
[null,"AURA","EIC Alpes","St-Pierre-d'Albigny","OUI"]
[null,"AURA","EIC Alpes","Tenay-Hauteville","OUI"]
[null,"AURA","EIC Alpes","Thonon-les-Bains","OUI"]
[null,"AURA","EIC Alpes","Tullins-Fures","OUI"]
[null,"AURA","EIC Alpes","Ugine","OUI"]
[null,"AURA","EIC Alpes","Valleiry","OUI"]
[null,"AURA","EIC Alpes","Vallorcine","OUI"]
[null,"AURA","EIC Alpes","Vaux-en-Bugey","OUI"]
[null,"AURA","EIC Alpes","Vif","OUI"]
[null,"AURA","EIC Alpes","Villereversure","OUI"]
[null,"AURA","EIC Alpes","Virieu-le-Grand-Belley","OUI"]
[null,"AURA","EIC Alpes","Viry","OUI"]
[null,"AURA","EIC Alpes","Vonnas","OUI"]
[null,"AURA","EIC Alpes","Voreppe","OUI"]
[null,"AURA","EIC Auvergne Nivernais","Alleyras","OUI"]
[null,"AURA","EIC Auvergne Nivernais","Archignat","OUI"]
[null,"AURA","EIC Auvergne Nivernais","Arvant","OUI"]
[null,"AURA","EIC Auvergne Nivernais","Aulnat-Aéroport","OUI"]
[null,"AURA","EIC Auvergne Nivernais","Aurec","OUI"]
[null,"AURA","EIC Auvergne Nivernais","Aurillac","OUI"]
[null,"AURA","EIC Auvergne Nivernais","Barberier-Brout-Vernet","OUI"]
[null,"AURA","EIC Auvergne Nivernais","Bas-Monistrol","OUI"]
[null,"AURA","EIC Auvergne Nivernais","Bayet","OUI"]
[null,"AURA","EIC Auvergne Nivernais","Bellenaves","OUI"]
[null,"AURA","EIC Auvergne Nivernais","Bourg-Lastic-Messeix","OUI"]
[null,"AURA","EIC Auvergne Nivernais","Brioude","OUI"]
[null,"AURA","EIC Auvergne Nivernais","Chapeauroux","OUI"]
[null,"AURA","EIC Auvergne Nivernais","Charbonnières-les-Varennes","OUI"]
[null,"AURA","EIC Auvergne Nivernais","Chavenon","OUI"]
[null,"AURA","EIC Auvergne Nivernais","Clermont-Ferrand","OUI"]
[null,"AURA","EIC Auvergne Nivernais","Clermont-les-Gravanches","NON"]
[null,"AURA","EIC Auvergne Nivernais","Clermont-Les-Gravanches-Triage","OUI"]
[null,"AURA","EIC Auvergne Nivernais","Commentry","OUI"]
[null,"AURA","EIC Auvergne Nivernais","Cusset","OUI"]
[null,"AURA","EIC Auvergne Nivernais","Darsac","OUI"]
[null,"AURA","EIC Auvergne Nivernais","Dompierre-Sept-Fons","OUI"]
[null,"AURA","EIC Auvergne Nivernais","Doyet-la-Presle","OUI"]
[null,"AURA","EIC Auvergne Nivernais","Dunières","OUI"]
[null,"AURA","EIC Auvergne Nivernais","Ennezat-Clerlande","OUI"]
[null,"AURA","EIC Auvergne Nivernais","Gannat","OUI"]
[null,"AURA","EIC Auvergne Nivernais","Gerzat","OUI"]
[null,"AURA","EIC Auvergne Nivernais","Huriel","OUI"]
[null,"AURA","EIC Auvergne Nivernais","Issoire","OUI"]
[null,"AURA","EIC Auvergne Nivernais","La Bourboule","OUI"]
[null,"AURA","EIC Auvergne Nivernais","La Ferté-Hauterive","OUI"]
[null,"AURA","EIC Auvergne Nivernais","La Miouze-Rochefort","OUI"]
[null,"AURA","EIC Auvergne Nivernais","Lamativie","OUI"]
[null,"AURA","EIC Auvergne Nivernais","Langeac","OUI"]
[null,"AURA","EIC Auvergne Nivernais","Lapalisse-St-Prix","OUI"]
[null,"AURA","EIC Auvergne Nivernais","Lapeyrouse","OUI"]
[null,"AURA","EIC Auvergne Nivernais","Laqueuille","OUI"]
[null,"AURA","EIC Auvergne Nivernais","Laroquebrou","OUI"]
[null,"AURA","EIC Auvergne Nivernais","Le Lioran","OUI"]
[null,"AURA","EIC Auvergne Nivernais","Le Puy-en-Velay","OUI"]
[null,"AURA","EIC Auvergne Nivernais","Lempdes (Haute-Loire)","OUI"]
[null,"AURA","EIC Auvergne Nivernais","Les Ancizes-St-Georges","OUI"]
[null,"AURA","EIC Auvergne Nivernais","Lezoux","OUI"]
[null,"AURA","EIC Auvergne Nivernais","Loubaresse","OUI"]
[null,"AURA","EIC Auvergne Nivernais","Manthes-Lapeyrouse","OUI"]
[null,"AURA","EIC Auvergne Nivernais","Massiac","OUI"]
[null,"AURA","EIC Auvergne Nivernais","Maurs","OUI"]
[null,"AURA","EIC Auvergne Nivernais","Monistrol-d'Allier","OUI"]
[null,"AURA","EIC Auvergne Nivernais","Mont-Dore","OUI"]
[null,"AURA","EIC Auvergne Nivernais","Montluçon-Eau","OUI"]
[null,"AURA","EIC Auvergne Nivernais","Montluçon-Ville","OUI"]
[null,"AURA","EIC Auvergne Nivernais","Moulins-sur-Allier","OUI"]
[null,"AURA","EIC Auvergne Nivernais","Murat","OUI"]
[null,"AURA","EIC Auvergne Nivernais","Neussargues","OUI"]
[null,"AURA","EIC Auvergne Nivernais","Pont-de-Dore","OUI"]
[null,"AURA","EIC Auvergne Nivernais","Pont-du-Château","OUI"]
[null,"AURA","EIC Auvergne Nivernais","Pontmort","OUI"]
[null,"AURA","EIC Auvergne Nivernais","Puy-Guillaume","OUI"]
[null,"AURA","EIC Auvergne Nivernais","Randan","OUI"]
[null,"AURA","EIC Auvergne Nivernais","Retournac","OUI"]
[null,"AURA","EIC Auvergne Nivernais","Riom-Châtel-Guyon","OUI"]
[null,"AURA","EIC Auvergne Nivernais","Sarliève-Cournon","OUI"]
[null,"AURA","EIC Auvergne Nivernais","St-Éloy","OUI"]
[null,"AURA","EIC Auvergne Nivernais","St-Flour-Chaudes-Aigues","OUI"]
[null,"AURA","EIC Auvergne Nivernais","St-Georges-d'Aurac","OUI"]
[null,"AURA","EIC Auvergne Nivernais","St-Germain-des-Fossés","OUI"]
[null,"AURA","EIC Auvergne Nivernais","St-Ours-les-Roches","OUI"]
[null,"AURA","EIC Auvergne Nivernais","St-Pourçain-sur-Sioule","OUI"]
[null,"AURA","EIC Auvergne Nivernais","St-Yorre","OUI"]
[null,"AURA","EIC Auvergne Nivernais","Thiers","OUI"]
[null,"AURA","EIC Auvergne Nivernais","Vallon","OUI"]
[null,"AURA","EIC Auvergne Nivernais","Vertaizon","OUI"]
[null,"AURA","EIC Auvergne Nivernais","Vichy","OUI"]
[null,"AURA","EIC Auvergne Nivernais","Vic-le-Comte","OUI"]
[null,"AURA","EIC Auvergne Nivernais","Vic-sur-Cère","OUI"]
[null,"AURA","EIC Auvergne Nivernais","Viescamp-sous-Jalles","OUI"]
[null,"AURA","EIC Auvergne Nivernais","Volvic","OUI"]
[null,"AURA","EIC Auvergne Nivernais","Vorey","OUI"]
[null,"AURA","EIC Rhône Alpes Lyon","Alixan-Châteauneuf-d'Isère","OUI"]
[null,"AURA","EIC Rhône Alpes Lyon","ALLAN LGV","OUI"]
[null,"AURA","EIC Rhône Alpes Lyon","Amplepuis","OUI"]
[null,"AURA","EIC Rhône Alpes Lyon","Badan","OUI"]
[null,"AURA","EIC Rhône Alpes Lyon","Balbigny","OUI"]
[null,"AURA","EIC Rhône Alpes Lyon","Beaurepaire","OUI"]
[null,"AURA","EIC Rhône Alpes Lyon","Beaurières","NON"]
[null,"AURA","EIC Rhône Alpes Lyon","Belleville-sur-Saône","OUI"]
[null,"AURA","EIC Rhône Alpes Lyon","Boën","OUI"]
[null,"AURA","EIC Rhône Alpes Lyon","BONLIEU LGV","OUI"]
[null,"AURA","EIC Rhône Alpes Lyon","Bonson","OUI"]
[null,"AURA","EIC Rhône Alpes Lyon","Bourgoin-Jallieu","OUI"]
[null,"AURA","EIC Rhône Alpes Lyon","Bourg-St-Andéol","OUI"]
[null,"AURA","EIC Rhône Alpes Lyon","Bouthéon","NON"]
[null,"AURA","EIC Rhône Alpes Lyon","Brignais","OUI"]
[null,"AURA","EIC Rhône Alpes Lyon","Chandieu-Toussieu","OUI"]
[null,"AURA","EIC Rhône Alpes Lyon","Charlieu","OUI"]
[null,"AURA","EIC Rhône Alpes Lyon","Chasse-sur-Rhône","OUI"]
[null,"AURA","EIC Rhône Alpes Lyon","CLAVEYSON BREN","OUI"]
[null,"AURA","EIC Rhône Alpes Lyon","Clonas","OUI"]
[null,"AURA","EIC Rhône Alpes Lyon","Collonges-Fontaines","OUI"]
[null,"AURA","EIC Rhône Alpes Lyon","Condrieu","OUI"]
[null,"AURA","EIC Rhône Alpes Lyon","Courzieu-Brussieu","OUI"]
[null,"AURA","EIC Rhône Alpes Lyon","Crest","OUI"]
[null,"AURA","EIC Rhône Alpes Lyon","Cruas","OUI"]
[null,"AURA","EIC Rhône Alpes Lyon","Die","OUI"]
[null,"AURA","EIC Rhône Alpes Lyon","ELF ANTAR","OUI"]
[null,"AURA","EIC Rhône Alpes Lyon","Embt Km 9,2","OUI"]
[null,"AURA","EIC Rhône Alpes Lyon","Emin Leydier","OUI"]
[null,"AURA","EIC Rhône Alpes Lyon","ET Lyon-Mouche UPT Portes","OUI"]
[null,"AURA","EIC Rhône Alpes Lyon","Eurre","OUI"]
[null,"AURA","EIC Rhône Alpes Lyon","Firminy","OUI"]
[null,"AURA","EIC Rhône Alpes Lyon","FLECHET","OUI"]
[null,"AURA","EIC Rhône Alpes Lyon","Givors","OUI"]
[null,"AURA","EIC Rhône Alpes Lyon","Givors-Canal","OUI"]
[null,"AURA","EIC Rhône Alpes Lyon","Grand-Croix","OUI"]
[null,"AURA","EIC Rhône Alpes Lyon","Heyrieux","OUI"]
[null,"AURA","EIC Rhône Alpes Lyon","La Fouillouse","OUI"]
[null,"AURA","EIC Rhône Alpes Lyon","La Valbonne","OUI"]
[null,"AURA","EIC Rhône Alpes Lyon","La Voulte-sur-Rhône","OUI"]
[null,"AURA","EIC Rhône Alpes Lyon","Lamure-sur-Azergues","OUI"]
[null,"AURA","EIC Rhône Alpes Lyon","LAPEYROUSE MORNAY","OUI"]
[null,"AURA","EIC Rhône Alpes Lyon","Le Coteau","NON"]
[null,"AURA","EIC Rhône Alpes Lyon","Le Pouzin","OUI"]
[null,"AURA","EIC Rhône Alpes Lyon","Le Teil","OUI"]
[null,"AURA","EIC Rhône Alpes Lyon","Livron","OUI"]
[null,"AURA","EIC Rhône Alpes Lyon","Loire","OUI"]
[null,"AURA","EIC Rhône Alpes Lyon","Lozanne","OUI"]
[null,"AURA","EIC Rhône Alpes Lyon","Luc-en-Diois","OUI"]
[null,"AURA","EIC Rhône Alpes Lyon","Lyon-Gorge-de-Loup","OUI"]
[null,"AURA","EIC Rhône Alpes Lyon","Lyon-Guillotière","OUI"]
[null,"AURA","EIC Rhône Alpes Lyon","Lyon-Guillotière (Scaronne)","OUI"]
[null,"AURA","EIC Rhône Alpes Lyon","Lyon-Part-Dieu","OUI"]
[null,"AURA","EIC Rhône Alpes Lyon","Lyon-Perrache","OUI"]
[null,"AURA","EIC Rhône Alpes Lyon","Lyon-Perrache-Marchandises","OUI"]
[null,"AURA","EIC Rhône Alpes Lyon","Lyon-St-Clair","OUI"]
[null,"AURA","EIC Rhône Alpes Lyon","Lyon-St-Exupéry-TGV","OUI"]
[null,"AURA","EIC Rhône Alpes Lyon","Lyon-Vaise","OUI"]
[null,"AURA","EIC Rhône Alpes Lyon","Meximieux-Pérouges","OUI"]
[null,"AURA","EIC Rhône Alpes Lyon","MIRIBEL LGV","OUI"]
[null,"AURA","EIC Rhône Alpes Lyon","Montbrison","OUI"]
[null,"AURA","EIC Rhône Alpes Lyon","Montélimar","OUI"]
[null,"AURA","EIC Rhône Alpes Lyon","Montluel","OUI"]
[null,"AURA","EIC Rhône Alpes Lyon","Montrond-les-Bains","OUI"]
[null,"AURA","EIC Rhône Alpes Lyon","Neuville-sur-Saône","OUI"]
[null,"AURA","EIC Rhône Alpes Lyon","Noirétable","OUI"]
[null,"AURA","EIC Rhône Alpes Lyon","Oullins","OUI"]
[null,"AURA","EIC Rhône Alpes Lyon","Peyraud","OUI"]
[null,"AURA","EIC Rhône Alpes Lyon","Pierrelatte","OUI"]
[null,"AURA","EIC Rhône Alpes Lyon","Portes","OUI"]
[null,"AURA","EIC Rhône Alpes Lyon","Poule","OUI"]
[null,"AURA","EIC Rhône Alpes Lyon","Régny","OUI"]
[null,"AURA","EIC Rhône Alpes Lyon","Reyrieux","OUI"]
[null,"AURA","EIC Rhône Alpes Lyon","Rive-de-Gier","OUI"]
[null,"AURA","EIC Rhône Alpes Lyon","Roanne","OUI"]
[null,"AURA","EIC Rhône Alpes Lyon","Salaise","OUI"]
[null,"AURA","EIC Rhône Alpes Lyon","Sathonay-Rillieux","OUI"]
[null,"AURA","EIC Rhône Alpes Lyon","Sibelin","OUI"]
[null,"AURA","EIC Rhône Alpes Lyon","St-André-de-Corcy","OUI"]
[null,"AURA","EIC Rhône Alpes Lyon","St-Clair-les-Roches","OUI"]
[null,"AURA","EIC Rhône Alpes Lyon","Ste-Colombe-les-Vienne-St-Romain-en-Gal","OUI"]
[null,"AURA","EIC Rhône Alpes Lyon","Ste-Foy-l'Argentière","OUI"]
[null,"AURA","EIC Rhône Alpes Lyon","St-Étienne-Bellevue","NON"]
[null,"AURA","EIC Rhône Alpes Lyon","St-Étienne-Châteaucreux","OUI"]
[null,"AURA","EIC Rhône Alpes Lyon","St-Étienne-Pont-de-l'Âne","OUI"]
[null,"AURA","EIC Rhône Alpes Lyon","St-Fons","OUI"]
[null,"AURA","EIC Rhône Alpes Lyon","St-Germain-au-Mont-d'Or","OUI"]
[null,"AURA","EIC Rhône Alpes Lyon","St-Germain-l'Espinasse","NON"]
[null,"AURA","EIC Rhône Alpes Lyon","St-Just-St-Rambert","OUI"]
[null,"AURA","EIC Rhône Alpes Lyon","St-Just-sur-Loire","OUI"]
[null,"AURA","EIC Rhône Alpes Lyon","St-Marcellin (Loire)","OUI"]
[null,"AURA","EIC Rhône Alpes Lyon","St-Martin-Sail-les-Bains","OUI"]
[null,"AURA","EIC Rhône Alpes Lyon","St-Maurice-de-Beynost","OUI"]
[null,"AURA","EIC Rhône Alpes Lyon","St-Péray","OUI"]
[null,"AURA","EIC Rhône Alpes Lyon","St-Priest","OUI"]
[null,"AURA","EIC Rhône Alpes Lyon","St-Quentin-Fallavier","OUI"]
[null,"AURA","EIC Rhône Alpes Lyon","St-Rambert d'Albon","OUI"]
[null,"AURA","EIC Rhône Alpes Lyon","St-Rambert-d'Albon","OUI"]
[null,"AURA","EIC Rhône Alpes Lyon","St-Romain-le-Puy","OUI"]
[null,"AURA","EIC Rhône Alpes Lyon","St-Vallier-sur-Rhône","OUI"]
[null,"AURA","EIC Rhône Alpes Lyon","Tain-l'Hermitage-Tournon","OUI"]
[null,"AURA","EIC Rhône Alpes Lyon","Tarare","OUI"]
[null,"AURA","EIC Rhône Alpes Lyon","Tassin","OUI"]
[null,"AURA","EIC Rhône Alpes Lyon","Technicentre TGV de Lyon","OUI"]
[null,"AURA","EIC Rhône Alpes Lyon","Tournon","OUI"]
[null,"AURA","EIC Rhône Alpes Lyon","Tronget","OUI"]
[null,"AURA","EIC Rhône Alpes Lyon","UPIE LGV","OUI"]
[null,"AURA","EIC Rhône Alpes Lyon","Valence","OUI"]
[null,"AURA","EIC Rhône Alpes Lyon","Valence-TGV","OUI"]
[null,"AURA","EIC Rhône Alpes Lyon","Varennes-sur-Allier","OUI"]
[null,"AURA","EIC Rhône Alpes Lyon","Veauche-St-Galmier","OUI"]
[null,"AURA","EIC Rhône Alpes Lyon","Vénissieux","OUI"]
[null,"AURA","EIC Rhône Alpes Lyon","Vénissieux-Sud","OUI"]
[null,"AURA","EIC Rhône Alpes Lyon","Vienne","OUI"]
[null,"AURA","EIC Rhône Alpes Lyon","Villars-les-Dombes","OUI"]
[null,"AURA","EIC Rhône Alpes Lyon","Villefranche-sur-Saône","OUI"]
[null,"BFC","EIC Alsace","ALSTOM","OUI"]
[null,"BFC","EIC Alsace","Bas-Évette","OUI"]
[null,"BFC","EIC Alsace","Belfort","OUI"]
[null,"BFC","EIC Alsace","Chèvremont","OUI"]
[null,"BFC","EIC Alsace","Clerval","NON"]
[null,"BFC","EIC Alsace","ET Rhin Rhône UPT Belfort","OUI"]
[null,"BFC","EIC Alsace","Giromagny","OUI"]
[null,"BFC","EIC Alsace","Héricourt","OUI"]
[null,"BFC","EIC Alsace","L'Isle-sur-le-Doubs","OUI"]
[null,"BFC","EIC Alsace","Montbéliard","OUI"]
[null,"BFC","EIC Alsace","Pont-de-Roide","OUI"]
[null,"BFC","EIC Auvergne Nivernais","Cercy-la-Tour","OUI"]
[null,"BFC","EIC Auvergne Nivernais","Corbigny","OUI"]
[null,"BFC","EIC Auvergne Nivernais","Cosne-sur-Loire","OUI"]
[null,"BFC","EIC Auvergne Nivernais","Decize","OUI"]
[null,"BFC","EIC Auvergne Nivernais","Fourchambault","NON"]
[null,"BFC","EIC Auvergne Nivernais","Imphy","OUI"]
[null,"BFC","EIC Auvergne Nivernais","La Charité-sur-Loire","OUI"]
[null,"BFC","EIC Auvergne Nivernais","Luzy","OUI"]
[null,"BFC","EIC Auvergne Nivernais","Neuvy-Sautour","OUI"]
[null,"BFC","EIC Auvergne Nivernais","Neuvy-sur-Loire","OUI"]
[null,"BFC","EIC Auvergne Nivernais","Nevers","OUI"]
[null,"BFC","EIC Auvergne Nivernais","Pouilly-sur-Loire","OUI"]
[null,"BFC","EIC Auvergne Nivernais","Prémery","OUI"]
[null,"BFC","EIC Auvergne Nivernais","Saincaize","OUI"]
[null,"BFC","EIC Auvergne Nivernais","SCI de Pouilly et Nohain","OUI"]
[null,"BFC","EIC Auvergne Nivernais","St-Pierre-le-Moûtier","OUI"]
[null,"BFC","EIC Auvergne Nivernais","Tamnay-Châtillon","OUI"]
[null,"BFC","EIC Auvergne Nivernais","Tracy-Sancerre","OUI"]
[null,"BFC","EIC Bourgogne Franche Comté","Aillevillers","OUI"]
[null,"BFC","EIC Bourgogne Franche Comté","Allerey","OUI"]
[null,"BFC","EIC Bourgogne Franche Comté","Andelot","OUI"]
[null,"BFC","EIC Bourgogne Franche Comté","Arbois","OUI"]
[null,"BFC","EIC Bourgogne Franche Comté","Arc-et-Senans","OUI"]
[null,"BFC","EIC Bourgogne Franche Comté","Autet","OUI"]
[null,"BFC","EIC Bourgogne Franche Comté","Autrey-lès-Gray","OUI"]
[null,"BFC","EIC Bourgogne Franche Comté","Autun","OUI"]
[null,"BFC","EIC Bourgogne Franche Comté","Auxonne","OUI"]
[null,"BFC","EIC Bourgogne Franche Comté","Base Maintenance LGV de Geneuille","OUI"]
[null,"BFC","EIC Bourgogne Franche Comté","Baume-les-Dames","OUI"]
[null,"BFC","EIC Bourgogne Franche Comté","Beaune","OUI"]
[null,"BFC","EIC Bourgogne Franche Comté","Besançon-Mouillère","OUI"]
[null,"BFC","EIC Bourgogne Franche Comté","Besançon-St-Fergeux","OUI"]
[null,"BFC","EIC Bourgogne Franche Comté","Besançon-Viotte","OUI"]
[null,"BFC","EIC Bourgogne Franche Comté","Blaisy-Bas","OUI"]
[null,"BFC","EIC Bourgogne Franche Comté","Blanzy-Poste","OUI"]
[null,"BFC","EIC Bourgogne Franche Comté","Brazey-en-Plaine","OUI"]
[null,"BFC","EIC Bourgogne Franche Comté","Chagny","OUI"]
[null,"BFC","EIC Bourgogne Franche Comté","Chalon-sur-Saône","OUI"]
[null,"BFC","EIC Bourgogne Franche Comté","Champagney","OUI"]
[null,"BFC","EIC Bourgogne Franche Comté","Champagnole","OUI"]
[null,"BFC","EIC Bourgogne Franche Comté","Châtillon-sur-Seine","OUI"]
[null,"BFC","EIC Bourgogne Franche Comté","Chemin-Peseux","OUI"]
[null,"BFC","EIC Bourgogne Franche Comté","Ciments d'Origny","OUI"]
[null,"BFC","EIC Bourgogne Franche Comté","Ciry-le-Noble","OUI"]
[null,"BFC","EIC Bourgogne Franche Comté","Cordesse-Igornay","OUI"]
[null,"BFC","EIC Bourgogne Franche Comté","Creveney-Saulx","NON"]
[null,"BFC","EIC Bourgogne Franche Comté","Crissey","OUI"]
[null,"BFC","EIC Bourgogne Franche Comté","Dannemarie-Velesmes","OUI"]
[null,"BFC","EIC Bourgogne Franche Comté","Deluz","OUI"]
[null,"BFC","EIC Bourgogne Franche Comté","Devecey","OUI"]
[null,"BFC","EIC Bourgogne Franche Comté","Digoin","OUI"]
[null,"BFC","EIC Bourgogne Franche Comté","Dijon-Porte-d'Ouche-Perrigny","OUI"]
[null,"BFC","EIC Bourgogne Franche Comté","Dijon-Porte-Neuve","OUI"]
[null,"BFC","EIC Bourgogne Franche Comté","Dijon-Ville","OUI"]
[null,"BFC","EIC Bourgogne Franche Comté","Dole","OUI"]
[null,"BFC","EIC Bourgogne Franche Comté","Dole-la-Bedugue","NON"]
[null,"BFC","EIC Bourgogne Franche Comté","EIV des Laumes","NON"]
[null,"BFC","EIC Bourgogne Franche Comté","Époisses","OUI"]
[null,"BFC","EIC Bourgogne Franche Comté","Essertenne-Cecey","OUI"]
[null,"BFC","EIC Bourgogne Franche Comté","Étang","OUI"]
[null,"BFC","EIC Bourgogne Franche Comté","Faisceau Besançon-St-Fergeux V3 à 7","NON"]
[null,"BFC","EIC Bourgogne Franche Comté","Faisceau dépôt","OUI"]
[null,"BFC","EIC Bourgogne Franche Comté","Faisceau Plateforme Multimodale","OUI"]
[null,"BFC","EIC Bourgogne Franche Comté","Fleurville-Pont-de-Vaux","OUI"]
[null,"BFC","EIC Bourgogne Franche Comté","Franois","OUI"]
[null,"BFC","EIC Bourgogne Franche Comté","Frasne","OUI"]
[null,"BFC","EIC Bourgogne Franche Comté","Génelard","OUI"]
[null,"BFC","EIC Bourgogne Franche Comté","Genlis","OUI"]
[null,"BFC","EIC Bourgogne Franche Comté","Gergy","OUI"]
[null,"BFC","EIC Bourgogne Franche Comté","Gevrey-Chambertin","OUI"]
[null,"BFC","EIC Bourgogne Franche Comté","Gilly-sur-Loire","OUI"]
[null,"BFC","EIC Bourgogne Franche Comté","Gray","OUI"]
[null,"BFC","EIC Bourgogne Franche Comté","Is-sur-Tille","OUI"]
[null,"BFC","EIC Bourgogne Franche Comté","Jussey","OUI"]
[null,"BFC","EIC Bourgogne Franche Comté","La Clayette-Baudemont","OUI"]
[null,"BFC","EIC Bourgogne Franche Comté","La Gravoine","OUI"]
[null,"BFC","EIC Bourgogne Franche Comté","Laignes","OUI"]
[null,"BFC","EIC Bourgogne Franche Comté","Laissey","OUI"]
[null,"BFC","EIC Bourgogne Franche Comté","Lamarche-sur-Saône","OUI"]
[null,"BFC","EIC Bourgogne Franche Comté","LAURENT","OUI"]
[null,"BFC","EIC Bourgogne Franche Comté","Le Creusot","OUI"]
[null,"BFC","EIC Bourgogne Franche Comté","Le Creusot-Montceau-Montchanin","OUI"]
[null,"BFC","EIC Bourgogne Franche Comté","Le Valdahon","OUI"]
[null,"BFC","EIC Bourgogne Franche Comté","Les Laumes-Alésia","OUI"]
[null,"BFC","EIC Bourgogne Franche Comté","Les Longevilles-Rochejean","OUI"]
[null,"BFC","EIC Bourgogne Franche Comté","L'Hôpital-du-Grosbois","OUI"]
[null,"BFC","EIC Bourgogne Franche Comté","Liernais","OUI"]
[null,"BFC","EIC Bourgogne Franche Comté","Lons-le-Saunier","OUI"]
[null,"BFC","EIC Bourgogne Franche Comté","L'Orme-St-Pantaléon","OUI"]
[null,"BFC","EIC Bourgogne Franche Comté","Louhans","OUI"]
[null,"BFC","EIC Bourgogne Franche Comté","Lure","OUI"]
[null,"BFC","EIC Bourgogne Franche Comté","Luxeuil-les-Bains","OUI"]
[null,"BFC","EIC Bourgogne Franche Comté","Mâcon-Ville","OUI"]
[null,"BFC","EIC Bourgogne Franche Comté","Mâlain","OUI"]
[null,"BFC","EIC Bourgogne Franche Comté","Manlay","OUI"]
[null,"BFC","EIC Bourgogne Franche Comté","Maxilly-sur-Saône","OUI"]
[null,"BFC","EIC Bourgogne Franche Comté","Mervans","OUI"]
[null,"BFC","EIC Bourgogne Franche Comté","Mesnay-Arbois","OUI"]
[null,"BFC","EIC Bourgogne Franche Comté","Miserey-Salines","OUI"]
[null,"BFC","EIC Bourgogne Franche Comté","Montbard","OUI"]
[null,"BFC","EIC Bourgogne Franche Comté","Montceau-les-Mines","OUI"]
[null,"BFC","EIC Bourgogne Franche Comté","Montchanin","OUI"]
[null,"BFC","EIC Bourgogne Franche Comté","MONTCHANIN LGV","NON"]
[null,"BFC","EIC Bourgogne Franche Comté","Morez","OUI"]
[null,"BFC","EIC Bourgogne Franche Comté","Morteau","OUI"]
[null,"BFC","EIC Bourgogne Franche Comté","Mouchard","OUI"]
[null,"BFC","EIC Bourgogne Franche Comté","Neuilly-lès-Dijon","OUI"]
[null,"BFC","EIC Bourgogne Franche Comté","Nuits-sous-Ravières","OUI"]
[null,"BFC","EIC Bourgogne Franche Comté","Nuits-St-Georges","OUI"]
[null,"BFC","EIC Bourgogne Franche Comté","Orchamps","OUI"]
[null,"BFC","EIC Bourgogne Franche Comté","Pagny","OUI"]
[null,"BFC","EIC Bourgogne Franche Comté","Paray-le-Monial","OUI"]
[null,"BFC","EIC Bourgogne Franche Comté","Parc Divisionnaire VB","OUI"]
[null,"BFC","EIC Bourgogne Franche Comté","Parcey","NON"]
[null,"BFC","EIC Bourgogne Franche Comté","Poinçon","OUI"]
[null,"BFC","EIC Bourgogne Franche Comté","Poinson-Beneuvre","OUI"]
[null,"BFC","EIC Bourgogne Franche Comté","Poligny","OUI"]
[null,"BFC","EIC Bourgogne Franche Comté","Pontailler-sur-Saône","OUI"]
[null,"BFC","EIC Bourgogne Franche Comté","Pontanevaux","OUI"]
[null,"BFC","EIC Bourgogne Franche Comté","Pontarlier","OUI"]
[null,"BFC","EIC Bourgogne Franche Comté","Port Fluvial","OUI"]
[null,"BFC","EIC Bourgogne Franche Comté","Port-d'Atelier-Amance","OUI"]
[null,"BFC","EIC Bourgogne Franche Comté","Port-Fluvial-de-Chalon-sur-Saône","OUI"]
[null,"BFC","EIC Bourgogne Franche Comté","Roche-lez-Beaupré","OUI"]
[null,"BFC","EIC Bourgogne Franche Comté","Saône","OUI"]
[null,"BFC","EIC Bourgogne Franche Comté","Saulieu","OUI"]
[null,"BFC","EIC Bourgogne Franche Comté","Saulon","OUI"]
[null,"BFC","EIC Bourgogne Franche Comté","Semur-en-Auxois","OUI"]
[null,"BFC","EIC Bourgogne Franche Comté","Sennecey-le-Grand","OUI"]
[null,"BFC","EIC Bourgogne Franche Comté","Seurre","OUI"]
[null,"BFC","EIC Bourgogne Franche Comté","SEVA","OUI"]
[null,"BFC","EIC Bourgogne Franche Comté","Sincey-lès-Rouvray","OUI"]
[null,"BFC","EIC Bourgogne Franche Comté","SNC Fillad","OUI"]
[null,"BFC","EIC Bourgogne Franche Comté","Société SOUFFLET","OUI"]
[null,"BFC","EIC Bourgogne Franche Comté","SONOGRA","OUI"]
[null,"BFC","EIC Bourgogne Franche Comté","St-Amour","OUI"]
[null,"BFC","EIC Bourgogne Franche Comté","St-Aubin (Jura)","OUI"]
[null,"BFC","EIC Bourgogne Franche Comté","St-Bonnet-en-Bresse","OUI"]
[null,"BFC","EIC Bourgogne Franche Comté","St-Claude","OUI"]
[null,"BFC","EIC Bourgogne Franche Comté","Ste-Colombe-sur-Seine","OUI"]
[null,"BFC","EIC Bourgogne Franche Comté","Ste-Croix","OUI"]
[null,"BFC","EIC Bourgogne Franche Comté","St-Jean-de-Losne","OUI"]
[null,"BFC","EIC Bourgogne Franche Comté","St-Julien-Clénay","OUI"]
[null,"BFC","EIC Bourgogne Franche Comté","St-Julien-Écuisses","NON"]
[null,"BFC","EIC Bourgogne Franche Comté","St-Laurent (Jura)","OUI"]
[null,"BFC","EIC Bourgogne Franche Comté","St-Léger-sur-Dheune","OUI"]
[null,"BFC","EIC Bourgogne Franche Comté","St-Marcel-lès-Chalon","OUI"]
[null,"BFC","EIC Bourgogne Franche Comté","St-Marcel-ls-Chalon","OUI"]
[null,"BFC","EIC Bourgogne Franche Comté","St-Vit","OUI"]
[null,"BFC","EIC Bourgogne Franche Comté","SYGMA","OUI"]
[null,"BFC","EIC Bourgogne Franche Comté","Tavaux","OUI"]
[null,"BFC","EIC Bourgogne Franche Comté","Tiroir","OUI"]
[null,"BFC","EIC Bourgogne Franche Comté","Tournus","OUI"]
[null,"BFC","EIC Bourgogne Franche Comté","Tréfileries de Conflandey","OUI"]
[null,"BFC","EIC Bourgogne Franche Comté","Vaux-et-Chantegrue","OUI"]
[null,"BFC","EIC Bourgogne Franche Comté","Velars","OUI"]
[null,"BFC","EIC Bourgogne Franche Comté","Verdun-sur-le-Doubs","OUI"]
[null,"BFC","EIC Bourgogne Franche Comté","Vereux","OUI"]
[null,"BFC","EIC Bourgogne Franche Comté","Vesoul","OUI"]
[null,"BFC","EIC Bourgogne Franche Comté","Villedieu-Chanliau","OUI"]
[null,"BFC","EIC Bourgogne Franche Comté","Vitrey-Vernois","OUI"]
[null,"BFC","EIC Bourgogne Franche Comté","ZI Chenove","OUI"]
[null,"BFC","EIC Centre Limousin","Phillips Eclairage","OUI"]
[null,"BFC","EIC Centre Limousin","VIGNA","OUI"]
[null,"BFC","EIC Lorraine Champagne Ardenne","Veuxhaulles","OUI"]
[null,"BFC","EIC Lorraine Champagne Ardenne","Villeneuve-l'Archevêque","OUI"]
[null,"BFC","EIC Paris Est Ouest Francilien","LACOUR D ARCENAY Faisceau pair 6 à 22","OUI"]
[null,"BFC","EIC Paris Sud Est","Auxerre-St-Gervais","OUI"]
[null,"BFC","EIC Paris Sud Est","Avallon","OUI"]
[null,"BFC","EIC Paris Sud Est","Bèze","OUI"]
[null,"BFC","EIC Paris Sud Est","Bonnard-Bassou","OUI"]
[null,"BFC","EIC Paris Sud Est","Brienon","OUI"]
[null,"BFC","EIC Paris Sud Est","Champagne-sur-Vingeanne","OUI"]
[null,"BFC","EIC Paris Sud Est","Châtel-Censoir","OUI"]
[null,"BFC","EIC Paris Sud Est","Clamecy","OUI"]
[null,"BFC","EIC Paris Sud Est","Coulanges-sur-Yonne","OUI"]
[null,"BFC","EIC Paris Sud Est","Cravant-Bazarnes","OUI"]
[null,"BFC","EIC Paris Sud Est","Joigny","OUI"]
[null,"BFC","EIC Paris Sud Est","Laroche-Migennes","OUI"]
[null,"BFC","EIC Paris Sud Est","Leuglay-Voulaines","OUI"]
[null,"BFC","EIC Paris Sud Est","Lézinnes","OUI"]
[null,"BFC","EIC Paris Sud Est","Lux","OUI"]
[null,"BFC","EIC Paris Sud Est","Mirebeau-sur-Bèze","OUI"]
[null,"BFC","EIC Paris Sud Est","Ossun","OUI"]
[null,"BFC","EIC Paris Sud Est","Pasilly","OUI"]
[null,"BFC","EIC Paris Sud Est","Pavillon-lès-Grancey","OUI"]
[null,"BFC","EIC Paris Sud Est","Port-Sec-de-Pacy","OUI"]
[null,"BFC","EIC Paris Sud Est","Recey-sur-Ource","OUI"]
[null,"BFC","EIC Paris Sud Est","Sens","OUI"]
[null,"BFC","EIC Paris Sud Est","St-Florentin-Vergigny","OUI"]
[null,"BFC","EIC Paris Sud Est","St-Julien-du-Sault","OUI"]
[null,"BFC","EIC Paris Sud Est","SULLY Faisceau impair 3 à 7","OUI"]
[null,"BFC","EIC Paris Sud Est","Tilchâtel","OUI"]
[null,"BFC","EIC Paris Sud Est","Tonnerre","OUI"]
[null,"BFC","EIC Paris Sud Est","TONNERRE LGV","OUI"]
[null,"BFC","EIC Paris Sud Est","UPM Perrigny (Technicentre BFC)","OUI"]
[null,"BFC","EIC Paris Sud Est","Vanvey-Villiers","OUI"]
[null,"BFC","EIC Paris Sud Est","VAUMORT Faisceau Pair V8 à V10","OUI"]
[null,"BFC","EIC Paris Sud Est","VAUMORT Faisceau V6","OUI"]
[null,"BFC","EIC Paris Sud Est","VAUX EN PRE Faisceau impair 3 à 7","OUI"]
[null,"BFC","EIC Paris Sud Est","Villars-Santenoge","OUI"]
[null,"BPL","EIC Bretagne Pays de la Loire","Ancenis","OUI"]
[null,"BPL","EIC Bretagne Pays de la Loire","Angers-Maître-École","OUI"]
[null,"BPL","EIC Bretagne Pays de la Loire","Angers-St-Laud","OUI"]
[null,"BPL","EIC Bretagne Pays de la Loire","Angers-St-Serge","OUI"]
[null,"BPL","EIC Bretagne Pays de la Loire","Arnage","OUI"]
[null,"BPL","EIC Bretagne Pays de la Loire","Aubigné-Racan","OUI"]
[null,"BPL","EIC Bretagne Pays de la Loire","Auray","OUI"]
[null,"BPL","EIC Bretagne Pays de la Loire","Bannalec","NON"]
[null,"BPL","EIC Bretagne Pays de la Loire","Baud","OUI"]
[null,"BPL","EIC Bretagne Pays de la Loire","Benet","OUI"]
[null,"BPL","EIC Bretagne Pays de la Loire","Beslé","OUI"]
[null,"BPL","EIC Bretagne Pays de la Loire","Bessé-sur-Braye","OUI"]
[null,"BPL","EIC Bretagne Pays de la Loire","Brest","OUI"]
[null,"BPL","EIC Bretagne Pays de la Loire","Brézé-St-Cyr-en-Bourg","OUI"]
[null,"BPL","EIC Bretagne Pays de la Loire","Broons","OUI"]
[null,"BPL","EIC Bretagne Pays de la Loire","CADS","OUI"]
[null,"BPL","EIC Bretagne Pays de la Loire","Callac","OUI"]
[null,"BPL","EIC Bretagne Pays de la Loire","Carhaix","OUI"]
[null,"BPL","EIC Bretagne Pays de la Loire","Carnoët-Locarn","OUI"]
[null,"BPL","EIC Bretagne Pays de la Loire","Carquefou","OUI"]
[null,"BPL","EIC Bretagne Pays de la Loire","Challans","OUI"]
[null,"BPL","EIC Bretagne Pays de la Loire","Champagné","OUI"]
[null,"BPL","EIC Bretagne Pays de la Loire","Champ-St-Père","NON"]
[null,"BPL","EIC Bretagne Pays de la Loire","Chantenay","OUI"]
[null,"BPL","EIC Bretagne Pays de la Loire","Chantier Equipement","OUI"]
[null,"BPL","EIC Bretagne Pays de la Loire","Chantonnay","OUI"]
[null,"BPL","EIC Bretagne Pays de la Loire","Châteaubourg","OUI"]
[null,"BPL","EIC Bretagne Pays de la Loire","Châteaubriant","OUI"]
[null,"BPL","EIC Bretagne Pays de la Loire","Châteaubriant Tram-Train","OUI"]
[null,"BPL","EIC Bretagne Pays de la Loire","Château-du-Loir","OUI"]
[null,"BPL","EIC Bretagne Pays de la Loire","Château-Gontier","OUI"]
[null,"BPL","EIC Bretagne Pays de la Loire","Châteaulin","OUI"]
[null,"BPL","EIC Bretagne Pays de la Loire","Châtelaudren-Plouagat","OUI"]
[null,"BPL","EIC Bretagne Pays de la Loire","Chemillé","OUI"]
[null,"BPL","EIC Bretagne Pays de la Loire","Cholet","OUI"]
[null,"BPL","EIC Bretagne Pays de la Loire","Ciments LAFARGE","OUI"]
[null,"BPL","EIC Bretagne Pays de la Loire","Clisson","OUI"]
[null,"BPL","EIC Bretagne Pays de la Loire","Conlie","OUI"]
[null,"BPL","EIC Bretagne Pays de la Loire","Connerré-Beillé","OUI"]
[null,"BPL","EIC Bretagne Pays de la Loire","Cordemais","OUI"]
[null,"BPL","EIC Bretagne Pays de la Loire","Dinan","OUI"]
[null,"BPL","EIC Bretagne Pays de la Loire","Dirinon Loperhet","OUI"]
[null,"BPL","EIC Bretagne Pays de la Loire","Dol-de-Bretagne","OUI"]
[null,"BPL","EIC Bretagne Pays de la Loire","Donges-Bonne Nouvelle","OUI"]
[null,"BPL","EIC Bretagne Pays de la Loire","Doulon","OUI"]
[null,"BPL","EIC Bretagne Pays de la Loire","Écommoy","NON"]
[null,"BPL","EIC Bretagne Pays de la Loire","Écouflant","OUI"]
[null,"BPL","EIC Bretagne Pays de la Loire","Embt de la société des koalins du Finistère","OUI"]
[null,"BPL","EIC Bretagne Pays de la Loire","Embt de la ZI L'HERMITAGE","OUI"]
[null,"BPL","EIC Bretagne Pays de la Loire","Embt SCBM","OUI"]
[null,"BPL","EIC Bretagne Pays de la Loire","Embt UNICOPA","OUI"]
[null,"BPL","EIC Bretagne Pays de la Loire","EMT Bretagne UPT Rennes","OUI"]
[null,"BPL","EIC Bretagne Pays de la Loire","Évron","OUI"]
[null,"BPL","EIC Bretagne Pays de la Loire","Faisceau Equipement","OUI"]
[null,"BPL","EIC Bretagne Pays de la Loire","Gaël","OUI"]
[null,"BPL","EIC Bretagne Pays de la Loire","Gennes-Longuefuye","OUI"]
[null,"BPL","EIC Bretagne Pays de la Loire","Gérard","OUI"]
[null,"BPL","EIC Bretagne Pays de la Loire","Guingamp","OUI"]
[null,"BPL","EIC Bretagne Pays de la Loire","Hanvec","OUI"]
[null,"BPL","EIC Bretagne Pays de la Loire","Hennebont","OUI"]
[null,"BPL","EIC Bretagne Pays de la Loire","Issé","OUI"]
[null,"BPL","EIC Bretagne Pays de la Loire","ITE Lambert Industrie","OUI"]
[null,"BPL","EIC Bretagne Pays de la Loire","ITE Passenaud","OUI"]
[null,"BPL","EIC Bretagne Pays de la Loire","ITE Queguiner","NON"]
[null,"BPL","EIC Bretagne Pays de la Loire","Janzé","OUI"]
[null,"BPL","EIC Bretagne Pays de la Loire","Kerhuon","OUI"]
[null,"BPL","EIC Bretagne Pays de la Loire","La Basse-Indre-St-Herblain","OUI"]
[null,"BPL","EIC Bretagne Pays de la Loire","La Baule-Escoublac","OUI"]
[null,"BPL","EIC Bretagne Pays de la Loire","La Brohinière","OUI"]
[null,"BPL","EIC Bretagne Pays de la Loire","La Chaize-le-Vicomte","OUI"]
[null,"BPL","EIC Bretagne Pays de la Loire","La Chapelle-Anthenaise","OUI"]
[null,"BPL","EIC Bretagne Pays de la Loire","La Chartre-sur-le-Loir","OUI"]
[null,"BPL","EIC Bretagne Pays de la Loire","La Ferté-Bernard","OUI"]
[null,"BPL","EIC Bretagne Pays de la Loire","La Hutte-Coulombiers","OUI"]
[null,"BPL","EIC Bretagne Pays de la Loire","La Meilleraie (Vendée)","OUI"]
[null,"BPL","EIC Bretagne Pays de la Loire","La Ménitré","OUI"]
[null,"BPL","EIC Bretagne Pays de la Loire","La Mothe-Achard","OUI"]
[null,"BPL","EIC Bretagne Pays de la Loire","La Pointe-Bouchemaine","OUI"]
[null,"BPL","EIC Bretagne Pays de la Loire","La Possonnière","OUI"]
[null,"BPL","EIC Bretagne Pays de la Loire","La Roche-sur-Yon","OUI"]
[null,"BPL","EIC Bretagne Pays de la Loire","La Selle-en-Luitré","OUI"]
[null,"BPL","EIC Bretagne Pays de la Loire","La Suze","OUI"]
[null,"BPL","EIC Bretagne Pays de la Loire","Lamballe","OUI"]
[null,"BPL","EIC Bretagne Pays de la Loire","Landerneau","OUI"]
[null,"BPL","EIC Bretagne Pays de la Loire","Landivisiau","NON"]
[null,"BPL","EIC Bretagne Pays de la Loire","Lannion","OUI"]
[null,"BPL","EIC Bretagne Pays de la Loire","Laval","OUI"]
[null,"BPL","EIC Bretagne Pays de la Loire","Le Croisic","OUI"]
[null,"BPL","EIC Bretagne Pays de la Loire","Le Légué","OUI"]
[null,"BPL","EIC Bretagne Pays de la Loire","Le Mans","OUI"]
[null,"BPL","EIC Bretagne Pays de la Loire","Le Priory","OUI"]
[null,"BPL","EIC Bretagne Pays de la Loire","Le Rody","OUI"]
[null,"BPL","EIC Bretagne Pays de la Loire","Les Lacs","NON"]
[null,"BPL","EIC Bretagne Pays de la Loire","Les Sables-d'Olonne","OUI"]
[null,"BPL","EIC Bretagne Pays de la Loire","L'Herbergement-Les Brouzils","OUI"]
[null,"BPL","EIC Bretagne Pays de la Loire","L'Hermitage-Mordelles","OUI"]
[null,"BPL","EIC Bretagne Pays de la Loire","Longué","OUI"]
[null,"BPL","EIC Bretagne Pays de la Loire","Lorient","OUI"]
[null,"BPL","EIC Bretagne Pays de la Loire","Loudéac","OUI"]
[null,"BPL","EIC Bretagne Pays de la Loire","Luçon","OUI"]
[null,"BPL","EIC Bretagne Pays de la Loire","Mauron","OUI"]
[null,"BPL","EIC Bretagne Pays de la Loire","Messac-Guipry","OUI"]
[null,"BPL","EIC Bretagne Pays de la Loire","Montaigu-Vendée","OUI"]
[null,"BPL","EIC Bretagne Pays de la Loire","Montauban-de-Bretagne","OUI"]
[null,"BPL","EIC Bretagne Pays de la Loire","Montfort-le-Gesnois","OUI"]
[null,"BPL","EIC Bretagne Pays de la Loire","Montoir-de-Bretagne","OUI"]
[null,"BPL","EIC Bretagne Pays de la Loire","Montreuil-Bellay","OUI"]
[null,"BPL","EIC Bretagne Pays de la Loire","Montreuil-sur-Ille","OUI"]
[null,"BPL","EIC Bretagne Pays de la Loire","Morlaix","OUI"]
[null,"BPL","EIC Bretagne Pays de la Loire","Nantes","OUI"]
[null,"BPL","EIC Bretagne Pays de la Loire","Nantilly-Saumur","OUI"]
[null,"BPL","EIC Bretagne Pays de la Loire","Neau","OUI"]
[null,"BPL","EIC Bretagne Pays de la Loire","Nort-sur-Erdre","OUI"]
[null,"BPL","EIC Bretagne Pays de la Loire","Oudon","OUI"]
[null,"BPL","EIC Bretagne Pays de la Loire","Paimpol","OUI"]
[null,"BPL","EIC Bretagne Pays de la Loire","Penhoët","OUI"]
[null,"BPL","EIC Bretagne Pays de la Loire","Plaintel","OUI"]
[null,"BPL","EIC Bretagne Pays de la Loire","Plancoët","OUI"]
[null,"BPL","EIC Bretagne Pays de la Loire","Plestan","OUI"]
[null,"BPL","EIC Bretagne Pays de la Loire","Pleyber-Christ","OUI"]
[null,"BPL","EIC Bretagne Pays de la Loire","Plouaret-Trégor","OUI"]
[null,"BPL","EIC Bretagne Pays de la Loire","Plounérin","OUI"]
[null,"BPL","EIC Bretagne Pays de la Loire","Pontchâteau","OUI"]
[null,"BPL","EIC Bretagne Pays de la Loire","Pontivy","OUI"]
[null,"BPL","EIC Bretagne Pays de la Loire","Pontrieux","OUI"]
[null,"BPL","EIC Bretagne Pays de la Loire","Pornic","OUI"]
[null,"BPL","EIC Bretagne Pays de la Loire","Poste MR de Quimper (Technicentre Bretagne)","OUI"]
[null,"BPL","EIC Bretagne Pays de la Loire","Pouzauges","OUI"]
[null,"BPL","EIC Bretagne Pays de la Loire","Questembert","OUI"]
[null,"BPL","EIC Bretagne Pays de la Loire","Quiberon","OUI"]
[null,"BPL","EIC Bretagne Pays de la Loire","Quimper","OUI"]
[null,"BPL","EIC Bretagne Pays de la Loire","Redon","OUI"]
[null,"BPL","EIC Bretagne Pays de la Loire","Rennes","OUI"]
[null,"BPL","EIC Bretagne Pays de la Loire","Retiers","OUI"]
[null,"BPL","EIC Bretagne Pays de la Loire","Rezé-Pont-Rousseau","OUI"]
[null,"BPL","EIC Bretagne Pays de la Loire","Roscoff","OUI"]
[null,"BPL","EIC Bretagne Pays de la Loire","Rosporden","OUI"]
[null,"BPL","EIC Bretagne Pays de la Loire","Sablé-sur-Sarthe","OUI"]
[null,"BPL","EIC Bretagne Pays de la Loire","Saumur","OUI"]
[null,"BPL","EIC Bretagne Pays de la Loire","Savenay","OUI"]
[null,"BPL","EIC Bretagne Pays de la Loire","SCV (Poste 1)","OUI"]
[null,"BPL","EIC Bretagne Pays de la Loire","Sillé-le-Guillaume","OUI"]
[null,"BPL","EIC Bretagne Pays de la Loire","St-Brieuc","OUI"]
[null,"BPL","EIC Bretagne Pays de la Loire","Ste-Pazanne","OUI"]
[null,"BPL","EIC Bretagne Pays de la Loire","St-Étienne-de-Montluc","OUI"]
[null,"BPL","EIC Bretagne Pays de la Loire","St-Gildas-des-Bois","OUI"]
[null,"BPL","EIC Bretagne Pays de la Loire","St-Jacques-de-la-Lande","OUI"]
[null,"BPL","EIC Bretagne Pays de la Loire","St-Julien (Côtes-d'Armor)","OUI"]
[null,"BPL","EIC Bretagne Pays de la Loire","St-Malo","OUI"]
[null,"BPL","EIC Bretagne Pays de la Loire","St-Méen","OUI"]
[null,"BPL","EIC Bretagne Pays de la Loire","St-Nazaire","OUI"]
[null,"BPL","EIC Bretagne Pays de la Loire","St-Nicolas-des-Eaux","OUI"]
[null,"BPL","EIC Bretagne Pays de la Loire","St-Pierre-la-Cour","OUI"]
[null,"BPL","EIC Bretagne Pays de la Loire","Tiercé","OUI"]
[null,"BPL","EIC Bretagne Pays de la Loire","Trégonneau-Squiffiec","OUI"]
[null,"BPL","EIC Bretagne Pays de la Loire","Trémentines","OUI"]
[null,"BPL","EIC Bretagne Pays de la Loire","UPT Quimper (ET Bretagne)","OUI"]
[null,"BPL","EIC Bretagne Pays de la Loire","Uzel","OUI"]
[null,"BPL","EIC Bretagne Pays de la Loire","Vannes","OUI"]
[null,"BPL","EIC Bretagne Pays de la Loire","Velluire","NON"]
[null,"BPL","EIC Bretagne Pays de la Loire","Vertou","OUI"]
[null,"BPL","EIC Bretagne Pays de la Loire","Vitré","OUI"]
[null,"BPL","EIC Bretagne Pays de la Loire","Vivy","OUI"]
[null,"BPL","EIC Bretagne Pays de la Loire","Voutré","OUI"]
[null,"CVL","EIC Centre Limousin","Allonnes-Boisville","NON"]
[null,"CVL","EIC Centre Limousin","Amboise","NON"]
[null,"CVL","EIC Centre Limousin","Argent","NON"]
[null,"CVL","EIC Centre Limousin","Argenton-sur-Creuse","OUI"]
[null,"CVL","EIC Centre Limousin","Artenay","NON"]
[null,"CVL","EIC Centre Limousin","Ascoux","NON"]
[null,"CVL","EIC Centre Limousin","Asnières-lès-Bourges","NON"]
[null,"CVL","EIC Centre Limousin","Aubigny-sur-Nère","NON"]
[null,"CVL","EIC Centre Limousin","Auneau","NON"]
[null,"CVL","EIC Centre Limousin","Auneau-Ville","NON"]
[null,"CVL","EIC Centre Limousin","Avord","OUI"]
[null,"CVL","EIC Centre Limousin","Azay-le-Rideau","NON"]
[null,"CVL","EIC Centre Limousin","Beaugency","NON"]
[null,"CVL","EIC Centre Limousin","Beaulieu-Le Coudray","NON"]
[null,"CVL","EIC Centre Limousin","Beaune-la-Rolande","NON"]
[null,"CVL","EIC Centre Limousin","Bléré-la-Croix","NON"]
[null,"CVL","EIC Centre Limousin","Blois-Chambord","OUI"]
[null,"CVL","EIC Centre Limousin","Bonneval","NON"]
[null,"CVL","EIC Centre Limousin","Bourges","OUI"]
[null,"CVL","EIC Centre Limousin","Bricy-Boulay","OUI"]
[null,"CVL","EIC Centre Limousin","Brou","NON"]
[null,"CVL","EIC Centre Limousin","Buzançais","OUI"]
[null,"CVL","EIC Centre Limousin","Celon","NON"]
[null,"CVL","EIC Centre Limousin","Cerdon-du-Loiret","NON"]
[null,"CVL","EIC Centre Limousin","Chantier VB de La Gratouille","NON"]
[null,"CVL","EIC Centre Limousin","Chartres","OUI"]
[null,"CVL","EIC Centre Limousin","Châteaudun","OUI"]
[null,"CVL","EIC Centre Limousin","Châteauneuf-sur-Cher","NON"]
[null,"CVL","EIC Centre Limousin","Châteauneuf-sur-Loire","NON"]
[null,"CVL","EIC Centre Limousin","Château-Renault","OUI"]
[null,"CVL","EIC Centre Limousin","Châteauroux","OUI"]
[null,"CVL","EIC Centre Limousin","Chécy-Mardié","NON"]
[null,"CVL","EIC Centre Limousin","Chinon","NON"]
[null,"CVL","EIC Centre Limousin","Clévilliers","NON"]
[null,"CVL","EIC Centre Limousin","Cloyes","NON"]
[null,"CVL","EIC Centre Limousin","Courtalain-St-Pellerin","OUI"]
[null,"CVL","EIC Centre Limousin","Courville-sur-Eure","NON"]
[null,"CVL","EIC Centre Limousin","Crotelles","NON"]
[null,"CVL","EIC Centre Limousin","DANGEAU faisceau LGV","NON"]
[null,"CVL","EIC Centre Limousin","Déols","NON"]
[null,"CVL","EIC Centre Limousin","Droué","NON"]
[null,"CVL","EIC Centre Limousin","Éguzon","NON"]
[null,"CVL","EIC Centre Limousin","Engenville","NON"]
[null,"CVL","EIC Centre Limousin","Fossé-Marolles","NON"]
[null,"CVL","EIC Centre Limousin","Gièvres","NON"]
[null,"CVL","EIC Centre Limousin","Illiers-Combray","OUI"]
[null,"CVL","EIC Centre Limousin","Issoudun","OUI"]
[null,"CVL","EIC Centre Limousin","Janville","NON"]
[null,"CVL","EIC Centre Limousin","Joué-lès-Tours","OUI"]
[null,"CVL","EIC Centre Limousin","La Chapelle-St-Ursin-Morthomiers","OUI"]
[null,"CVL","EIC Centre Limousin","La Chapelle-Vendômoise","NON"]
[null,"CVL","EIC Centre Limousin","La Ferté-St-Aubin","OUI"]
[null,"CVL","EIC Centre Limousin","La Foulonnerie","NON"]
[null,"CVL","EIC Centre Limousin","La Guerche-sur-l'Aubois","OUI"]
[null,"CVL","EIC Centre Limousin","La Haye-Descartes","NON"]
[null,"CVL","EIC Centre Limousin","La Loupe","NON"]
[null,"CVL","EIC Centre Limousin","La Taye","OUI"]
[null,"CVL","EIC Centre Limousin","Lamotte-Beuvron","OUI"]
[null,"CVL","EIC Centre Limousin","Langeais","NON"]
[null,"CVL","EIC Centre Limousin","Les Aubrais-Orléans","OUI"]
[null,"CVL","EIC Centre Limousin","Les Bordes","NON"]
[null,"CVL","EIC Centre Limousin","Loches","NON"]
[null,"CVL","EIC Centre Limousin","Lothiers","NON"]
[null,"CVL","EIC Centre Limousin","Lucé","NON"]
[null,"CVL","EIC Centre Limousin","Lunery","NON"]
[null,"CVL","EIC Centre Limousin","Maintenon","OUI"]
[null,"CVL","EIC Centre Limousin","Marseilles-lès-Aubigny","NON"]
[null,"CVL","EIC Centre Limousin","Mennetons","NON"]
[null,"CVL","EIC Centre Limousin","Mer","NON"]
[null,"CVL","EIC Centre Limousin","Meung-sur-Loire","NON"]
[null,"CVL","EIC Centre Limousin","Monnaie","NON"]
[null,"CVL","EIC Centre Limousin","Montierchaume","NON"]
[null,"CVL","EIC Centre Limousin","Montoire-sur-le-Loir","NON"]
[null,"CVL","EIC Centre Limousin","Monts","NON"]
[null,"CVL","EIC Centre Limousin","Moulins-sur-Yèvre","NON"]
[null,"CVL","EIC Centre Limousin","Nérondes","NON"]
[null,"CVL","EIC Centre Limousin","Neuillé-Pont-Pierre","OUI"]
[null,"CVL","EIC Centre Limousin","Neuville-aux-Bois","NON"]
[null,"CVL","EIC Centre Limousin","Neuvy-Pailloux","OUI"]
[null,"CVL","EIC Centre Limousin","Nogent-le-Rotrou","OUI"]
[null,"CVL","EIC Centre Limousin","Notre-Dame-d'Oé","NON"]
[null,"CVL","EIC Centre Limousin","Nouatre-Maillé","NON"]
[null,"CVL","EIC Centre Limousin","Onzain-Chaumont-sur-Loire","NON"]
[null,"CVL","EIC Centre Limousin","Orgères","NON"]
[null,"CVL","EIC Centre Limousin","Orléans","NON"]
[null,"CVL","EIC Centre Limousin","Patay","OUI"]
[null,"CVL","EIC Centre Limousin","Pezou","NON"]
[null,"CVL","EIC Centre Limousin","Pithiviers","NON"]
[null,"CVL","EIC Centre Limousin","Port-Boulet","OUI"]
[null,"CVL","EIC Centre Limousin","Port-de-Piles","OUI"]
[null,"CVL","EIC Centre Limousin","Reignac","NON"]
[null,"CVL","EIC Centre Limousin","Reuilly","NON"]
[null,"CVL","EIC Centre Limousin","Romorantin","NON"]
[null,"CVL","EIC Centre Limousin","Salbris","OUI"]
[null,"CVL","EIC Centre Limousin","Savigny-en-Septaine","NON"]
[null,"CVL","EIC Centre Limousin","Selles-sur-Cher","NON"]
[null,"CVL","EIC Centre Limousin","Selommes","NON"]
[null,"CVL","EIC Centre Limousin","St-Aignan-Noyers","OUI"]
[null,"CVL","EIC Centre Limousin","St-Amand-de-Vendôme","NON"]
[null,"CVL","EIC Centre Limousin","St-Amand-Montrond-Orval","OUI"]
[null,"CVL","EIC Centre Limousin","St-Cyr-en-Val-La Source","OUI"]
[null,"CVL","EIC Centre Limousin","St-Denis-Jargeau","NON"]
[null,"CVL","EIC Centre Limousin","Ste-Maure-Noyant","NON"]
[null,"CVL","EIC Centre Limousin","St-Florent-sur-Cher","OUI"]
[null,"CVL","EIC Centre Limousin","St-Genouph","NON"]
[null,"CVL","EIC Centre Limousin","St-Germain-du-Puy","NON"]
[null,"CVL","EIC Centre Limousin","St-Jean-de-Braye","NON"]
[null,"CVL","EIC Centre Limousin","St-Maur-sur-Indre","NON"]
[null,"CVL","EIC Centre Limousin","St-Pierre-des-Corps","OUI"]
[null,"CVL","EIC Centre Limousin","Sully-sur-Loire","NON"]
[null,"CVL","EIC Centre Limousin","Theuville","NON"]
[null,"CVL","EIC Centre Limousin","Thoré-la-Rochette","OUI"]
[null,"CVL","EIC Centre Limousin","Tours","OUI"]
[null,"CVL","EIC Centre Limousin","Toury","OUI"]
[null,"CVL","EIC Centre Limousin","Vendôme","OUI"]
[null,"CVL","EIC Centre Limousin","Vendôme-Villiers-sur-Loir","NON"]
[null,"CVL","EIC Centre Limousin","Vennecy","NON"]
[null,"CVL","EIC Centre Limousin","Vierzon-Forges","NON"]
[null,"CVL","EIC Centre Limousin","Vierzon-Ville","OUI"]
[null,"CVL","EIC Centre Limousin","Vieuvicq-Montigny","NON"]
[null,"CVL","EIC Centre Limousin","Villefranche-sur-Cher","NON"]
[null,"CVL","EIC Centre Limousin","Villefrancoeur","NON"]
[null,"CVL","EIC Centre Limousin","Villeneuve-d'Ingré","NON"]
[null,"CVL","EIC Centre Limousin","Villeperdue","NON"]
[null,"CVL","EIC Centre Limousin","Voves","OUI"]
[null,"CVL","EIC Paris Sud Est","Châtillon-sur-Loire","OUI"]
[null,"CVL","EIC Paris Sud Est","Embt des Etablissements CAPROGA","NON"]
[null,"CVL","EIC Paris Sud Est","Gien","OUI"]
[null,"CVL","EIC Paris Sud Est","Malesherbes","OUI"]
[null,"CVL","EIC Paris Sud Est","Montargis","OUI"]
[null,"CVL","EIC Paris Sud Est","Nogent-sur-Vernisson","OUI"]
[null,"CVL","EIC Paris Sud Est","St-Satur (Cher)","NON"]
[null,"CVL","EIC Paris Sud Ouest","Aunay-Tréon","NON"]
[null,"CVL","EIC Paris Sud Ouest","Dreux","OUI"]
[null,"CVL","EIC Paris Sud Ouest","Garnay","NON"]
[null,"CVL","EIC Paris Sud Ouest","Le Plessis faisceau LGV","NON"]
[null,"CVL","EIC Paris Sud Ouest","ST LEGER faisceau LGV","NON"]
[null,"CVL","EIC Paris Sud Ouest","St-Sauveur-Châteauneuf","NON"]
[null,"CVL","EIC Pays de la Loire","Château-la-Vallière","NON"]
[null,"GE","EIC Alsace","Altkirch","OUI"]
[null,"GE","EIC Alsace","Bantzenheim","OUI"]
[null,"GE","EIC Alsace","Barr","OUI"]
[null,"GE","EIC Alsace","Beinheim","OUI"]
[null,"GE","EIC Alsace","Bénestroff","OUI"]
[null,"GE","EIC Alsace","Berthelming","OUI"]
[null,"GE","EIC Alsace","Bischheim","OUI"]
[null,"GE","EIC Alsace","Bischwiller","OUI"]
[null,"GE","EIC Alsace","Blodelsheim","OUI"]
[null,"GE","EIC Alsace","Bollwiller","OUI"]
[null,"GE","EIC Alsace","Brumath","OUI"]
[null,"GE","EIC Alsace","Cernay","OUI"]
[null,"GE","EIC Alsace","Colmar","OUI"]
[null,"GE","EIC Alsace","Diemeringen","OUI"]
[null,"GE","EIC Alsace","Duttlenheim","OUI"]
[null,"GE","EIC Alsace","Erstein","OUI"]
[null,"GE","EIC Alsace","F.Braun et Cie","NON"]
[null,"GE","EIC Alsace","Graffenstaden","OUI"]
[null,"GE","EIC Alsace","Gresswiller","OUI"]
[null,"GE","EIC Alsace","Haguenau","OUI"]
[null,"GE","EIC Alsace","Hausbergen","OUI"]
[null,"GE","EIC Alsace","Héming","OUI"]
[null,"GE","EIC Alsace","Herrlisheim","OUI"]
[null,"GE","EIC Alsace","Hochfelden","OUI"]
[null,"GE","EIC Alsace","Huningue","OUI"]
[null,"GE","EIC Alsace","Île-Napoléon","OUI"]
[null,"GE","EIC Alsace","Île-Napoléon-Garage","OUI"]
[null,"GE","EIC Alsace","La Vancelle","OUI"]
[null,"GE","EIC Alsace","La Wantzenau","OUI"]
[null,"GE","EIC Alsace","Lauterbourg","OUI"]
[null,"GE","EIC Alsace","Loudrefing","OUI"]
[null,"GE","EIC Alsace","Lutzelbourg","OUI"]
[null,"GE","EIC Alsace","Metzeral","OUI"]
[null,"GE","EIC Alsace","Molsheim","OUI"]
[null,"GE","EIC Alsace","Mommenheim","OUI"]
[null,"GE","EIC Alsace","Montreux-Vieux","OUI"]
[null,"GE","EIC Alsace","Morhange","OUI"]
[null,"GE","EIC Alsace","Mulhouse-Nord","OUI"]
[null,"GE","EIC Alsace","Mulhouse-Ville","OUI"]
[null,"GE","EIC Alsace","Munster","OUI"]
[null,"GE","EIC Alsace","Neuf-Brisach-Ville","OUI"]
[null,"GE","EIC Alsace","Oberhoffen-Camp-de-Haguenau","OUI"]
[null,"GE","EIC Alsace","Obermodern","OUI"]
[null,"GE","EIC Alsace","Obernai","OUI"]
[null,"GE","EIC Alsace","Réding","OUI"]
[null,"GE","EIC Alsace","Réguisheim","OUI"]
[null,"GE","EIC Alsace","Reichshoffen-Usines","OUI"]
[null,"GE","EIC Alsace","Reichstett","OUI"]
[null,"GE","EIC Alsace","Richwiller","OUI"]
[null,"GE","EIC Alsace","Roeschwoog","OUI"]
[null,"GE","EIC Alsace","Rothau","OUI"]
[null,"GE","EIC Alsace","Saales","OUI"]
[null,"GE","EIC Alsace","Sarrebourg","OUI"]
[null,"GE","EIC Alsace","Saverne","OUI"]
[null,"GE","EIC Alsace","Schirmeck-La Broque","OUI"]
[null,"GE","EIC Alsace","Schweighouse-sur-Moder","OUI"]
[null,"GE","EIC Alsace","Sélestat","OUI"]
[null,"GE","EIC Alsace","Sierentz","OUI"]
[null,"GE","EIC Alsace","Soultz-sous-Forêts","OUI"]
[null,"GE","EIC Alsace","Ste-Croix-en-Plaine","OUI"]
[null,"GE","EIC Alsace","St-Louis","OUI"]
[null,"GE","EIC Alsace","Strasbourg-Cronenbourg","OUI"]
[null,"GE","EIC Alsace","Strasbourg-Neudorf","OUI"]
[null,"GE","EIC Alsace","Strasbourg-Port-du-Rhin","OUI"]
[null,"GE","EIC Alsace","Strasbourg-Ville","OUI"]
[null,"GE","EIC Alsace","Thann","OUI"]
[null,"GE","EIC Alsace","Thann-St-Jacques","OUI"]
[null,"GE","EIC Alsace","Turckheim","OUI"]
[null,"GE","EIC Alsace","Vendenheim","OUI"]
[null,"GE","EIC Alsace","Wesserling","OUI"]
[null,"GE","EIC Alsace","Wingen-sur-Moder","OUI"]
[null,"GE","EIC Alsace","Wissembourg","OUI"]
[null,"GE","EIC Lorraine Champagne Ardenne","Amagne-Lucquy","OUI"]
[null,"GE","EIC Lorraine Champagne Ardenne","Andilly","OUI"]
[null,"GE","EIC Lorraine Champagne Ardenne","Apach","OUI"]
[null,"GE","EIC Lorraine Champagne Ardenne","Arches","OUI"]
[null,"GE","EIC Lorraine Champagne Ardenne","Arcis-sur-Aube","OUI"]
[null,"GE","EIC Lorraine Champagne Ardenne","Attigny (Ardennes)","OUI"]
[null,"GE","EIC Lorraine Champagne Ardenne","Audun-le-Roman","OUI"]
[null,"GE","EIC Lorraine Champagne Ardenne","Baccarat","OUI"]
[null,"GE","EIC Lorraine Champagne Ardenne","Bains-les-Bains","OUI"]
[null,"GE","EIC Lorraine Champagne Ardenne","Baleycourt","OUI"]
[null,"GE","EIC Lorraine Champagne Ardenne","Barisey-la-Côte","OUI"]
[null,"GE","EIC Lorraine Champagne Ardenne","Bar-le-Duc","OUI"]
[null,"GE","EIC Lorraine Champagne Ardenne","Baroncourt","OUI"]
[null,"GE","EIC Lorraine Champagne Ardenne","Bar-sur-Aube","OUI"]
[null,"GE","EIC Lorraine Champagne Ardenne","Bazancourt","OUI"]
[null,"GE","EIC Lorraine Champagne Ardenne","Belleville","OUI"]
[null,"GE","EIC Lorraine Champagne Ardenne","Béning","OUI"]
[null,"GE","EIC Lorraine Champagne Ardenne","Bitche","OUI"]
[null,"GE","EIC Lorraine Champagne Ardenne","Blainville-Damelevières","OUI"]
[null,"GE","EIC Lorraine Champagne Ardenne","Blesme-Haussignemont","OUI"]
[null,"GE","EIC Lorraine Champagne Ardenne","Bologne","OUI"]
[null,"GE","EIC Lorraine Champagne Ardenne","Bouilly-Roncenay","OUI"]
[null,"GE","EIC Lorraine Champagne Ardenne","Bourmont","OUI"]
[null,"GE","EIC Lorraine Champagne Ardenne","Bouzonville","OUI"]
[null,"GE","EIC Lorraine Champagne Ardenne","Breuvannes","OUI"]
[null,"GE","EIC Lorraine Champagne Ardenne","Bricon","OUI"]
[null,"GE","EIC Lorraine Champagne Ardenne","Brienne-le-Château","OUI"]
[null,"GE","EIC Lorraine Champagne Ardenne","Bruyères","OUI"]
[null,"GE","EIC Lorraine Champagne Ardenne","Carignan","OUI"]
[null,"GE","EIC Lorraine Champagne Ardenne","Chaligny-Neuves-Maisons","OUI"]
[null,"GE","EIC Lorraine Champagne Ardenne","Châlons-en-Champagne","OUI"]
[null,"GE","EIC Lorraine Champagne Ardenne","Champigneulles","OUI"]
[null,"GE","EIC Lorraine Champagne Ardenne","Charleville-Mézières","OUI"]
[null,"GE","EIC Lorraine Champagne Ardenne","Charmes","OUI"]
[null,"GE","EIC Lorraine Champagne Ardenne","Châtel-Nomexy","OUI"]
[null,"GE","EIC Lorraine Champagne Ardenne","Châtenois-Dolaincourt","OUI"]
[null,"GE","EIC Lorraine Champagne Ardenne","Châtres (Aube)","OUI"]
[null,"GE","EIC Lorraine Champagne Ardenne","Chaumont","OUI"]
[null,"GE","EIC Lorraine Champagne Ardenne","Chevillon","OUI"]
[null,"GE","EIC Lorraine Champagne Ardenne","Clermont-en-Argonne","OUI"]
[null,"GE","EIC Lorraine Champagne Ardenne","Coligny (Marne)","OUI"]
[null,"GE","EIC Lorraine Champagne Ardenne","Commercy","NON"]
[null,"GE","EIC Lorraine Champagne Ardenne","Conflans-Jarny","OUI"]
[null,"GE","EIC Lorraine Champagne Ardenne","Coussey","OUI"]
[null,"GE","EIC Lorraine Champagne Ardenne","Crancey","OUI"]
[null,"GE","EIC Lorraine Champagne Ardenne","Creutzwald","OUI"]
[null,"GE","EIC Lorraine Champagne Ardenne","Culmont-Chalindrey","OUI"]
[null,"GE","EIC Lorraine Champagne Ardenne","Damblain","OUI"]
[null,"GE","EIC Lorraine Champagne Ardenne","Deville","OUI"]
[null,"GE","EIC Lorraine Champagne Ardenne","Dieulouard","OUI"]
[null,"GE","EIC Lorraine Champagne Ardenne","Dieuze","OUI"]
[null,"GE","EIC Lorraine Champagne Ardenne","Dormans","OUI"]
[null,"GE","EIC Lorraine Champagne Ardenne","Dugny","OUI"]
[null,"GE","EIC Lorraine Champagne Ardenne","Epernay","OUI"]
[null,"GE","EIC Lorraine Champagne Ardenne","Épinal","OUI"]
[null,"GE","EIC Lorraine Champagne Ardenne","Esternay","OUI"]
[null,"GE","EIC Lorraine Champagne Ardenne","Estissac","OUI"]
[null,"GE","EIC Lorraine Champagne Ardenne","Étival-Clairefontaine","OUI"]
[null,"GE","EIC Lorraine Champagne Ardenne","Eurville-Bienville","OUI"]
[null,"GE","EIC Lorraine Champagne Ardenne","Faulquemont","OUI"]
[null,"GE","EIC Lorraine Champagne Ardenne","Fère-Champenoise","OUI"]
[null,"GE","EIC Lorraine Champagne Ardenne","Fismes","OUI"]
[null,"GE","EIC Lorraine Champagne Ardenne","Florange","OUI"]
[null,"GE","EIC Lorraine Champagne Ardenne","Fontenoy-sur-Moselle","OUI"]
[null,"GE","EIC Lorraine Champagne Ardenne","Forbach","OUI"]
[null,"GE","EIC Lorraine Champagne Ardenne","Foug","OUI"]
[null,"GE","EIC Lorraine Champagne Ardenne","Fougerolles","OUI"]
[null,"GE","EIC Lorraine Champagne Ardenne","Frouard","OUI"]
[null,"GE","EIC Lorraine Champagne Ardenne","Gandrange-Amnéville","OUI"]
[null,"GE","EIC Lorraine Champagne Ardenne","Gigny-Brandonvillers","OUI"]
[null,"GE","EIC Lorraine Champagne Ardenne","Gironcourt-Houécourt","OUI"]
[null,"GE","EIC Lorraine Champagne Ardenne","Givet","OUI"]
[null,"GE","EIC Lorraine Champagne Ardenne","Gondrecourt-le-Château","OUI"]
[null,"GE","EIC Lorraine Champagne Ardenne","Gudmont","OUI"]
[null,"GE","EIC Lorraine Champagne Ardenne","Hagondange","OUI"]
[null,"GE","EIC Lorraine Champagne Ardenne","Hargarten-Falck","OUI"]
[null,"GE","EIC Lorraine Champagne Ardenne","Hayange","OUI"]
[null,"GE","EIC Lorraine Champagne Ardenne","Jarville-la-Malgrange","OUI"]
[null,"GE","EIC Lorraine Champagne Ardenne","Jessains","OUI"]
[null,"GE","EIC Lorraine Champagne Ardenne","Joinville","OUI"]
[null,"GE","EIC Lorraine Champagne Ardenne","Kalhausen","OUI"]
[null,"GE","EIC Lorraine Champagne Ardenne","Kédange","OUI"]
[null,"GE","EIC Lorraine Champagne Ardenne","Kuntzig","OUI"]
[null,"GE","EIC Lorraine Champagne Ardenne","Laferté-sur-Amance","OUI"]
[null,"GE","EIC Lorraine Champagne Ardenne","Lamarche","OUI"]
[null,"GE","EIC Lorraine Champagne Ardenne","Langres","OUI"]
[null,"GE","EIC Lorraine Champagne Ardenne","Lérouville","OUI"]
[null,"GE","EIC Lorraine Champagne Ardenne","Liart","OUI"]
[null,"GE","EIC Lorraine Champagne Ardenne","Liffol-le-Grand","OUI"]
[null,"GE","EIC Lorraine Champagne Ardenne","Ligny","OUI"]
[null,"GE","EIC Lorraine Champagne Ardenne","Longuyon","OUI"]
[null,"GE","EIC Lorraine Champagne Ardenne","Longwy","OUI"]
[null,"GE","EIC Lorraine Champagne Ardenne","Lumes","OUI"]
[null,"GE","EIC Lorraine Champagne Ardenne","Lunéville","OUI"]
[null,"GE","EIC Lorraine Champagne Ardenne","Mailly-le-Camp","OUI"]
[null,"GE","EIC Lorraine Champagne Ardenne","Manois","OUI"]
[null,"GE","EIC Lorraine Champagne Ardenne","Margut-Fromy","OUI"]
[null,"GE","EIC Lorraine Champagne Ardenne","Menaucourt","OUI"]
[null,"GE","EIC Lorraine Champagne Ardenne","Merrey","OUI"]
[null,"GE","EIC Lorraine Champagne Ardenne","Metz-devant-les-Ponts","OUI"]
[null,"GE","EIC Lorraine Champagne Ardenne","Metz-Nord","OUI"]
[null,"GE","EIC Lorraine Champagne Ardenne","Metz-Sablon","OUI"]
[null,"GE","EIC Lorraine Champagne Ardenne","Metz-Ville","OUI"]
[null,"GE","EIC Lorraine Champagne Ardenne","Mirecourt","OUI"]
[null,"GE","EIC Lorraine Champagne Ardenne","Mohon","OUI"]
[null,"GE","EIC Lorraine Champagne Ardenne","Monthermé","OUI"]
[null,"GE","EIC Lorraine Champagne Ardenne","Montiéramey","OUI"]
[null,"GE","EIC Lorraine Champagne Ardenne","Montmédy","OUI"]
[null,"GE","EIC Lorraine Champagne Ardenne","Mourmelon-le-Petit","OUI"]
[null,"GE","EIC Lorraine Champagne Ardenne","Mouzon","OUI"]
[null,"GE","EIC Lorraine Champagne Ardenne","Muizon","OUI"]
[null,"GE","EIC Lorraine Champagne Ardenne","Mussy-sur-Seine","OUI"]
[null,"GE","EIC Lorraine Champagne Ardenne","Nançois-Tronville","OUI"]
[null,"GE","EIC Lorraine Champagne Ardenne","Nancy-Ville","OUI"]
[null,"GE","EIC Lorraine Champagne Ardenne","Neufchâteau","OUI"]
[null,"GE","EIC Lorraine Champagne Ardenne","Nogent-sur-Seine","OUI"]
[null,"GE","EIC Lorraine Champagne Ardenne","Nouzonville","OUI"]
[null,"GE","EIC Lorraine Champagne Ardenne","Nuisement","OUI"]
[null,"GE","EIC Lorraine Champagne Ardenne","Oiry","OUI"]
[null,"GE","EIC Lorraine Champagne Ardenne","Onville","OUI"]
[null,"GE","EIC Lorraine Champagne Ardenne","Pagny-sur-Meuse","OUI"]
[null,"GE","EIC Lorraine Champagne Ardenne","Pagny-sur-Moselle","OUI"]
[null,"GE","EIC Lorraine Champagne Ardenne","Peltre","OUI"]
[null,"GE","EIC Lorraine Champagne Ardenne","Petit-Réderching","OUI"]
[null,"GE","EIC Lorraine Champagne Ardenne","Poix-Terron","OUI"]
[null,"GE","EIC Lorraine Champagne Ardenne","Polisot","OUI"]
[null,"GE","EIC Lorraine Champagne Ardenne","Pompey","OUI"]
[null,"GE","EIC Lorraine Champagne Ardenne","Pont-à-Mousson","OUI"]
[null,"GE","EIC Lorraine Champagne Ardenne","Pont-St-Vincent","OUI"]
[null,"GE","EIC Lorraine Champagne Ardenne","Rambucourt-Bouconville","OUI"]
[null,"GE","EIC Lorraine Champagne Ardenne","Raon-l'Étape","OUI"]
[null,"GE","EIC Lorraine Champagne Ardenne","Reims","OUI"]
[null,"GE","EIC Lorraine Champagne Ardenne","Rémilly","OUI"]
[null,"GE","EIC Lorraine Champagne Ardenne","Remiremont","OUI"]
[null,"GE","EIC Lorraine Champagne Ardenne","Rethel","OUI"]
[null,"GE","EIC Lorraine Champagne Ardenne","Revigny","OUI"]
[null,"GE","EIC Lorraine Champagne Ardenne","Revin","OUI"]
[null,"GE","EIC Lorraine Champagne Ardenne","Rilly-la-Montagne","OUI"]
[null,"GE","EIC Lorraine Champagne Ardenne","Rimaucourt","OUI"]
[null,"GE","EIC Lorraine Champagne Ardenne","Romilly-sur-Seine","OUI"]
[null,"GE","EIC Lorraine Champagne Ardenne","Sarralbe","OUI"]
[null,"GE","EIC Lorraine Champagne Ardenne","Sarreguemines","OUI"]
[null,"GE","EIC Lorraine Champagne Ardenne","Sedan","OUI"]
[null,"GE","EIC Lorraine Champagne Ardenne","Sézanne","OUI"]
[null,"GE","EIC Lorraine Champagne Ardenne","Sierck-les-Bains","OUI"]
[null,"GE","EIC Lorraine Champagne Ardenne","Sillery","OUI"]
[null,"GE","EIC Lorraine Champagne Ardenne","Sorcy","OUI"]
[null,"GE","EIC Lorraine Champagne Ardenne","St-Avold","OUI"]
[null,"GE","EIC Lorraine Champagne Ardenne","St-Dié-des-Vosges","OUI"]
[null,"GE","EIC Lorraine Champagne Ardenne","St-Dizier","OUI"]
[null,"GE","EIC Lorraine Champagne Ardenne","Ste-Menehould","OUI"]
[null,"GE","EIC Lorraine Champagne Ardenne","Stenay","OUI"]
[null,"GE","EIC Lorraine Champagne Ardenne","St-Hilaire-au-Temple","OUI"]
[null,"GE","EIC Lorraine Champagne Ardenne","St-Léonard","OUI"]
[null,"GE","EIC Lorraine Champagne Ardenne","St-Mesmin","OUI"]
[null,"GE","EIC Lorraine Champagne Ardenne","Suippes","OUI"]
[null,"GE","EIC Lorraine Champagne Ardenne","Thionville","OUI"]
[null,"GE","EIC Lorraine Champagne Ardenne","Toul","OUI"]
[null,"GE","EIC Lorraine Champagne Ardenne","Tournes","OUI"]
[null,"GE","EIC Lorraine Champagne Ardenne","Troyes","OUI"]
[null,"GE","EIC Lorraine Champagne Ardenne","Uckange","OUI"]
[null,"GE","EIC Lorraine Champagne Ardenne","Valmy","OUI"]
[null,"GE","EIC Lorraine Champagne Ardenne","Varangéville-St-Nicolas","OUI"]
[null,"GE","EIC Lorraine Champagne Ardenne","Vaux-sous-Aubigny","OUI"]
[null,"GE","EIC Lorraine Champagne Ardenne","Vendeuvre (Aube)","OUI"]
[null,"GE","EIC Lorraine Champagne Ardenne","Verdun","OUI"]
[null,"GE","EIC Lorraine Champagne Ardenne","Vézelise","OUI"]
[null,"GE","EIC Lorraine Champagne Ardenne","Vignory","OUI"]
[null,"GE","EIC Lorraine Champagne Ardenne","Ville-en-Vermois","NON"]
[null,"GE","EIC Lorraine Champagne Ardenne","Vincey","OUI"]
[null,"GE","EIC Lorraine Champagne Ardenne","Vireux-Molhain","OUI"]
[null,"GE","EIC Lorraine Champagne Ardenne","Vitry-la-Ville","OUI"]
[null,"GE","EIC Lorraine Champagne Ardenne","Vitry-le-François","OUI"]
[null,"GE","EIC Lorraine Champagne Ardenne","Vittel","OUI"]
[null,"GE","EIC Lorraine Champagne Ardenne","Woippy","OUI"]
[null,"GE","EIC Lorraine Champagne Ardenne","Xertigny","NON"]
[null,"HDF","EIC Hauts de France","Abancourt","OUI"]
[null,"HDF","EIC Hauts de France","Abbeville","OUI"]
[null,"HDF","EIC Hauts de France","Achiet","OUI"]
[null,"HDF","EIC Hauts de France","Ailly-sur-Noye","OUI"]
[null,"HDF","EIC Hauts de France","Aire-sur-la-Lys","NON"]
[null,"HDF","EIC Hauts de France","Albert","OUI"]
[null,"HDF","EIC Hauts de France","Amiens","OUI"]
[null,"HDF","EIC Hauts de France","Aniche","NON"]
[null,"HDF","EIC Hauts de France","Anor","OUI"]
[null,"HDF","EIC Hauts de France","Arleux","NON"]
[null,"HDF","EIC Hauts de France","Armentières","OUI"]
[null,"HDF","EIC Hauts de France","Arques (Pas-de-Calais)","OUI"]
[null,"HDF","EIC Hauts de France","Arras","OUI"]
[null,"HDF","EIC Hauts de France","Athies-sous-Laon","OUI"]
[null,"HDF","EIC Hauts de France","Attin-Garage","OUI"]
[null,"HDF","EIC Hauts de France","Aulnoye-Aymeries","OUI"]
[null,"HDF","EIC Hauts de France","Avesnes","NON"]
[null,"HDF","EIC Hauts de France","Bavay","NON"]
[null,"HDF","EIC Hauts de France","Berlaimont","OUI"]
[null,"HDF","EIC Hauts de France","Béthune","OUI"]
[null,"HDF","EIC Hauts de France","Beuvry (Pas-de-Calais)","OUI"]
[null,"HDF","EIC Hauts de France","Blanc-Misseron","OUI"]
[null,"HDF","EIC Hauts de France","Boisleux","OUI"]
[null,"HDF","EIC Hauts de France","Boulogne-Ville","OUI"]
[null,"HDF","EIC Hauts de France","Breteuil-Embranchement","NON"]
[null,"HDF","EIC Hauts de France","Breteuil-Ville","NON"]
[null,"HDF","EIC Hauts de France","Bully-Grenay","OUI"]
[null,"HDF","EIC Hauts de France","Busigny","OUI"]
[null,"HDF","EIC Hauts de France","Caffiers","OUI"]
[null,"HDF","EIC Hauts de France","Calais-Fréthun","OUI"]
[null,"HDF","EIC Hauts de France","Calais-Ville","OUI"]
[null,"HDF","EIC Hauts de France","Cambrai","OUI"]
[null,"HDF","EIC Hauts de France","Chaulnes","OUI"]
[null,"HDF","EIC Hauts de France","Chauny","OUI"]
[null,"HDF","EIC Hauts de France","Chivres-en-Laonnois","NON"]
[null,"HDF","EIC Hauts de France","Chocques","NON"]
[null,"HDF","EIC Hauts de France","Ciry-Sermoise","NON"]
[null,"HDF","EIC Hauts de France","Clermont-les-Fermes","NON"]
[null,"HDF","EIC Hauts de France","Conchil-le-Temple","NON"]
[null,"HDF","EIC Hauts de France","Corbehem","OUI"]
[null,"HDF","EIC Hauts de France","Corbie","NON"]
[null,"HDF","EIC Hauts de France","Coudekerque-Branche","OUI"]
[null,"HDF","EIC Hauts de France","Cousolre","NON"]
[null,"HDF","EIC Hauts de France","Crépy-Couvron","OUI"]
[null,"HDF","EIC Hauts de France","Crouy","NON"]
[null,"HDF","EIC Hauts de France","Dannes-Camiers","OUI"]
[null,"HDF","EIC Hauts de France","Daours","OUI"]
[null,"HDF","EIC Hauts de France","Dercy-Mortiers","OUI"]
[null,"HDF","EIC Hauts de France","Desvres","OUI"]
[null,"HDF","EIC Hauts de France","Don-Sainghin","OUI"]
[null,"HDF","EIC Hauts de France","Douai","OUI"]
[null,"HDF","EIC Hauts de France","Dourges","NON"]
[null,"HDF","EIC Hauts de France","Douzies","NON"]
[null,"HDF","EIC Hauts de France","Dunkerque","OUI"]
[null,"HDF","EIC Hauts de France","Ennetières-en-Weppes","NON"]
[null,"HDF","EIC Hauts de France","Épehy","NON"]
[null,"HDF","EIC Hauts de France","Estrées-St-Denis","OUI"]
[null,"HDF","EIC Hauts de France","ET Lille UPT Lens","OUI"]
[null,"HDF","EIC Hauts de France","ET Littoral UPT Fréthun (Calais)","OUI"]
[null,"HDF","EIC Hauts de France","Étaples-Le Touquet","OUI"]
[null,"HDF","EIC Hauts de France","Faisceau Port Fluvial","OUI"]
[null,"HDF","EIC Hauts de France","Faisceau Quai Est","NON"]
[null,"HDF","EIC Hauts de France","Ferrière-la-Grande","NON"]
[null,"HDF","EIC Hauts de France","Feuquières-Broquiers","NON"]
[null,"HDF","EIC Hauts de France","Flavy-le-Martel","NON"]
[null,"HDF","EIC Hauts de France","Fourmies","OUI"]
[null,"HDF","EIC Hauts de France","Fresnoy-le-Grand","NON"]
[null,"HDF","EIC Hauts de France","Garage Pair","NON"]
[null,"HDF","EIC Hauts de France","Grande-Synthe","OUI"]
[null,"HDF","EIC Hauts de France","Grandvilliers","OUI"]
[null,"HDF","EIC Hauts de France","Ham","OUI"]
[null,"HDF","EIC Hauts de France","Haubourdin","OUI"]
[null,"HDF","EIC Hauts de France","Hautmont","NON"]
[null,"HDF","EIC Hauts de France","Hazebrouck","OUI"]
[null,"HDF","EIC Hauts de France","Hénin-Beaumont","NON"]
[null,"HDF","EIC Hauts de France","Hesdin","NON"]
[null,"HDF","EIC Hauts de France","Hirson","OUI"]
[null,"HDF","EIC Hauts de France","Isbergues","OUI"]
[null,"HDF","EIC Hauts de France","Jeumont","OUI"]
[null,"HDF","EIC Hauts de France","La Madeleine","NON"]
[null,"HDF","EIC Hauts de France","Landrecies","NON"]
[null,"HDF","EIC Hauts de France","Laon","OUI"]
[null,"HDF","EIC Hauts de France","Le Cateau","NON"]
[null,"HDF","EIC Hauts de France","Le Quesnoy","NON"]
[null,"HDF","EIC Hauts de France","Le Tréport-Mers","NON"]
[null,"HDF","EIC Hauts de France","Leffrinckoucke","NON"]
[null,"HDF","EIC Hauts de France","Lens","OUI"]
[null,"HDF","EIC Hauts de France","Lesquin","NON"]
[null,"HDF","EIC Hauts de France","Libercourt","NON"]
[null,"HDF","EIC Hauts de France","Liesse-Gizy","NON"]
[null,"HDF","EIC Hauts de France","Lille-Champ-de-Mars","OUI"]
[null,"HDF","EIC Hauts de France","Lille-Délivrance","OUI"]
[null,"HDF","EIC Hauts de France","Lille-Flandres","OUI"]
[null,"HDF","EIC Hauts de France","Lillers","NON"]
[null,"HDF","EIC Hauts de France","Lille-St-Sauveur","OUI"]
[null,"HDF","EIC Hauts de France","Loison-sous-Lens","OUI"]
[null,"HDF","EIC Hauts de France","Lomme","NON"]
[null,"HDF","EIC Hauts de France","Longueau","OUI"]
[null,"HDF","EIC Hauts de France","Lourches","OUI"]
[null,"HDF","EIC Hauts de France","Lumbres","OUI"]
[null,"HDF","EIC Hauts de France","Marais-de-Lomme","OUI"]
[null,"HDF","EIC Hauts de France","Marck","NON"]
[null,"HDF","EIC Hauts de France","Marle-sur-Serre","OUI"]
[null,"HDF","EIC Hauts de France","Marquise-Rinxent","OUI"]
[null,"HDF","EIC Hauts de France","Maubeuge","OUI"]
[null,"HDF","EIC Hauts de France","Maulde-Mortagne","NON"]
[null,"HDF","EIC Hauts de France","Milly-sur-Thérain","NON"]
[null,"HDF","EIC Hauts de France","Montcornet","NON"]
[null,"HDF","EIC Hauts de France","Montdidier","OUI"]
[null,"HDF","EIC Hauts de France","Montescourt","OUI"]
[null,"HDF","EIC Hauts de France","Montières","OUI"]
[null,"HDF","EIC Hauts de France","Nesle","OUI"]
[null,"HDF","EIC Hauts de France","Noyelles-sur-Mer","OUI"]
[null,"HDF","EIC Hauts de France","Noyon","OUI"]
[null,"HDF","EIC Hauts de France","Onnaing","OUI"]
[null,"HDF","EIC Hauts de France","Orchies","OUI"]
[null,"HDF","EIC Hauts de France","Origny-Ste-Benoite","NON"]
[null,"HDF","EIC Hauts de France","Outreau","OUI"]
[null,"HDF","EIC Hauts de France","Petite-Synthe","OUI"]
[null,"HDF","EIC Hauts de France","Poix-de-Picardie","OUI"]
[null,"HDF","EIC Hauts de France","Pont-à-Vendin","NON"]
[null,"HDF","EIC Hauts de France","Pont-de-la-Deûle","NON"]
[null,"HDF","EIC Hauts de France","Prouvy-Thiant","OUI"]
[null,"HDF","EIC Hauts de France","Raismes","OUI"]
[null,"HDF","EIC Hauts de France","Recquignies","OUI"]
[null,"HDF","EIC Hauts de France","RESSONS Base Travaux LGV","NON"]
[null,"HDF","EIC Hauts de France","Ronchin","NON"]
[null,"HDF","EIC Hauts de France","Roubaix","NON"]
[null,"HDF","EIC Hauts de France","Roye (Somme)","NON"]
[null,"HDF","EIC Hauts de France","Saleux","OUI"]
[null,"HDF","EIC Hauts de France","Santes","OUI"]
[null,"HDF","EIC Hauts de France","Seclin","NON"]
[null,"HDF","EIC Hauts de France","Sequedin","OUI"]
[null,"HDF","EIC Hauts de France","Sin-le-Noble","OUI"]
[null,"HDF","EIC Hauts de France","Soissons","OUI"]
[null,"HDF","EIC Hauts de France","Somain","OUI"]
[null,"HDF","EIC Hauts de France","St-Omer","OUI"]
[null,"HDF","EIC Hauts de France","St-Pol-sur-Ternoise","OUI"]
[null,"HDF","EIC Hauts de France","St-Quentin","OUI"]
[null,"HDF","EIC Hauts de France","Tergnier","OUI"]
[null,"HDF","EIC Hauts de France","TERRADE","NON"]
[null,"HDF","EIC Hauts de France","Tourcoing","OUI"]
[null,"HDF","EIC Hauts de France","Trith-St-Léger","OUI"]
[null,"HDF","EIC Hauts de France","Valenciennes","OUI"]
[null,"HDF","EIC Hauts de France","Venizel","NON"]
[null,"HDF","EIC Hauts de France","Vierzy","OUI"]
[null,"HDF","EIC Hauts de France","Villers-Cotterêts","OUI"]
[null,"HDF","EIC Hauts de France","Wizernes","NON"]
[null,"HDF","EIC Hauts de France","Zone Industrielle Soissons St-Paul","OUI"]
[null,"HDF","EIC Lorraine Champagne Ardenne","Fère-en-Tardenois","OUI"]
[null,"HDF","EIC Lorraine Champagne Ardenne","Guignicourt","OUI"]
[null,"HDF","EIC Lorraine Champagne Ardenne","Mézy","OUI"]
[null,"HDF","EIC Lorraine Champagne Ardenne","Mont-Notre-Dame","OUI"]
[null,"HDF","EIC Lorraine Champagne Ardenne","Neuilly-St-Front","OUI"]
[null,"HDF","EIC Lorraine Champagne Ardenne","Oulchy-Breny","OUI"]
[null,"HDF","EIC Lorraine Champagne Ardenne","St-Erme","OUI"]
[null,"HDF","EIC Paris Est Ouest Francilien","Château-Thierry","OUI"]
[null,"HDF","EIC Paris Est Ouest Francilien","La Ferté-Milon","OUI"]
[null,"HDF","EIC Paris Est Ouest Francilien","Nogent-l'Artaud-Charly","NON"]
[null,"HDF","EIC Paris Nord","Bailleul-sur-Thérain","NON"]
[null,"HDF","EIC Paris Nord","Beauvais","OUI"]
[null,"HDF","EIC Paris Nord","Bresles","OUI"]
[null,"HDF","EIC Paris Nord","Breuil-le-Sec","NON"]
[null,"HDF","EIC Paris Nord","Chevrières","NON"]
[null,"HDF","EIC Paris Nord","Clermont-de-l'Oise","OUI"]
[null,"HDF","EIC Paris Nord","Compiègne","OUI"]
[null,"HDF","EIC Paris Nord","Creil","OUI"]
[null,"HDF","EIC Paris Nord","Crépy-en-Valois","OUI"]
[null,"HDF","EIC Paris Nord","Gannes","NON"]
[null,"HDF","EIC Paris Nord","Lamotte-Breuil","OUI"]
[null,"HDF","EIC Paris Nord","Le Petit-Thérain","OUI"]
[null,"HDF","EIC Paris Nord","Le Plessis-Belleville","OUI"]
[null,"HDF","EIC Paris Nord","Liancourt-Rantigny","NON"]
[null,"HDF","EIC Paris Nord","Longueil-Ste-Marie","OUI"]
[null,"HDF","EIC Paris Nord","Méru","NON"]
[null,"HDF","EIC Paris Nord","Moulin-Neuf (Oise)","NON"]
[null,"HDF","EIC Paris Nord","Nanteuil-le-Haudouin","OUI"]
[null,"HDF","EIC Paris Nord","Ormoy-Villers","OUI"]
[null,"HDF","EIC Paris Nord","Orry-la-Ville-Coye","OUI"]
[null,"HDF","EIC Paris Nord","Pont-Ste-Maxence","NON"]
[null,"HDF","EIC Paris Nord","Rémy","NON"]
[null,"HDF","EIC Paris Nord","Rethondes","NON"]
[null,"HDF","EIC Paris Nord","Ribécourt","OUI"]
[null,"HDF","EIC Paris Nord","Rochy-Condé","OUI"]
[null,"HDF","EIC Paris Nord","St-Just-en-Chaussée","NON"]
[null,"HDF","EIC Paris Nord","Thourotte","OUI"]
[null,"HDF","EIC Paris Nord","Vaumoise","NON"]
[null,"HDF","EIC Paris Nord","Verberie","NON"]
[null,"IDF","EIC Bourgogne Franche Comté","SATEBA","OUI"]
[null,"IDF","EIC Paris Est Ouest Francilien","Achères-Grand-Cormier","OUI"]
[null,"IDF","EIC Paris Est Ouest Francilien","Achères-Ville","OUI"]
[null,"IDF","EIC Paris Est Ouest Francilien","Argenteuil GC","OUI"]
[null,"IDF","EIC Paris Est Ouest Francilien","Bécon-les-Bruyères","OUI"]
[null,"IDF","EIC Paris Est Ouest Francilien","Bois-Colombes","OUI"]
[null,"IDF","EIC Paris Est Ouest Francilien","Cergy-le-Haut","OUI"]
[null,"IDF","EIC Paris Est Ouest Francilien","Cergy-St-Christophe","OUI"]
[null,"IDF","EIC Paris Est Ouest Francilien","Chailly-Boissy-Le Châtel","OUI"]
[null,"IDF","EIC Paris Est Ouest Francilien","Changis-St-Jean","OUI"]
[null,"IDF","EIC Paris Est Ouest Francilien","Conflans-Fin-d'Oise","OUI"]
[null,"IDF","EIC Paris Est Ouest Francilien","Conflans-Ste-Honorine","OUI"]
[null,"IDF","EIC Paris Est Ouest Francilien","Cormeilles-en-Parisis","OUI"]
[null,"IDF","EIC Paris Est Ouest Francilien","Coulommiers","OUI"]
[null,"IDF","EIC Paris Est Ouest Francilien","Émerainville-Pontault-Combault","OUI"]
[null,"IDF","EIC Paris Est Ouest Francilien","Épône-Mézières","OUI"]
[null,"IDF","EIC Paris Est Ouest Francilien","Flamboin-Gouaix","OUI"]
[null,"IDF","EIC Paris Est Ouest Francilien","Gagny","OUI"]
[null,"IDF","EIC Paris Est Ouest Francilien","Garches-Marnes-la-Coquette","OUI"]
[null,"IDF","EIC Paris Est Ouest Francilien","Gargenville","OUI"]
[null,"IDF","EIC Paris Est Ouest Francilien","Grandpuits","OUI"]
[null,"IDF","EIC Paris Est Ouest Francilien","Grandpuits-Bagneux","OUI"]
[null,"IDF","EIC Paris Est Ouest Francilien","Gretz-Armainvilliers","OUI"]
[null,"IDF","EIC Paris Est Ouest Francilien","Isles-Armentières","OUI"]
[null,"IDF","EIC Paris Est Ouest Francilien","La Défense","OUI"]
[null,"IDF","EIC Paris Est Ouest Francilien","La Ferté-Gaucher","OUI"]
[null,"IDF","EIC Paris Est Ouest Francilien","La Ferté-sous-Jouarre","OUI"]
[null,"IDF","EIC Paris Est Ouest Francilien","La Garenne-Colombes","OUI"]
[null,"IDF","EIC Paris Est Ouest Francilien","Lagny-Thorigny","OUI"]
[null,"IDF","EIC Paris Est Ouest Francilien","Léchelle (Seine-et-Marne)","OUI"]
[null,"IDF","EIC Paris Est Ouest Francilien","Les Mureaux","OUI"]
[null,"IDF","EIC Paris Est Ouest Francilien","Les Portes de St-Cyr","OUI"]
[null,"IDF","EIC Paris Est Ouest Francilien","Limay","OUI"]
[null,"IDF","EIC Paris Est Ouest Francilien","Lizy-sur-Ourcq","OUI"]
[null,"IDF","EIC Paris Est Ouest Francilien","Longueville","OUI"]
[null,"IDF","EIC Paris Est Ouest Francilien","Maison-Rouge-en-Brie","OUI"]
[null,"IDF","EIC Paris Est Ouest Francilien","Mantes-la-Jolie","OUI"]
[null,"IDF","EIC Paris Est Ouest Francilien","Marles-en-Brie","OUI"]
[null,"IDF","EIC Paris Est Ouest Francilien","Marly-le-Roi","OUI"]
[null,"IDF","EIC Paris Est Ouest Francilien","Meaux","OUI"]
[null,"IDF","EIC Paris Est Ouest Francilien","Meulan-Hardricourt","OUI"]
[null,"IDF","EIC Paris Est Ouest Francilien","Mortcerf","OUI"]
[null,"IDF","EIC Paris Est Ouest Francilien","Nangis","OUI"]
[null,"IDF","EIC Paris Est Ouest Francilien","Nanterre La Folie","OUI"]
[null,"IDF","EIC Paris Est Ouest Francilien","Nanteuil-Saâcy","OUI"]
[null,"IDF","EIC Paris Est Ouest Francilien","Nogent-Le Perreux","OUI"]
[null,"IDF","EIC Paris Est Ouest Francilien","Noisy-le-Sec","OUI"]
[null,"IDF","EIC Paris Est Ouest Francilien","Pantin","OUI"]
[null,"IDF","EIC Paris Est Ouest Francilien","Paris-Batignolles","OUI"]
[null,"IDF","EIC Paris Est Ouest Francilien","Paris-Est","OUI"]
[null,"IDF","EIC Paris Est Ouest Francilien","Paris-St-Lazare","OUI"]
[null,"IDF","EIC Paris Est Ouest Francilien","Poissy","OUI"]
[null,"IDF","EIC Paris Est Ouest Francilien","Pont-Cardinet","OUI"]
[null,"IDF","EIC Paris Est Ouest Francilien","Provins","OUI"]
[null,"IDF","EIC Paris Est Ouest Francilien","RNUR Accès Est","OUI"]
[null,"IDF","EIC Paris Est Ouest Francilien","RNUR Accès Ouest","NON"]
[null,"IDF","EIC Paris Est Ouest Francilien","Rosny-sous-Bois","OUI"]
[null,"IDF","EIC Paris Est Ouest Francilien","Rosny-sur-Seine","OUI"]
[null,"IDF","EIC Paris Est Ouest Francilien","Sartrouville","OUI"]
[null,"IDF","EIC Paris Est Ouest Francilien","St-Cloud","OUI"]
[null,"IDF","EIC Paris Est Ouest Francilien","St-Germain-en-Laye-Grande-Ceinture","OUI"]
[null,"IDF","EIC Paris Est Ouest Francilien","St-Nom-la-Bretêche-Forêt-de-Marly","OUI"]
[null,"IDF","EIC Paris Est Ouest Francilien","Technicentre Paris -Est","OUI"]
[null,"IDF","EIC Paris Est Ouest Francilien","Tournan","OUI"]
[null,"IDF","EIC Paris Est Ouest Francilien","Trilport","OUI"]
[null,"IDF","EIC Paris Est Ouest Francilien","Vaires-Torcy","OUI"]
[null,"IDF","EIC Paris Est Ouest Francilien","Verneuil-l'Étang","OUI"]
[null,"IDF","EIC Paris Est Ouest Francilien","Vernouillet-Verneuil","OUI"]
[null,"IDF","EIC Paris Est Ouest Francilien","Versailles-Rive-Droite","OUI"]
[null,"IDF","EIC Paris Est Ouest Francilien","Villiers-St-Georges","OUI"]
[null,"IDF","EIC Paris Est Ouest Francilien","Villiers-sur-Marne-Le Plessis-Trévise","OUI"]
[null,"IDF","EIC Paris Nord","Aulnay-sous-Bois","OUI"]
[null,"IDF","EIC Paris Nord","Bernes","OUI"]
[null,"IDF","EIC Paris Nord","Bobigny","OUI"]
[null,"IDF","EIC Paris Nord","Bruyères-sur-Oise","OUI"]
[null,"IDF","EIC Paris Nord","Bry-sur-Marne","OUI"]
[null,"IDF","EIC Paris Nord","Dammartin-Juilly-St-Mard","OUI"]
[null,"IDF","EIC Paris Nord","Épinay-Villetaneuse","OUI"]
[null,"IDF","EIC Paris Nord","Épluches","OUI"]
[null,"IDF","EIC Paris Nord","Ermont-Eaubonne","OUI"]
[null,"IDF","EIC Paris Nord","Ex EMT de La Plaine","OUI"]
[null,"IDF","EIC Paris Nord","Goussainville","OUI"]
[null,"IDF","EIC Paris Nord","JABLINES LGV","OUI"]
[null,"IDF","EIC Paris Nord","Le Bourget","OUI"]
[null,"IDF","EIC Paris Nord","Le Raincy-Villemomble-Montfermeil","OUI"]
[null,"IDF","EIC Paris Nord","Mitry-Claye","OUI"]
[null,"IDF","EIC Paris Nord","Montigny-Beauchamp","OUI"]
[null,"IDF","EIC Paris Nord","Montsoult-Maffliers","OUI"]
[null,"IDF","EIC Paris Nord","Neuilly-sur-Marne","OUI"]
[null,"IDF","EIC Paris Nord","Parc-des-Expositions","OUI"]
[null,"IDF","EIC Paris Nord","Paris-La Chapelle","OUI"]
[null,"IDF","EIC Paris Nord","Paris-La Chapelle-Évangile","OUI"]
[null,"IDF","EIC Paris Nord","Paris-Nord","OUI"]
[null,"IDF","EIC Paris Nord","Persan-Beaumont","OUI"]
[null,"IDF","EIC Paris Nord","Pontoise","OUI"]
[null,"IDF","EIC Paris Nord","Stains","OUI"]
[null,"IDF","EIC Paris Nord","St-Denis","OUI"]
[null,"IDF","EIC Paris Nord","St-Leu-la-Forêt","OUI"]
[null,"IDF","EIC Paris Nord","St-Ouen","OUI"]
[null,"IDF","EIC Paris Nord","St-Ouen-les-Docks","OUI"]
[null,"IDF","EIC Paris Nord","Survilliers-Fosses","OUI"]
[null,"IDF","EIC Paris Nord","Valmondois","OUI"]
[null,"IDF","EIC Paris Nord","Villeparisis","OUI"]
[null,"IDF","EIC Paris Sud Est","Bourron-Marlotte-Grez","OUI"]
[null,"IDF","EIC Paris Sud Est","CHEVRY COSSIGNY LGV","OUI"]
[null,"IDF","EIC Paris Sud Est","Combs-la-Ville-Quincy","OUI"]
[null,"IDF","EIC Paris Sud Est","Corbeil-Essonnes","OUI"]
[null,"IDF","EIC Paris Sud Est","Héricy","OUI"]
[null,"IDF","EIC Paris Sud Est","La Chapelle-la-Reine","OUI"]
[null,"IDF","EIC Paris Sud Est","La Ferté-Alais","OUI"]
[null,"IDF","EIC Paris Sud Est","Le Vert-de-Maisons","OUI"]
[null,"IDF","EIC Paris Sud Est","Lieusaint-Moissy","OUI"]
[null,"IDF","EIC Paris Sud Est","Maisse","OUI"]
[null,"IDF","EIC Paris Sud Est","Marne-la-Vallée-Chessy","OUI"]
[null,"IDF","EIC Paris Sud Est","MAROLLES Faisceau Impair V13 à V15","OUI"]
[null,"IDF","EIC Paris Sud Est","MAROLLES Faisceau Impair V5 à V9","OUI"]
[null,"IDF","EIC Paris Sud Est","Melun","OUI"]
[null,"IDF","EIC Paris Sud Est","Montereau","OUI"]
[null,"IDF","EIC Paris Sud Est","Moret-Veneux-les-Sablons","OUI"]
[null,"IDF","EIC Paris Sud Est","Nemours-St-Pierre","OUI"]
[null,"IDF","EIC Paris Sud Est","Paris-Bercy","OUI"]
[null,"IDF","EIC Paris Sud Est","Paris-Bercy-Charolais","OUI"]
[null,"IDF","EIC Paris Sud Est","Paris-Bercy-Conflans","OUI"]
[null,"IDF","EIC Paris Sud Est","Paris-Gare-de-Lyon","OUI"]
[null,"IDF","EIC Paris Sud Est","Ris-Orangis","OUI"]
[null,"IDF","EIC Paris Sud Est","SOLERS LGV","OUI"]
[null,"IDF","EIC Paris Sud Est","Souppes-Château-Landon","OUI"]
[null,"IDF","EIC Paris Sud Est","Souvans","NON"]
[null,"IDF","EIC Paris Sud Est","St-Mammès","OUI"]
[null,"IDF","EIC Paris Sud Est","Sucy-Bonneuil","OUI"]
[null,"IDF","EIC Paris Sud Est","Valenton","OUI"]
[null,"IDF","EIC Paris Sud Est","Vernou-sur-Seine","OUI"]
[null,"IDF","EIC Paris Sud Est","Villeneuve-St-Georges","OUI"]
[null,"IDF","EIC Paris Sud Est","Villeneuve-Triage","OUI"]
[null,"IDF","EIC Paris Sud Ouest","Angerville","OUI"]
[null,"IDF","EIC Paris Sud Ouest","Brétigny","OUI"]
[null,"IDF","EIC Paris Sud Ouest","Choisy-le-Roi","OUI"]
[null,"IDF","EIC Paris Sud Ouest","Clamart","OUI"]
[null,"IDF","EIC Paris Sud Ouest","Dourdan","OUI"]
[null,"IDF","EIC Paris Sud Ouest","EMT Paris-Sud-Ouest UPT Banlieue Brétigny","OUI"]
[null,"IDF","EIC Paris Sud Ouest","EMT Paris-Sud-Ouest UPT GL Austerlitz","OUI"]
[null,"IDF","EIC Paris Sud Ouest","Étampes","OUI"]
[null,"IDF","EIC Paris Sud Ouest","Gennevilliers","OUI"]
[null,"IDF","EIC Paris Sud Ouest","Issy-Val-de-Seine","OUI"]
[null,"IDF","EIC Paris Sud Ouest","Ivry-sur-Seine","OUI"]
[null,"IDF","EIC Paris Sud Ouest","Juvisy","OUI"]
[null,"IDF","EIC Paris Sud Ouest","Longjumeau","NON"]
[null,"IDF","EIC Paris Sud Ouest","Marolles-en-Hurepoix","OUI"]
[null,"IDF","EIC Paris Sud Ouest","Massy-Palaiseau","OUI"]
[null,"IDF","EIC Paris Sud Ouest","Montfort-l'Amaury-Mère","OUI"]
[null,"IDF","EIC Paris Sud Ouest","Montrouge-Châtillon","OUI"]
[null,"IDF","EIC Paris Sud Ouest","Musée-d'Orsay","OUI"]
[null,"IDF","EIC Paris Sud Ouest","Orly-Ville","OUI"]
[null,"IDF","EIC Paris Sud Ouest","Paris-Austerlitz","OUI"]
[null,"IDF","EIC Paris Sud Ouest","Paris-Tolbiac","OUI"]
[null,"IDF","EIC Paris Sud Ouest","Paris-Vaugirard","OUI"]
[null,"IDF","EIC Paris Sud Ouest","Plaisir-Grignon","OUI"]
[null,"IDF","EIC Paris Sud Ouest","Rambouillet","OUI"]
[null,"IDF","EIC Paris Sud Ouest","Rungis-la-Fraternelle","OUI"]
[null,"IDF","EIC Paris Sud Ouest","Sèvres-Rive-Gauche","OUI"]
[null,"IDF","EIC Paris Sud Ouest","St-Cyr","OUI"]
[null,"IDF","EIC Paris Sud Ouest","St-Quentin-en-Yvelines","OUI"]
[null,"IDF","EIC Paris Sud Ouest","Technicentre de Paris-Rive-Gauche","OUI"]
[null,"IDF","EIC Paris Sud Ouest","Trappes-Marchandises","OUI"]
[null,"IDF","EIC Paris Sud Ouest","UPM Ivry- Masséna (Technicentre PRG)","OUI"]
[null,"IDF","EIC Paris Sud Ouest","Versailles-Chantiers","OUI"]
[null,"IDF","EIC Paris Sud Ouest","Versailles-Matelots","OUI"]
[null,"IDF","EIC Paris Sud Ouest","Versailles-Rive-Gauche","OUI"]
[null,"IDF","EIC Paris Sud Ouest","Villeneuve-le-Roi","OUI"]
[null,"IDF","EIC Paris Sud Ouest","Vitry-sur-Seine","OUI"]
[null,"NA","EIC Aquitaine Poitou Charentes","Agen","OUI"]
[null,"NA","EIC Aquitaine Poitou Charentes","Agonac","OUI"]
[null,"NA","EIC Aquitaine Poitou Charentes","Aiffres","OUI"]
[null,"NA","EIC Aquitaine Poitou Charentes","Aigrefeuille-Le Thou","NON"]
[null,"NA","EIC Aquitaine Poitou Charentes","Aire-sur-l'Adour","NON"]
[null,"NA","EIC Aquitaine Poitou Charentes","Angoulême","OUI"]
[null,"NA","EIC Aquitaine Poitou Charentes","Arcachon","OUI"]
[null,"NA","EIC Aquitaine Poitou Charentes","Artix","OUI"]
[null,"NA","EIC Aquitaine Poitou Charentes","Ayron-Latillé","OUI"]
[null,"NA","EIC Aquitaine Poitou Charentes","Aytré","OUI"]
[null,"NA","EIC Aquitaine Poitou Charentes","Base maintenance de Clerac","OUI"]
[null,"NA","EIC Aquitaine Poitou Charentes","Base maintenance de Poitiers","OUI"]
[null,"NA","EIC Aquitaine Poitou Charentes","Base maintenance de Villognon","OUI"]
[null,"NA","EIC Aquitaine Poitou Charentes","Bassens","OUI"]
[null,"NA","EIC Aquitaine Poitou Charentes","Bassens-Appontements","OUI"]
[null,"NA","EIC Aquitaine Poitou Charentes","Bayonne","OUI"]
[null,"NA","EIC Aquitaine Poitou Charentes","Beautiran","OUI"]
[null,"NA","EIC Aquitaine Poitou Charentes","Bedous","OUI"]
[null,"NA","EIC Aquitaine Poitou Charentes","Bègles","NON"]
[null,"NA","EIC Aquitaine Poitou Charentes","Beillant","OUI"]
[null,"NA","EIC Aquitaine Poitou Charentes","Bergerac","OUI"]
[null,"NA","EIC Aquitaine Poitou Charentes","Biarritz","OUI"]
[null,"NA","EIC Aquitaine Poitou Charentes","BICBO","OUI"]
[null,"NA","EIC Aquitaine Poitou Charentes","Blanquefort","NON"]
[null,"NA","EIC Aquitaine Poitou Charentes","Blaye","NON"]
[null,"NA","EIC Aquitaine Poitou Charentes","Bon-Encontre","NON"]
[null,"NA","EIC Aquitaine Poitou Charentes","Bordeaux-Bastide","OUI"]
[null,"NA","EIC Aquitaine Poitou Charentes","Bordeaux-Hourcade","OUI"]
[null,"NA","EIC Aquitaine Poitou Charentes","Bordeaux-St-Jean","OUI"]
[null,"NA","EIC Aquitaine Poitou Charentes","Bruges","OUI"]
[null,"NA","EIC Aquitaine Poitou Charentes","Castillon","OUI"]
[null,"NA","EIC Aquitaine Poitou Charentes","Chabanais","NON"]
[null,"NA","EIC Aquitaine Poitou Charentes","Chalandray","OUI"]
[null,"NA","EIC Aquitaine Poitou Charentes","Charmant","OUI"]
[null,"NA","EIC Aquitaine Poitou Charentes","Chasseneuil (Vienne)","OUI"]
[null,"NA","EIC Aquitaine Poitou Charentes","Château-l'Évêque","OUI"]
[null,"NA","EIC Aquitaine Poitou Charentes","Châteauneuf-sur-Charente","OUI"]
[null,"NA","EIC Aquitaine Poitou Charentes","Châtellerault","OUI"]
[null,"NA","EIC Aquitaine Poitou Charentes","Civaux","OUI"]
[null,"NA","EIC Aquitaine Poitou Charentes","Clérac-Charente","NON"]
[null,"NA","EIC Aquitaine Poitou Charentes","Cognac","OUI"]
[null,"NA","EIC Aquitaine Poitou Charentes","Condat-le-Lardin","OUI"]
[null,"NA","EIC Aquitaine Poitou Charentes","Couhé-Vérac","OUI"]
[null,"NA","EIC Aquitaine Poitou Charentes","Coulombiers","OUI"]
[null,"NA","EIC Aquitaine Poitou Charentes","Coutras","OUI"]
[null,"NA","EIC Aquitaine Poitou Charentes","Dax","OUI"]
[null,"NA","EIC Aquitaine Poitou Charentes","ET Bordeaux UPT Thermique Résid T Périgueux","OUI"]
[null,"NA","EIC Aquitaine Poitou Charentes","Exideuil-sur-Vienne","NON"]
[null,"NA","EIC Aquitaine Poitou Charentes","Facture-Biganos","OUI"]
[null,"NA","EIC Aquitaine Poitou Charentes","Gazinet-Cestas","OUI"]
[null,"NA","EIC Aquitaine Poitou Charentes","Grand-Pont-Preuilly","OUI"]
[null,"NA","EIC Aquitaine Poitou Charentes","Hagetmau","NON"]
[null,"NA","EIC Aquitaine Poitou Charentes","Hendaye","OUI"]
[null,"NA","EIC Aquitaine Poitou Charentes","Ingrandes-sur-Vienne","OUI"]
[null,"NA","EIC Aquitaine Poitou Charentes","Jardres","OUI"]
[null,"NA","EIC Aquitaine Poitou Charentes","Jonzac","OUI"]
[null,"NA","EIC Aquitaine Poitou Charentes","La Coquille","OUI"]
[null,"NA","EIC Aquitaine Poitou Charentes","La Couronne","OUI"]
[null,"NA","EIC Aquitaine Poitou Charentes","La Crèche","OUI"]
[null,"NA","EIC Aquitaine Poitou Charentes","La Gélie","OUI"]
[null,"NA","EIC Aquitaine Poitou Charentes","La Mothe-St-Héray","OUI"]
[null,"NA","EIC Aquitaine Poitou Charentes","La Réole","NON"]
[null,"NA","EIC Aquitaine Poitou Charentes","La Rochefoucauld","NON"]
[null,"NA","EIC Aquitaine Poitou Charentes","La Rochelle-Ville","OUI"]
[null,"NA","EIC Aquitaine Poitou Charentes","La Teste","OUI"]
[null,"NA","EIC Aquitaine Poitou Charentes","La Tricherie","OUI"]
[null,"NA","EIC Aquitaine Poitou Charentes","la vache bonnaous","OUI"]
[null,"NA","EIC Aquitaine Poitou Charentes","Labouheyre","OUI"]
[null,"NA","EIC Aquitaine Poitou Charentes","Lacq","OUI"]
[null,"NA","EIC Aquitaine Poitou Charentes","Lalinde","OUI"]
[null,"NA","EIC Aquitaine Poitou Charentes","Laluque","OUI"]
[null,"NA","EIC Aquitaine Poitou Charentes","Langon","OUI"]
[null,"NA","EIC Aquitaine Poitou Charentes","Lasserre","NON"]
[null,"NA","EIC Aquitaine Poitou Charentes","Lavardac","NON"]
[null,"NA","EIC Aquitaine Poitou Charentes","Layrac","NON"]
[null,"NA","EIC Aquitaine Poitou Charentes","Le Boucau","OUI"]
[null,"NA","EIC Aquitaine Poitou Charentes","Le Bugue","OUI"]
[null,"NA","EIC Aquitaine Poitou Charentes","Le Buisson","OUI"]
[null,"NA","EIC Aquitaine Poitou Charentes","Le Douhet-Écoyeux","NON"]
[null,"NA","EIC Aquitaine Poitou Charentes","Le Got","OUI"]
[null,"NA","EIC Aquitaine Poitou Charentes","Le Verdon","OUI"]
[null,"NA","EIC Aquitaine Poitou Charentes","Les Eyzies","OUI"]
[null,"NA","EIC Aquitaine Poitou Charentes","Les Ormes-sur-Vienne","OUI"]
[null,"NA","EIC Aquitaine Poitou Charentes","Lescar","OUI"]
[null,"NA","EIC Aquitaine Poitou Charentes","Lesparre","OUI"]
[null,"NA","EIC Aquitaine Poitou Charentes","Libourne","OUI"]
[null,"NA","EIC Aquitaine Poitou Charentes","Lusignan","OUI"]
[null,"NA","EIC Aquitaine Poitou Charentes","Lussac-les-Châteaux","OUI"]
[null,"NA","EIC Aquitaine Poitou Charentes","Luxé","OUI"]
[null,"NA","EIC Aquitaine Poitou Charentes","Marans","OUI"]
[null,"NA","EIC Aquitaine Poitou Charentes","Marcheprime","NON"]
[null,"NA","EIC Aquitaine Poitou Charentes","Margaux","OUI"]
[null,"NA","EIC Aquitaine Poitou Charentes","Marmande","OUI"]
[null,"NA","EIC Aquitaine Poitou Charentes","Marracq","OUI"]
[null,"NA","EIC Aquitaine Poitou Charentes","Mauzé","OUI"]
[null,"NA","EIC Aquitaine Poitou Charentes","Mazières-Verruyes","OUI"]
[null,"NA","EIC Aquitaine Poitou Charentes","Mignaloux-Nouaillé","OUI"]
[null,"NA","EIC Aquitaine Poitou Charentes","Monsempron-Libos","OUI"]
[null,"NA","EIC Aquitaine Poitou Charentes","Mont-de-Marsan","OUI"]
[null,"NA","EIC Aquitaine Poitou Charentes","Montendre","OUI"]
[null,"NA","EIC Aquitaine Poitou Charentes","Montmoreau","OUI"]
[null,"NA","EIC Aquitaine Poitou Charentes","Montmorillon","OUI"]
[null,"NA","EIC Aquitaine Poitou Charentes","Montpon-Ménestérol","OUI"]
[null,"NA","EIC Aquitaine Poitou Charentes","Morcenx","OUI"]
[null,"NA","EIC Aquitaine Poitou Charentes","Mussidan","OUI"]
[null,"NA","EIC Aquitaine Poitou Charentes","Naintré-les-Barres","OUI"]
[null,"NA","EIC Aquitaine Poitou Charentes","Nérac","NON"]
[null,"NA","EIC Aquitaine Poitou Charentes","Niort","OUI"]
[null,"NA","EIC Aquitaine Poitou Charentes","Niversac","OUI"]
[null,"NA","EIC Aquitaine Poitou Charentes","Oloron-Ste-Marie","OUI"]
[null,"NA","EIC Aquitaine Poitou Charentes","Pamproux","OUI"]
[null,"NA","EIC Aquitaine Poitou Charentes","Parcoul-Médillac","OUI"]
[null,"NA","EIC Aquitaine Poitou Charentes","Parthenay","OUI"]
[null,"NA","EIC Aquitaine Poitou Charentes","Pau","OUI"]
[null,"NA","EIC Aquitaine Poitou Charentes","Pauillac","OUI"]
[null,"NA","EIC Aquitaine Poitou Charentes","Penne","OUI"]
[null,"NA","EIC Aquitaine Poitou Charentes","Périgueux","OUI"]
[null,"NA","EIC Aquitaine Poitou Charentes","Peyrehorade","OUI"]
[null,"NA","EIC Aquitaine Poitou Charentes","Pointe-de-Grave","OUI"]
[null,"NA","EIC Aquitaine Poitou Charentes","Poitiers","OUI"]
[null,"NA","EIC Aquitaine Poitou Charentes","Pons","OUI"]
[null,"NA","EIC Aquitaine Poitou Charentes","Port-Ste-Marie","OUI"]
[null,"NA","EIC Aquitaine Poitou Charentes","Puyoô","OUI"]
[null,"NA","EIC Aquitaine Poitou Charentes","Rion-des-Landes","OUI"]
[null,"NA","EIC Aquitaine Poitou Charentes","Rochefort","OUI"]
[null,"NA","EIC Aquitaine Poitou Charentes","Roquefort (Landes)","NON"]
[null,"NA","EIC Aquitaine Poitou Charentes","Roumazières-Loubert","NON"]
[null,"NA","EIC Aquitaine Poitou Charentes","Royan","OUI"]
[null,"NA","EIC Aquitaine Poitou Charentes","Ruelle","NON"]
[null,"NA","EIC Aquitaine Poitou Charentes","Ruffec","OUI"]
[null,"NA","EIC Aquitaine Poitou Charentes","Saintes","OUI"]
[null,"NA","EIC Aquitaine Poitou Charentes","Sarlat","OUI"]
[null,"NA","EIC Aquitaine Poitou Charentes","Saujon","OUI"]
[null,"NA","EIC Aquitaine Poitou Charentes","Sireuil","OUI"]
[null,"NA","EIC Aquitaine Poitou Charentes","Solférino","OUI"]
[null,"NA","EIC Aquitaine Poitou Charentes","St-Aigulin-La Roche-Chalais","OUI"]
[null,"NA","EIC Aquitaine Poitou Charentes","St-André-de-Cubzac","OUI"]
[null,"NA","EIC Aquitaine Poitou Charentes","St-Avit","NON"]
[null,"NA","EIC Aquitaine Poitou Charentes","St-Cyprien-en-Dordogne","OUI"]
[null,"NA","EIC Aquitaine Poitou Charentes","Ste-Eulalie-Carbon-Blanc","OUI"]
[null,"NA","EIC Aquitaine Poitou Charentes","Ste-Foy-la-Grande","OUI"]
[null,"NA","EIC Aquitaine Poitou Charentes","St-Jean-d'Angély","OUI"]
[null,"NA","EIC Aquitaine Poitou Charentes","St-Jean-Pied-de-Port","OUI"]
[null,"NA","EIC Aquitaine Poitou Charentes","St-Maixent-l'Ecole","OUI"]
[null,"NA","EIC Aquitaine Poitou Charentes","St-Mariens-St-Yzan","OUI"]
[null,"NA","EIC Aquitaine Poitou Charentes","St-Michel-sur-Charente","NON"]
[null,"NA","EIC Aquitaine Poitou Charentes","Stockinter","NON"]
[null,"NA","EIC Aquitaine Poitou Charentes","St-Savinien-sur-Charente","OUI"]
[null,"NA","EIC Aquitaine Poitou Charentes","St-Saviol","OUI"]
[null,"NA","EIC Aquitaine Poitou Charentes","St-Ustre","OUI"]
[null,"NA","EIC Aquitaine Poitou Charentes","Surgères","OUI"]
[null,"NA","EIC Aquitaine Poitou Charentes","Terrasson","OUI"]
[null,"NA","EIC Aquitaine Poitou Charentes","Thenon","OUI"]
[null,"NA","EIC Aquitaine Poitou Charentes","Thiviers","OUI"]
[null,"NA","EIC Aquitaine Poitou Charentes","Tonneins","OUI"]
[null,"NA","EIC Aquitaine Poitou Charentes","Urt","OUI"]
[null,"NA","EIC Aquitaine Poitou Charentes","Vayres","OUI"]
[null,"NA","EIC Aquitaine Poitou Charentes","Vivonne","OUI"]
[null,"NA","EIC Aquitaine Poitou Charentes","Ychoux","OUI"]
[null,"NA","EIC Aquitaine Poitou Charentes","Ygos","OUI"]
[null,"NA","EIC Auvergne Nivernais","Auzances","NON"]
[null,"NA","EIC Auvergne Nivernais","Évaux-les-Bains","NON"]
[null,"NA","EIC Auvergne Nivernais","Létrade","NON"]
[null,"NA","EIC Bretagne Pays de la Loire","Airvault-Gare","OUI"]
[null,"NA","EIC Bretagne Pays de la Loire","Bressuire","OUI"]
[null,"NA","EIC Bretagne Pays de la Loire","Loudun","NON"]
[null,"NA","EIC Bretagne Pays de la Loire","Luché","OUI"]
[null,"NA","EIC Bretagne Pays de la Loire","St-Varent","OUI"]
[null,"NA","EIC Bretagne Pays de la Loire","Thouars","OUI"]
[null,"NA","EIC Centre Limousin","Aixe-sur-Vienne","OUI"]
[null,"NA","EIC Centre Limousin","Allassac","OUI"]
[null,"NA","EIC Centre Limousin","Ambazac","OUI"]
[null,"NA","EIC Centre Limousin","Aubazine-St-Hilaire","OUI"]
[null,"NA","EIC Centre Limousin","Bellac","OUI"]
[null,"NA","EIC Centre Limousin","Bessines","OUI"]
[null,"NA","EIC Centre Limousin","Brive-la-Gaillarde","OUI"]
[null,"NA","EIC Centre Limousin","Bugeat","OUI"]
[null,"NA","EIC Centre Limousin","Busseau-sur-Creuse","OUI"]
[null,"NA","EIC Centre Limousin","Bussière-Galant","OUI"]
[null,"NA","EIC Centre Limousin","Châteauneuf-Bujaleuf","OUI"]
[null,"NA","EIC Centre Limousin","Corrèze","OUI"]
[null,"NA","EIC Centre Limousin","Coussac-Bonneval","OUI"]
[null,"NA","EIC Centre Limousin","Égletons","OUI"]
[null,"NA","EIC Centre Limousin","Estivaux","OUI"]
[null,"NA","EIC Centre Limousin","Eygurande-Merlines","OUI"]
[null,"NA","EIC Centre Limousin","Eymoutiers-Vassivière","OUI"]
[null,"NA","EIC Centre Limousin","Faisceau Lavage","NON"]
[null,"NA","EIC Centre Limousin","Faisceau SAE","NON"]
[null,"NA","EIC Centre Limousin","Felletin","NON"]
[null,"NA","EIC Centre Limousin","Forgevieille","OUI"]
[null,"NA","EIC Centre Limousin","Guéret","OUI"]
[null,"NA","EIC Centre Limousin","La Souterraine","OUI"]
[null,"NA","EIC Centre Limousin","Lavaufranche","OUI"]
[null,"NA","EIC Centre Limousin","Le Dorat","OUI"]
[null,"NA","EIC Centre Limousin","Limoges-Bénédictins","OUI"]
[null,"NA","EIC Centre Limousin","Limoges-Montjovis","OUI"]
[null,"NA","EIC Centre Limousin","Limoges-Puy-Imbert","OUI"]
[null,"NA","EIC Centre Limousin","Masseret","OUI"]
[null,"NA","EIC Centre Limousin","Meymac","OUI"]
[null,"NA","EIC Centre Limousin","Nantiat","OUI"]
[null,"NA","EIC Centre Limousin","Nexon","OUI"]
[null,"NA","EIC Centre Limousin","Noailles (Corrèze)","OUI"]
[null,"NA","EIC Centre Limousin","Objat","NON"]
[null,"NA","EIC Centre Limousin","Parsac-Gouzon","OUI"]
[null,"NA","EIC Centre Limousin","Pierre-Buffière","OUI"]
[null,"NA","EIC Centre Limousin","Pompadour","OUI"]
[null,"NA","EIC Centre Limousin","Saillat-Chassenon","OUI"]
[null,"NA","EIC Centre Limousin","Solignac-Le Vigen","OUI"]
[null,"NA","EIC Centre Limousin","St-Germain-les-Belles","OUI"]
[null,"NA","EIC Centre Limousin","St-Junien","OUI"]
[null,"NA","EIC Centre Limousin","St-Léonard-de-Noblat","OUI"]
[null,"NA","EIC Centre Limousin","St-Sébastien","OUI"]
[null,"NA","EIC Centre Limousin","St-Sulpice-Laurière","OUI"]
[null,"NA","EIC Centre Limousin","St-Victurnien","OUI"]
[null,"NA","EIC Centre Limousin","St-Yrieix","NON"]
[null,"NA","EIC Centre Limousin","Tulle","OUI"]
[null,"NA","EIC Centre Limousin","Turenne","OUI"]
[null,"NA","EIC Centre Limousin","Ussac","OUI"]
[null,"NA","EIC Centre Limousin","Ussel","OUI"]
[null,"NA","EIC Centre Limousin","Uzerche","OUI"]
[null,"NA","EIC Centre Limousin","Verneuil-sur-Vienne","OUI"]
[null,"NA","EIC Centre Limousin","Viam","OUI"]
[null,"NA","EIC Centre Limousin","Vieilleville","OUI"]
[null,"NA","EIC Centre Limousin","Vigeois","OUI"]
[null,"NO","EIC Centre Limousin","Condé-sur-Huisne","NON"]
[null,"NO","EIC Centre Limousin","Le Theil-La Rouge","OUI"]
[null,"NO","EIC Hauts de France","Aumale","NON"]
[null,"NO","EIC Hauts de France","Incheville","NON"]
[null,"NO","EIC Normandie","Alençon","OUI"]
[null,"NO","EIC Normandie","Argentan","OUI"]
[null,"NO","EIC Normandie","Avranches","OUI"]
[null,"NO","EIC Normandie","Bayeux","OUI"]
[null,"NO","EIC Normandie","Bernay","OUI"]
[null,"NO","EIC Normandie","Beuzeville (Eure)","OUI"]
[null,"NO","EIC Normandie","Bréauté-Beuzeville","OUI"]
[null,"NO","EIC Normandie","Breteuil","OUI"]
[null,"NO","EIC Normandie","Caen","OUI"]
[null,"NO","EIC Normandie","Carentan","OUI"]
[null,"NO","EIC Normandie","Cherbourg","OUI"]
[null,"NO","EIC Normandie","Cherbourg-en-Cotentin","OUI"]
[null,"NO","EIC Normandie","Clères","OUI"]
[null,"NO","EIC Normandie","Coutances","OUI"]
[null,"NO","EIC Normandie","Damville","OUI"]
[null,"NO","EIC Normandie","Darnétal","OUI"]
[null,"NO","EIC Normandie","Dieppe","OUI"]
[null,"NO","EIC Normandie","Elbeuf-St-Aubin","OUI"]
[null,"NO","EIC Normandie","ET Haute Normandie UPT Le Havre","OUI"]
[null,"NO","EIC Normandie","Étrépagny","OUI"]
[null,"NO","EIC Normandie","Évreux-Embranchement","OUI"]
[null,"NO","EIC Normandie","Évreux-Navarre","OUI"]
[null,"NO","EIC Normandie","Fécamp","OUI"]
[null,"NO","EIC Normandie","Flers","OUI"]
[null,"NO","EIC Normandie","Folligny","OUI"]
[null,"NO","EIC Normandie","Gaillon-Aubevoye","OUI"]
[null,"NO","EIC Normandie","Glos-Montfort","OUI"]
[null,"NO","EIC Normandie","Granville","OUI"]
[null,"NO","EIC Normandie","Gravenchon-Port-Jérome","OUI"]
[null,"NO","EIC Normandie","Honfleur","OUI"]
[null,"NO","EIC Normandie","L'Aigle","OUI"]
[null,"NO","EIC Normandie","Le Havre","OUI"]
[null,"NO","EIC Normandie","Le Havre-Graville","OUI"]
[null,"NO","EIC Normandie","Le Havre-Maritime","OUI"]
[null,"NO","EIC Normandie","Les Ifs","OUI"]
[null,"NO","EIC Normandie","Lisieux","OUI"]
[null,"NO","EIC Normandie","Lison","OUI"]
[null,"NO","EIC Normandie","Louviers","OUI"]
[null,"NO","EIC Normandie","Malaunay-Le Houlme","OUI"]
[null,"NO","EIC Normandie","Maromme","OUI"]
[null,"NO","EIC Normandie","Mézidon","OUI"]
[null,"NO","EIC Normandie","Montérolier-Buchy","OUI"]
[null,"NO","EIC Normandie","Motteville","OUI"]
[null,"NO","EIC Normandie","Oissel","OUI"]
[null,"NO","EIC Normandie","Petit-Couronne","OUI"]
[null,"NO","EIC Normandie","Petit-Quevilly","OUI"]
[null,"NO","EIC Normandie","Pont-de-l'Arche","OUI"]
[null,"NO","EIC Normandie","Prey","OUI"]
[null,"NO","EIC Normandie","Rouen-Orléans","OUI"]
[null,"NO","EIC Normandie","Rouen-Rive-Droite","OUI"]
[null,"NO","EIC Normandie","Rouen-Rive-Gauche","OUI"]
[null,"NO","EIC Normandie","Rouxmesnil","OUI"]
[null,"NO","EIC Normandie","Serqueux","OUI"]
[null,"NO","EIC Normandie","Serquigny","OUI"]
[null,"NO","EIC Normandie","Sotteville","OUI"]
[null,"NO","EIC Normandie","Sotteville Triage Annexe","NON"]
[null,"NO","EIC Normandie","St-André-de-l'Eure","OUI"]
[null,"NO","EIC Normandie","St-Aubin-du-Vieil-Évreux","OUI"]
[null,"NO","EIC Normandie","St-Lô","OUI"]
[null,"NO","EIC Normandie","St-Pierre-du-Vauvray","OUI"]
[null,"NO","EIC Normandie","St-Pierre-lès-Elbeuf","OUI"]
[null,"NO","EIC Normandie","St-Pierre-le-Viger-Fontaine-le-Dun","OUI"]
[null,"NO","EIC Normandie","St-Vaast-Bosville","OUI"]
[null,"NO","EIC Normandie","St-Valéry-en-Caux","OUI"]
[null,"NO","EIC Normandie","Surdon","OUI"]
[null,"NO","EIC Normandie","Triage impaire de Soquence","OUI"]
[null,"NO","EIC Normandie","Trouville-Deauville","OUI"]
[null,"NO","EIC Normandie","Valognes","OUI"]
[null,"NO","EIC Normandie","Vernon-Giverny","OUI"]
[null,"NO","EIC Normandie","Vignats","OUI"]
[null,"NO","EIC Normandie","Villedieu-les-Poêles","OUI"]
[null,"NO","EIC Normandie","Vire","OUI"]
[null,"NO","EIC Normandie","Yvetot","OUI"]
[null,"NO","EIC Paris Est Ouest Francilien","Bueil","OUI"]
[null,"NO","EIC Paris Est Ouest Francilien","Gisors","OUI"]
[null,"NO","EIC Paris Sud Ouest","Bretoncelles","OUI"]
[null,"NO","EIC Paris Sud Ouest","Verneuil-sur-Avre","OUI"]
[null,"OCC","EIC Aquitaine Poitou Charentes","Condom","OUI"]
[null,"OCC","EIC Aquitaine Poitou Charentes","Fleurance","OUI"]
[null,"OCC","EIC Aquitaine Poitou Charentes","Lectoure","OUI"]
[null,"OCC","EIC Centre Limousin","Bretenoux-Biars","OUI"]
[null,"OCC","EIC Centre Limousin","EIV de Bretenoux-Biars","OUI"]
[null,"OCC","EIC Centre Limousin","Gignac-Cressensac","OUI"]
[null,"OCC","EIC Centre Limousin","Laval-de-Cère","OUI"]
[null,"OCC","EIC Centre Limousin","Souillac","OUI"]
[null,"OCC","EIC Centre Limousin","St-Denis-près-Martel","OUI"]
[null,"OCC","EIC Languedoc Roussillon","Agde","OUI"]
[null,"OCC","EIC Languedoc Roussillon","Aguessac","OUI"]
[null,"OCC","EIC Languedoc Roussillon","Aigues-Mortes","OUI"]
[null,"OCC","EIC Languedoc Roussillon","Alès","OUI"]
[null,"OCC","EIC Languedoc Roussillon","Aramon","OUI"]
[null,"OCC","EIC Languedoc Roussillon","Aumont-Aubrac","OUI"]
[null,"OCC","EIC Languedoc Roussillon","Bagnols","OUI"]
[null,"OCC","EIC Languedoc Roussillon","Balaruc","OUI"]
[null,"OCC","EIC Languedoc Roussillon","Banassac-La Canourgue","OUI"]
[null,"OCC","EIC Languedoc Roussillon","Base Maintenance de Manduel Redessan","OUI"]
[null,"OCC","EIC Languedoc Roussillon","Beaucaire","OUI"]
[null,"OCC","EIC Languedoc Roussillon","Beaucaire-Marchandises","OUI"]
[null,"OCC","EIC Languedoc Roussillon","Bédarieux","OUI"]
[null,"OCC","EIC Languedoc Roussillon","Bessèges","OUI"]
[null,"OCC","EIC Languedoc Roussillon","Béziers","OUI"]
[null,"OCC","EIC Languedoc Roussillon","Bize (Aude)","NON"]
[null,"OCC","EIC Languedoc Roussillon","Bourg-Madame","OUI"]
[null,"OCC","EIC Languedoc Roussillon","Campagnac-St-Geniez","OUI"]
[null,"OCC","EIC Languedoc Roussillon","Carcassonne","OUI"]
[null,"OCC","EIC Languedoc Roussillon","Cases-de-Pène","OUI"]
[null,"OCC","EIC Languedoc Roussillon","Caudiès","OUI"]
[null,"OCC","EIC Languedoc Roussillon","Ceilhes-Roqueredonde","OUI"]
[null,"OCC","EIC Languedoc Roussillon","Cerbère","OUI"]
[null,"OCC","EIC Languedoc Roussillon","Chamborigaud","OUI"]
[null,"OCC","EIC Languedoc Roussillon","Chanac","OUI"]
[null,"OCC","EIC Languedoc Roussillon","Colombiers","OUI"]
[null,"OCC","EIC Languedoc Roussillon","Elne","OUI"]
[null,"OCC","EIC Languedoc Roussillon","Engayresque","OUI"]
[null,"OCC","EIC Languedoc Roussillon","Espira-de-l'Agly","OUI"]
[null,"OCC","EIC Languedoc Roussillon","Estagel","OUI"]
[null,"OCC","EIC Languedoc Roussillon","Faisceau Vestric","OUI"]
[null,"OCC","EIC Languedoc Roussillon","Faugères","OUI"]
[null,"OCC","EIC Languedoc Roussillon","Fontpédrouse-St-Thomas-les-Bains","OUI"]
[null,"OCC","EIC Languedoc Roussillon","Font-Romeu-Odeillo-Via","OUI"]
[null,"OCC","EIC Languedoc Roussillon","Génolhac","OUI"]
[null,"OCC","EIC Languedoc Roussillon","Grand'Combe-La Pise","OUI"]
[null,"OCC","EIC Languedoc Roussillon","Ille-sur-Têt","OUI"]
[null,"OCC","EIC Languedoc Roussillon","La Bastide-St-Laurent-les-Bains","OUI"]
[null,"OCC","EIC Languedoc Roussillon","Langogne","OUI"]
[null,"OCC","EIC Languedoc Roussillon","L'Ardoise","OUI"]
[null,"OCC","EIC Languedoc Roussillon","Laurens","OUI"]
[null,"OCC","EIC Languedoc Roussillon","Le Boulou-Perthus","OUI"]
[null,"OCC","EIC Languedoc Roussillon","Le Bousquet-d'Orb","OUI"]
[null,"OCC","EIC Languedoc Roussillon","Le Monastier","OUI"]
[null,"OCC","EIC Languedoc Roussillon","Lézignan (Aude)","OUI"]
[null,"OCC","EIC Languedoc Roussillon","Limoux","OUI"]
[null,"OCC","EIC Languedoc Roussillon","Lunel","OUI"]
[null,"OCC","EIC Languedoc Roussillon","Magalas","NON"]
[null,"OCC","EIC Languedoc Roussillon","Marvejols","OUI"]
[null,"OCC","EIC Languedoc Roussillon","Mende","OUI"]
[null,"OCC","EIC Languedoc Roussillon","Millau","OUI"]
[null,"OCC","EIC Languedoc Roussillon","Mirepeisset-Argeliers","NON"]
[null,"OCC","EIC Languedoc Roussillon","Mont-Louis-La Cabanasse","OUI"]
[null,"OCC","EIC Languedoc Roussillon","Montpaon","OUI"]
[null,"OCC","EIC Languedoc Roussillon","Montpellier-les-Prés-d'Arènes","OUI"]
[null,"OCC","EIC Languedoc Roussillon","Montpellier-St-Roch","OUI"]
[null,"OCC","EIC Languedoc Roussillon","Moux (Aude)","OUI"]
[null,"OCC","EIC Languedoc Roussillon","Narbonne","OUI"]
[null,"OCC","EIC Languedoc Roussillon","Nîmes","OUI"]
[null,"OCC","EIC Languedoc Roussillon","Nîmes (IE)","OUI"]
[null,"OCC","EIC Languedoc Roussillon","Nîmes-Courbessac (ex-Triage)","OUI"]
[null,"OCC","EIC Languedoc Roussillon","Nozières-Brignon","OUI"]
[null,"OCC","EIC Languedoc Roussillon","Olette-Canaveilles-les-Bains","OUI"]
[null,"OCC","EIC Languedoc Roussillon","Perpignan","OUI"]
[null,"OCC","EIC Languedoc Roussillon","Perpignan-Roussillon","OUI"]
[null,"OCC","EIC Languedoc Roussillon","Pont-St-Esprit","OUI"]
[null,"OCC","EIC Languedoc Roussillon","Port-la-Nouvelle","OUI"]
[null,"OCC","EIC Languedoc Roussillon","Port-Vendres","OUI"]
[null,"OCC","EIC Languedoc Roussillon","Quillan","OUI"]
[null,"OCC","EIC Languedoc Roussillon","Remoulins-Pont-du-Gard","OUI"]
[null,"OCC","EIC Languedoc Roussillon","Ribaute-les-Lieuran","OUI"]
[null,"OCC","EIC Languedoc Roussillon","Rivesaltes","OUI"]
[null,"OCC","EIC Languedoc Roussillon","Roquemaure-Tavel","OUI"]
[null,"OCC","EIC Languedoc Roussillon","Saillagouse","OUI"]
[null,"OCC","EIC Languedoc Roussillon","Salindres","OUI"]
[null,"OCC","EIC Languedoc Roussillon","Sallèles-d'Aude","NON"]
[null,"OCC","EIC Languedoc Roussillon","Sète","OUI"]
[null,"OCC","EIC Languedoc Roussillon","Sète (IE)","OUI"]
[null,"OCC","EIC Languedoc Roussillon","Sète-Voies-des-Quais","OUI"]
[null,"OCC","EIC Languedoc Roussillon","Sévérac-le-Château","OUI"]
[null,"OCC","EIC Languedoc Roussillon","Seveux","OUI"]
[null,"OCC","EIC Languedoc Roussillon","St-Ambroix","OUI"]
[null,"OCC","EIC Languedoc Roussillon","St-Césaire","OUI"]
[null,"OCC","EIC Languedoc Roussillon","St-Chély-d'Apcher","OUI"]
[null,"OCC","EIC Languedoc Roussillon","St-Gilles-du-Gard","OUI"]
[null,"OCC","EIC Languedoc Roussillon","St-Jean-Pla-de-Corts","OUI"]
[null,"OCC","EIC Languedoc Roussillon","St-Paul-de-Fenouillet","OUI"]
[null,"OCC","EIC Languedoc Roussillon","St-Rome-de-Cernon","OUI"]
[null,"OCC","EIC Languedoc Roussillon","St-Sauveur-de-Peyre","OUI"]
[null,"OCC","EIC Languedoc Roussillon","Tamaris","OUI"]
[null,"OCC","EIC Languedoc Roussillon","Tournemire-Roquefort","OUI"]
[null,"OCC","EIC Languedoc Roussillon","Trèbes","OUI"]
[null,"OCC","EIC Languedoc Roussillon","Vauvert","OUI"]
[null,"OCC","EIC Languedoc Roussillon","Vias","OUI"]
[null,"OCC","EIC Languedoc Roussillon","Vielmur-sur-Agout","OUI"]
[null,"OCC","EIC Languedoc Roussillon","Villefort","OUI"]
[null,"OCC","EIC Languedoc Roussillon","Villefranche-Vernet-les-Bains","OUI"]
[null,"OCC","EIC Languedoc Roussillon","Villeneuve-lès-Avignon","OUI"]
[null,"OCC","EIC Midi Pyrénées","Albi","OUI"]
[null,"OCC","EIC Midi Pyrénées","Albi-Madeleine","OUI"]
[null,"OCC","EIC Midi Pyrénées","Ampèrevielle","OUI"]
[null,"OCC","EIC Midi Pyrénées","Assier","OUI"]
[null,"OCC","EIC Midi Pyrénées","Auch","OUI"]
[null,"OCC","EIC Midi Pyrénées","Auterive","OUI"]
[null,"OCC","EIC Midi Pyrénées","Ax-les-Thermes","OUI"]
[null,"OCC","EIC Midi Pyrénées","Bagnac","OUI"]
[null,"OCC","EIC Midi Pyrénées","Bagnères-de-Bigorre","OUI"]
[null,"OCC","EIC Midi Pyrénées","Baraqueville-Carcenac-Peyralès","OUI"]
[null,"OCC","EIC Midi Pyrénées","Baziège","OUI"]
[null,"OCC","EIC Midi Pyrénées","Beaumont-de-Lomagne","OUI"]
[null,"OCC","EIC Midi Pyrénées","Boussens","OUI"]
[null,"OCC","EIC Midi Pyrénées","Bram","OUI"]
[null,"OCC","EIC Midi Pyrénées","Cahors","OUI"]
[null,"OCC","EIC Midi Pyrénées","Capdenac","OUI"]
[null,"OCC","EIC Midi Pyrénées","Capvern","OUI"]
[null,"OCC","EIC Midi Pyrénées","Carbonne","OUI"]
[null,"OCC","EIC Midi Pyrénées","Carmaux","OUI"]
[null,"OCC","EIC Midi Pyrénées","Castelnaudary","OUI"]
[null,"OCC","EIC Midi Pyrénées","Castelnau-d'Estrétefonds","OUI"]
[null,"OCC","EIC Midi Pyrénées","Castelnau-Rivière-Basse","OUI"]
[null,"OCC","EIC Midi Pyrénées","Castelsarrasin","OUI"]
[null,"OCC","EIC Midi Pyrénées","Castres","OUI"]
[null,"OCC","EIC Midi Pyrénées","Caussade","OUI"]
[null,"OCC","EIC Midi Pyrénées","Cazères-sur-Garonne","OUI"]
[null,"OCC","EIC Midi Pyrénées","Cier-de-Luchon","OUI"]
[null,"OCC","EIC Midi Pyrénées","Cieurac (Lot)","OUI"]
[null,"OCC","EIC Midi Pyrénées","Cintegabelle","OUI"]
[null,"OCC","EIC Midi Pyrénées","Colomiers","OUI"]
[null,"OCC","EIC Midi Pyrénées","Damiatte-St-Paul","OUI"]
[null,"OCC","EIC Midi Pyrénées","Dégagnac","OUI"]
[null,"OCC","EIC Midi Pyrénées","Dieupentale","OUI"]
[null,"OCC","EIC Midi Pyrénées","Escalquens","OUI"]
[null,"OCC","EIC Midi Pyrénées","Faisceau Tarbes V62 à V90","OUI"]
[null,"OCC","EIC Midi Pyrénées","Fenouillet-St-Alban","OUI"]
[null,"OCC","EIC Midi Pyrénées","Fiac","OUI"]
[null,"OCC","EIC Midi Pyrénées","Figeac","NON"]
[null,"OCC","EIC Midi Pyrénées","Foix","OUI"]
[null,"OCC","EIC Midi Pyrénées","Gaillac","OUI"]
[null,"OCC","EIC Midi Pyrénées","Gourdon","OUI"]
[null,"OCC","EIC Midi Pyrénées","Gragnague","OUI"]
[null,"OCC","EIC Midi Pyrénées","Gramat","OUI"]
[null,"OCC","EIC Midi Pyrénées","Grisolles","OUI"]
[null,"OCC","EIC Midi Pyrénées","La Roubinarie","OUI"]
[null,"OCC","EIC Midi Pyrénées","Labarthe-Avezac","OUI"]
[null,"OCC","EIC Midi Pyrénées","Labège-Village","NON"]
[null,"OCC","EIC Midi Pyrénées","Labruguière","OUI"]
[null,"OCC","EIC Midi Pyrénées","Lacourtensourt","OUI"]
[null,"OCC","EIC Midi Pyrénées","Laguépie","OUI"]
[null,"OCC","EIC Midi Pyrénées","Lalande-Église","NON"]
[null,"OCC","EIC Midi Pyrénées","Lalbenque-Fontanes","OUI"]
[null,"OCC","EIC Midi Pyrénées","Lamothe-Fénelon","OUI"]
[null,"OCC","EIC Midi Pyrénées","Lannemezan","OUI"]
[null,"OCC","EIC Midi Pyrénées","Larrazet","OUI"]
[null,"OCC","EIC Midi Pyrénées","Latour-de-Carol-Enveitg","OUI"]
[null,"OCC","EIC Midi Pyrénées","Lavaur","OUI"]
[null,"OCC","EIC Midi Pyrénées","Lavilledieu","OUI"]
[null,"OCC","EIC Midi Pyrénées","Lexos","OUI"]
[null,"OCC","EIC Midi Pyrénées","L'Hospitalet-près-l'Andorre","OUI"]
[null,"OCC","EIC Midi Pyrénées","L'Isle-Jourdain","OUI"]
[null,"OCC","EIC Midi Pyrénées","Lourdes","OUI"]
[null,"OCC","EIC Midi Pyrénées","Luchon","OUI"]
[null,"OCC","EIC Midi Pyrénées","Luc-Primaube","OUI"]
[null,"OCC","EIC Midi Pyrénées","Luzenac-Garanou","OUI"]
[null,"OCC","EIC Midi Pyrénées","Malause","OUI"]
[null,"OCC","EIC Midi Pyrénées","Marignac-St-Béat","OUI"]
[null,"OCC","EIC Midi Pyrénées","Maubourguet","OUI"]
[null,"OCC","EIC Midi Pyrénées","Mazamet","OUI"]
[null,"OCC","EIC Midi Pyrénées","Moissac","OUI"]
[null,"OCC","EIC Midi Pyrénées","Montastruc-la-Conseillère","OUI"]
[null,"OCC","EIC Midi Pyrénées","Montauban-Ville-Bourbon","OUI"]
[null,"OCC","EIC Midi Pyrénées","Montbartier","OUI"]
[null,"OCC","EIC Midi Pyrénées","Montpezat","OUI"]
[null,"OCC","EIC Midi Pyrénées","Montrabé","OUI"]
[null,"OCC","EIC Midi Pyrénées","Montréjeau-Gourdan-Polignan","OUI"]
[null,"OCC","EIC Midi Pyrénées","Muret","OUI"]
[null,"OCC","EIC Midi Pyrénées","Naucelle","OUI"]
[null,"OCC","EIC Midi Pyrénées","Nogaro","OUI"]
[null,"OCC","EIC Midi Pyrénées","Nuces","OUI"]
[null,"OCC","EIC Midi Pyrénées","Pamiers","OUI"]
[null,"OCC","EIC Midi Pyrénées","Portet-St-Simon","OUI"]
[null,"OCC","EIC Midi Pyrénées","Revel-Sorèze","OUI"]
[null,"OCC","EIC Midi Pyrénées","Riscle","OUI"]
[null,"OCC","EIC Midi Pyrénées","Rocamadour-Padirac","OUI"]
[null,"OCC","EIC Midi Pyrénées","Rodez","OUI"]
[null,"OCC","EIC Midi Pyrénées","Route-de-Launaguet","NON"]
[null,"OCC","EIC Midi Pyrénées","Sarrancolin","OUI"]
[null,"OCC","EIC Midi Pyrénées","Saverdun","OUI"]
[null,"OCC","EIC Midi Pyrénées","Sérignac","OUI"]
[null,"OCC","EIC Midi Pyrénées","St-Christophe","OUI"]
[null,"OCC","EIC Midi Pyrénées","St-Cyprien-Arènes","OUI"]
[null,"OCC","EIC Midi Pyrénées","St-Denis-Catus","OUI"]
[null,"OCC","EIC Midi Pyrénées","Ste-Christie","OUI"]
[null,"OCC","EIC Midi Pyrénées","St-Gaudens","OUI"]
[null,"OCC","EIC Midi Pyrénées","St-Jory","OUI"]
[null,"OCC","EIC Midi Pyrénées","St-Juéry","OUI"]
[null,"OCC","EIC Midi Pyrénées","St-Pé-de-Bigorre","OUI"]
[null,"OCC","EIC Midi Pyrénées","St-Sulpice","OUI"]
[null,"OCC","EIC Midi Pyrénées","Tarascon-sur-Ariège","OUI"]
[null,"OCC","EIC Midi Pyrénées","Tarbes","OUI"]
[null,"OCC","EIC Midi Pyrénées","Tessonnières","OUI"]
[null,"OCC","EIC Midi Pyrénées","Thédirac-Peyrilles","OUI"]
[null,"OCC","EIC Midi Pyrénées","Toulouse-Matabiau","OUI"]
[null,"OCC","EIC Midi Pyrénées","Tournay","OUI"]
[null,"OCC","EIC Midi Pyrénées","UPT Tarbes (ET Midi-Pyrénées)","OUI"]
[null,"OCC","EIC Midi Pyrénées","Ussat-les-Bains","OUI"]
[null,"OCC","EIC Midi Pyrénées","Valence-d'Agen","OUI"]
[null,"OCC","EIC Midi Pyrénées","Vénerque-le-Vernet","OUI"]
[null,"OCC","EIC Midi Pyrénées","Vic-Bigorre","OUI"]
[null,"OCC","EIC Midi Pyrénées","Villefranche-de-Lauragais","OUI"]
[null,"OCC","EIC Midi Pyrénées","Villefranche-de-Rouergue","OUI"]
[null,"OCC","EIC Midi Pyrénées","Viviez-Decazeville","OUI"]
[null,"PACA","EIC Provence Alpes Côte d'Azur","Aix-en-Provence","OUI"]
[null,"PACA","EIC Provence Alpes Côte d'Azur","Antibes","OUI"]
[null,"PACA","EIC Provence Alpes Côte d'Azur","ARBOIS LGV","OUI"]
[null,"PACA","EIC Provence Alpes Côte d'Azur","Arles","OUI"]
[null,"PACA","EIC Provence Alpes Côte d'Azur","Aspres-sur-Buëch","OUI"]
[null,"PACA","EIC Provence Alpes Côte d'Azur","Aubagne","OUI"]
[null,"PACA","EIC Provence Alpes Côte d'Azur","Avignon-Centre","OUI"]
[null,"PACA","EIC Provence Alpes Côte d'Azur","Avignon-Fontcouverte","OUI"]
[null,"PACA","EIC Provence Alpes Côte d'Azur","Avignon-TGV","OUI"]
[null,"PACA","EIC Provence Alpes Côte d'Azur","Bandol","OUI"]
[null,"PACA","EIC Provence Alpes Côte d'Azur","Beaulieu-sur-Mer","OUI"]
[null,"PACA","EIC Provence Alpes Côte d'Azur","Berre","OUI"]
[null,"PACA","EIC Provence Alpes Côte d'Azur","Bollène-la-Croisière","OUI"]
[null,"PACA","EIC Provence Alpes Côte d'Azur","Bouc-Cabriès","OUI"]
[null,"PACA","EIC Provence Alpes Côte d'Azur","Breil-sur-Roya","OUI"]
[null,"PACA","EIC Provence Alpes Côte d'Azur","Briançon","OUI"]
[null,"PACA","EIC Provence Alpes Côte d'Azur","Cagnes-sur-Mer","OUI"]
[null,"PACA","EIC Provence Alpes Côte d'Azur","Cannes","OUI"]
[null,"PACA","EIC Provence Alpes Côte d'Azur","Cannes-Marchandises","OUI"]
[null,"PACA","EIC Provence Alpes Côte d'Azur","Cap-Martin-Roquebrune","OUI"]
[null,"PACA","EIC Provence Alpes Côte d'Azur","Carnoules","OUI"]
[null,"PACA","EIC Provence Alpes Côte d'Azur","Carpentras","OUI"]
[null,"PACA","EIC Provence Alpes Côte d'Azur","Cavaillon","OUI"]
[null,"PACA","EIC Provence Alpes Côte d'Azur","CAVAILLON LGV","OUI"]
[null,"PACA","EIC Provence Alpes Côte d'Azur","Château-Arnoux-St-Auban","OUI"]
[null,"PACA","EIC Provence Alpes Côte d'Azur","Cheval-Blanc Base-Travaux-LGV","OUI"]
[null,"PACA","EIC Provence Alpes Côte d'Azur","Drap-Cantaron","OUI"]
[null,"PACA","EIC Provence Alpes Côte d'Azur","Embrun","OUI"]
[null,"PACA","EIC Provence Alpes Côte d'Azur","EMT Marseille UPT Logistique MBC","OUI"]
[null,"PACA","EIC Provence Alpes Côte d'Azur","Faisceau NOVATRANS Avignon-Champfleury","OUI"]
[null,"PACA","EIC Provence Alpes Côte d'Azur","Fos-Coussoul","OUI"]
[null,"PACA","EIC Provence Alpes Côte d'Azur","Gap","OUI"]
[null,"PACA","EIC Provence Alpes Côte d'Azur","Gardanne","OUI"]
[null,"PACA","EIC Provence Alpes Côte d'Azur","Grasse","OUI"]
[null,"PACA","EIC Provence Alpes Côte d'Azur","Hyères","OUI"]
[null,"PACA","EIC Provence Alpes Côte d'Azur","La Barque-Fuveau","OUI"]
[null,"PACA","EIC Provence Alpes Côte d'Azur","La Brillanne-Oraison","OUI"]
[null,"PACA","EIC Provence Alpes Côte d'Azur","La Ciotat","OUI"]
[null,"PACA","EIC Provence Alpes Côte d'Azur","La Freissinouse","OUI"]
[null,"PACA","EIC Provence Alpes Côte d'Azur","La Motte-Ste-Rosseline","OUI"]
[null,"PACA","EIC Provence Alpes Côte d'Azur","La Pauline-Hyères","OUI"]
[null,"PACA","EIC Provence Alpes Côte d'Azur","La Seyne-Six-Fours","OUI"]
[null,"PACA","EIC Provence Alpes Côte d'Azur","LAMBESC LGV","OUI"]
[null,"PACA","EIC Provence Alpes Côte d'Azur","Laragne","OUI"]
[null,"PACA","EIC Provence Alpes Côte d'Azur","L'Argentière-les-Écrins","OUI"]
[null,"PACA","EIC Provence Alpes Côte d'Azur","Le Luc-et-Le Cannet","OUI"]
[null,"PACA","EIC Provence Alpes Côte d'Azur","Le Pontet","NON"]
[null,"PACA","EIC Provence Alpes Côte d'Azur","Les Arcs-Draguignan","OUI"]
[null,"PACA","EIC Provence Alpes Côte d'Azur","L'Escarène","OUI"]
[null,"PACA","EIC Provence Alpes Côte d'Azur","L'Estaque","OUI"]
[null,"PACA","EIC Provence Alpes Côte d'Azur","L'Isle-Fontaine-de-Vaucluse","OUI"]
[null,"PACA","EIC Provence Alpes Côte d'Azur","Manoeuvres Marseille St Charles","OUI"]
[null,"PACA","EIC Provence Alpes Côte d'Azur","Manosque-Gréoux-les-Bains","OUI"]
[null,"PACA","EIC Provence Alpes Côte d'Azur","Marseille-Blancarde","OUI"]
[null,"PACA","EIC Provence Alpes Côte d'Azur","Marseille-Maritime-Arenc","OUI"]
[null,"PACA","EIC Provence Alpes Côte d'Azur","Marseille-Maritime-Canet","OUI"]
[null,"PACA","EIC Provence Alpes Côte d'Azur","Marseille-Prado","OUI"]
[null,"PACA","EIC Provence Alpes Côte d'Azur","Marseille-St-Charles","OUI"]
[null,"PACA","EIC Provence Alpes Côte d'Azur","Martigues","OUI"]
[null,"PACA","EIC Provence Alpes Côte d'Azur","Menton","OUI"]
[null,"PACA","EIC Provence Alpes Côte d'Azur","Meyrargues","OUI"]
[null,"PACA","EIC Provence Alpes Côte d'Azur","Mirabeau","OUI"]
[null,"PACA","EIC Provence Alpes Côte d'Azur","Miramas","OUI"]
[null,"PACA","EIC Provence Alpes Côte d'Azur","Mison","OUI"]
[null,"PACA","EIC Provence Alpes Côte d'Azur","Montdauphin-Guillestre","OUI"]
[null,"PACA","EIC Provence Alpes Côte d'Azur","Nice-St-Augustin","OUI"]
[null,"PACA","EIC Provence Alpes Côte d'Azur","Nice-St-Roch","OUI"]
[null,"PACA","EIC Provence Alpes Côte d'Azur","Nice-Ville","OUI"]
[null,"PACA","EIC Provence Alpes Côte d'Azur","Orange","OUI"]
[null,"PACA","EIC Provence Alpes Côte d'Azur","Orgon","OUI"]
[null,"PACA","EIC Provence Alpes Côte d'Azur","Pas-des-Lanciers","OUI"]
[null,"PACA","EIC Provence Alpes Côte d'Azur","Peille","OUI"]
[null,"PACA","EIC Provence Alpes Côte d'Azur","Pertuis","OUI"]
[null,"PACA","EIC Provence Alpes Côte d'Azur","Peynier-Rousset","OUI"]
[null,"PACA","EIC Provence Alpes Côte d'Azur","PIOLENC LGV","OUI"]
[null,"PACA","EIC Provence Alpes Côte d'Azur","Port-de-Bouc","OUI"]
[null,"PACA","EIC Provence Alpes Côte d'Azur","Ranguin","OUI"]
[null,"PACA","EIC Provence Alpes Côte d'Azur","Rognac","OUI"]
[null,"PACA","EIC Provence Alpes Côte d'Azur","Savines","OUI"]
[null,"PACA","EIC Provence Alpes Côte d'Azur","Sénas","OUI"]
[null,"PACA","EIC Provence Alpes Côte d'Azur","SENAS LGV","OUI"]
[null,"PACA","EIC Provence Alpes Côte d'Azur","Serres","OUI"]
[null,"PACA","EIC Provence Alpes Côte d'Azur","Sisteron","OUI"]
[null,"PACA","EIC Provence Alpes Côte d'Azur","Sorgues-Châteauneuf-du-Pape","OUI"]
[null,"PACA","EIC Provence Alpes Côte d'Azur","St-Cyr-les-Lècques-La Cadière","OUI"]
[null,"PACA","EIC Provence Alpes Côte d'Azur","St-Dalmas-de-Tende","OUI"]
[null,"PACA","EIC Provence Alpes Côte d'Azur","St-Louis-les-Aygalades","OUI"]
[null,"PACA","EIC Provence Alpes Côte d'Azur","St-Marcel","OUI"]
[null,"PACA","EIC Provence Alpes Côte d'Azur","St-Martin-de-Crau","OUI"]
[null,"PACA","EIC Provence Alpes Côte d'Azur","St-Raphaël-Valescure","OUI"]
[null,"PACA","EIC Provence Alpes Côte d'Azur","Tarascon","OUI"]
[null,"PACA","EIC Provence Alpes Côte d'Azur","Tende","OUI"]
[null,"PACA","EIC Provence Alpes Côte d'Azur","Toulon","OUI"]
[null,"PACA","EIC Provence Alpes Côte d'Azur","Triage Avignon","OUI"]
[null,"PACA","EIC Provence Alpes Côte d'Azur","Triage Miramas","OUI"]
[null,"PACA","EIC Provence Alpes Côte d'Azur","Trinquetaille","OUI"]
[null,"PACA","EIC Provence Alpes Côte d'Azur","UP Miramas (Technicentre PACA)","OUI"]
[null,"PACA","EIC Provence Alpes Côte d'Azur","Veynes-Dévoluy","OUI"]
[null,"PACA","EIC Provence Alpes Côte d'Azur","Viévola","OUI"]
[null,"PACA","EIC Rhône Alpes Lyon","LAPALUD LGV","OUI"]

{"sheet":"Programme de travail prev","index":4,"n_rows":102,"n_cols":98,"rows_kept":102,"cut":false,"hidden":false,"merged":[[0,5,0,25],[0,30,0,34],[0,40,0,46],[2,1,3,1],[16,1,17,1],[16,2,16,25],[30,1,31,1],[30,2,30,25],[44,1,45,1],[44,2,44,25],[58,1,59,1],[58,2,58,25],[72,1,73,1],[72,2,72,25],[86,1,87,1],[86,2,86,25],[102,1,109,49]]}
[null,null,null,null,null,"Programme de travail (exemple)\n(document à fournir dans le cadre des concertations)",null,null,null,null,null,null,null,null,null,null,null,null,null,null,null,null,null,null,null,null,"Demandeur :",null,null,null,null,null,null,null,null,"Site demandé :"]
[]
[null,"Voies","LUNDI"]
[null,null,0,null,null,null,1,null,null,null,2,null,null,null,3,null,null,null,4,null,null,null,5,null,null,null,6,null,null,null,7,null,null,null,8,null,null,null,9,null,null,null,10,null,null,null,11,null,null,null,12,null,null,null,13,null,null,null,14,null,null,null,15,null,null,null,16,null,null,null,17,null,null,null,18,null,null,null,19,null,null,null,20,null,null,null,21,null,null,null,22,null,null,null,23]
[null,1]
[null,2]
[null,3]
[null,4]
[null,5]
[null,6]
[null,7]
[null,8]
[null,9]
[null,10]
[null,null,0,15,30,45,0,15,30,45,0,15,30,45,0,15,30,45,0,15,30,45,0,15,30,45,0,15,30,45,0,15,30,45,0,15,30,45,0,15,30,45,0,15,30,45,0,15,30,45,0,15,30,45,0,15,30,45,0,15,30,45,0,15,30,45,0,15,30,45,0,15,30,45,0,15,30,45,0,15,30,45,0,15,30,45,0,15,30,45,0,15,30,45,0,15,30,45]
[]
[null,"Voies","MARDI"]
[null,null,0,null,null,null,1,null,null,null,2,null,null,null,3,null,null,null,4,null,null,null,5,null,null,null,6,null,null,null,7,null,null,null,8,null,null,null,9,null,null,null,10,null,null,null,11,null,null,null,12,null,null,null,13,null,null,null,14,null,null,null,15,null,null,null,16,null,null,null,17,null,null,null,18,null,null,null,19,null,null,null,20,null,null,null,21,null,null,null,22,null,null,null,23]
[null,1]
[null,2]
[null,3]
[null,4]
[null,5]
[null,6]
[null,7]
[null,8]
[null,9]
[null,10]
[null,null,0,15,30,45,0,15,30,45,0,15,30,45,0,15,30,45,0,15,30,45,0,15,30,45,0,15,30,45,0,15,30,45,0,15,30,45,0,15,30,45,0,15,30,45,0,15,30,45,0,15,30,45,0,15,30,45,0,15,30,45,0,15,30,45,0,15,30,45,0,15,30,45,0,15,30,45,0,15,30,45,0,15,30,45,0,15,30,45,0,15,30,45,0,15,30,45]
[]
[null,"Voies","MERCREDI"]
[null,null,0,null,null,null,1,null,null,null,2,null,null,null,3,null,null,null,4,null,null,null,5,null,null,null,6,null,null,null,7,null,null,null,8,null,null,null,9,null,null,null,10,null,null,null,11,null,null,null,12,null,null,null,13,null,null,null,14,null,null,null,15,null,null,null,16,null,null,null,17,null,null,null,18,null,null,null,19,null,null,null,20,null,null,null,21,null,null,null,22,null,null,null,23]
[null,1]
[null,2]
[null,3]
[null,4]
[null,5]
[null,6]
[null,7]
[null,8]
[null,9]
[null,10]
[null,null,0,15,30,45,0,15,30,45,0,15,30,45,0,15,30,45,0,15,30,45,0,15,30,45,0,15,30,45,0,15,30,45,0,15,30,45,0,15,30,45,0,15,30,45,0,15,30,45,0,15,30,45,0,15,30,45,0,15,30,45,0,15,30,45,0,15,30,45,0,15,30,45,0,15,30,45,0,15,30,45,0,15,30,45,0,15,30,45,0,15,30,45,0,15,30,45]
[]
[null,"Voies","JEUDI"]
[null,null,0,null,null,null,1,null,null,null,2,null,null,null,3,null,null,null,4,null,null,null,5,null,null,null,6,null,null,null,7,null,null,null,8,null,null,null,9,null,null,null,10,null,null,null,11,null,null,null,12,null,null,null,13,null,null,null,14,null,null,null,15,null,null,null,16,null,null,null,17,null,null,null,18,null,null,null,19,null,null,null,20,null,null,null,21,null,null,null,22,null,null,null,23]
[null,1]
[null,2]
[null,3]
[null,4]
[null,5]
[null,6]
[null,7]
[null,8]
[null,9]
[null,10]
[null,null,0,15,30,45,0,15,30,45,0,15,30,45,0,15,30,45,0,15,30,45,0,15,30,45,0,15,30,45,0,15,30,45,0,15,30,45,0,15,30,45,0,15,30,45,0,15,30,45,0,15,30,45,0,15,30,45,0,15,30,45,0,15,30,45,0,15,30,45,0,15,30,45,0,15,30,45,0,15,30,45,0,15,30,45,0,15,30,45,0,15,30,45,0,15,30,45]
[]
[null,"Voies","VENDREDI"]
[null,null,0,null,null,null,1,null,null,null,2,null,null,null,3,null,null,null,4,null,null,null,5,null,null,null,6,null,null,null,7,null,null,null,8,null,null,null,9,null,null,null,10,null,null,null,11,null,null,null,12,null,null,null,13,null,null,null,14,null,null,null,15,null,null,null,16,null,null,null,17,null,null,null,18,null,null,null,19,null,null,null,20,null,null,null,21,null,null,null,22,null,null,null,23]
[null,1]
[null,2]
[null,3]
[null,4]
[null,5]
[null,6]
[null,7]
[null,8]
[null,9]
[null,10]
[null,null,0,15,30,45,0,15,30,45,0,15,30,45,0,15,30,45,0,15,30,45,0,15,30,45,0,15,30,45,0,15,30,45,0,15,30,45,0,15,30,45,0,15,30,45,0,15,30,45,0,15,30,45,0,15,30,45,0,15,30,45,0,15,30,45,0,15,30,45,0,15,30,45,0,15,30,45,0,15,30,45,0,15,30,45,0,15,30,45,0,15,30,45,0,15,30,45]
[]
[null,"Voies","SAMEDI"]
[null,null,0,null,null,null,1,null,null,null,2,null,null,null,3,null,null,null,4,null,null,null,5,null,null,null,6,null,null,null,7,null,null,null,8,null,null,null,9,null,null,null,10,null,null,null,11,null,null,null,12,null,null,null,13,null,null,null,14,null,null,null,15,null,null,null,16,null,null,null,17,null,null,null,18,null,null,null,19,null,null,null,20,null,null,null,21,null,null,null,22,null,null,null,23]
[null,1]
[null,2]
[null,3]
[null,4]
[null,5]
[null,6]
[null,7]
[null,8]
[null,9]
[null,10]
[null,null,0,15,30,45,0,15,30,45,0,15,30,45,0,15,30,45,0,15,30,45,0,15,30,45,0,15,30,45,0,15,30,45,0,15,30,45,0,15,30,45,0,15,30,45,0,15,30,45,0,15,30,45,0,15,30,45,0,15,30,45,0,15,30,45,0,15,30,45,0,15,30,45,0,15,30,45,0,15,30,45,0,15,30,45,0,15,30,45,0,15,30,45,0,15,30,45]
[]
[null,"Voies","DIMANCHIE"]
[null,null,0,null,null,null,1,null,null,null,2,null,null,null,3,null,null,null,4,null,null,null,5,null,null,null,6,null,null,null,7,null,null,null,8,null,null,null,9,null,null,null,10,null,null,null,11,null,null,null,12,null,null,null,13,null,null,null,14,null,null,null,15,null,null,null,16,null,null,null,17,null,null,null,18,null,null,null,19,null,null,null,20,null,null,null,21,null,null,null,22,null,null,null,23]
[null,1]
[null,2]
[null,3]
[null,4]
[null,5]
[null,6]
[null,7]
[null,8]
[null,9]
[null,10]
[null,null,0,15,30,45,0,15,30,45,0,15,30,45,0,15,30,45,0,15,30,45,0,15,30,45,0,15,30,45,0,15,30,45,0,15,30,45,0,15,30,45,0,15,30,45,0,15,30,45,0,15,30,45,0,15,30,45,0,15,30,45,0,15,30,45,0,15,30,45,0,15,30,45,0,15,30,45,0,15,30,45,0,15,30,45,0,15,30,45,0,15,30,45,0,15,30,45]
[]
[]
[null,"Notes"]

{"sheet":"Paramètres (à masquer)","index":5,"n_rows":2056,"n_cols":37,"rows_kept":2056,"cut":false,"hidden":true,"merged":[[0,34,0,36],[0,25,1,25],[0,27,1,27],[0,29,1,29],[1,14,1,15],[0,31,0,32],[0,23,1,23],[0,1,0,12],[0,14,0,15],[0,17,1,17],[0,19,1,19],[0,21,1,21]]}
[null,"Tableau nécessaire pour la liste des DT et des sites",null,null,null,null,null,null,null,null,null,null,null,null,"Tableau necessaire pour la formule EIC",null,null,"Liste déroulante Oui/Non pour les colonnes E+R+S+U+AA (quotidien+Aptitude TE+Electrification+MD+Prospection)",null,"Liste déroulante C4/D4 pour la colonne T (Charge)",null,"Liste déroulante pour la colonne V (Type d'utilisation)",null,"Liste déroulante pour la colonne X (Type d'activité)",null,"Liste déroulante pour la colonne Y (Nature du trafic)",null,"Liste déroulante pour la colonne AC (Type de réponse)",null,"Liste déroulante pour la colonne AR (Modèle contractuel retenu)",null,"HDS",null,null,"Liste déroulante pour la cellule N3 (Horaire de service)"]
[null,"DT →","AURA","BFC","BPL","CVL","GE","NO","HDF","IDF","NA","OCC","PACA",null,"Liste des sites actifs au 07/03/2025",null,null,null,null,null,null,null,null,null,null,null,null,null,null,null,null,"Du","Au",null,"HDS","Du","Au"]
[null,"Liste des sites↓",{"$f":"_xlfn._xlws.SORT(_xlfn.CHOOSECOLS(_xlfn._xlws.FILTER(tab_triptyques[],(tab_triptyques[Direction territoriale]=C2)*(tab_triptyques[Actif]=\"OUI\")),3),1,1)","v":"Aiguebelle"},{"$f":"_xlfn._xlws.SORT(_xlfn.CHOOSECOLS(_xlfn._xlws.FILTER(tab_triptyques[],(tab_triptyques[Direction territoriale]=D2)*(tab_triptyques[Actif]=\"OUI\")),3),1,1)","v":"Aillevillers"},{"$f":"_xlfn._xlws.SORT(_xlfn.CHOOSECOLS(_xlfn._xlws.FILTER(tab_triptyques[],(tab_triptyques[Direction territoriale]=E2)*(tab_triptyques[Actif]=\"OUI\")),3),1,1)","v":"Ancenis"},{"$f":"_xlfn._xlws.SORT(_xlfn.CHOOSECOLS(_xlfn._xlws.FILTER(tab_triptyques[],(tab_triptyques[Direction territoriale]=F2)*(tab_triptyques[Actif]=\"OUI\")),3),1,1)","v":"Argenton-sur-Creuse"},{"$f":"_xlfn._xlws.SORT(_xlfn.CHOOSECOLS(_xlfn._xlws.FILTER(tab_triptyques[],(tab_triptyques[Direction territoriale]=G2)*(tab_triptyques[Actif]=\"OUI\")),3),1,1)","v":"Altkirch"},{"$f":"_xlfn._xlws.SORT(_xlfn.CHOOSECOLS(_xlfn._xlws.FILTER(tab_triptyques[],(tab_triptyques[Direction territoriale]=H2)*(tab_triptyques[Actif]=\"OUI\")),3),1,1)","v":"Alençon"},{"$f":"_xlfn._xlws.SORT(_xlfn.CHOOSECOLS(_xlfn._xlws.FILTER(tab_triptyques[],(tab_triptyques[Direction territoriale]=I2)*(tab_triptyques[Actif]=\"OUI\")),3),1,1)","v":"Abancourt"},{"$f":"_xlfn._xlws.SORT(_xlfn.CHOOSECOLS(_xlfn._xlws.FILTER(tab_triptyques[],(tab_triptyques[Direction territoriale]=J2)*(tab_triptyques[Actif]=\"OUI\")),3),1,1)","v":"Achères-Grand-Cormier"},{"$f":"_xlfn._xlws.SORT(_xlfn.CHOOSECOLS(_xlfn._xlws.FILTER(tab_triptyques[],(tab_triptyques[Direction territoriale]=K2)*(tab_triptyques[Actif]=\"OUI\")),3),1,1)","v":"Agen"},{"$f":"_xlfn._xlws.SORT(_xlfn.CHOOSECOLS(_xlfn._xlws.FILTER(tab_triptyques[],(tab_triptyques[Direction territoriale]=L2)*(tab_triptyques[Actif]=\"OUI\")),3),1,1)","v":"Agde"},{"$f":"_xlfn._xlws.SORT(_xlfn.CHOOSECOLS(_xlfn._xlws.FILTER(tab_triptyques[],(tab_triptyques[Direction territoriale]=M2)*(tab_triptyques[Actif]=\"OUI\")),3),1,1)","v":"Aix-en-Provence"},null,"Nom du Site","Région SNCF (EIC)",null,"Oui",null,"C4",null,"Travail",null,"Voyageurs",null,"Fret auto",null,"Attribution Totale",null,"Contrat HDS",null,{"$f":"VLOOKUP('Demande de VS'!$N$3,tabHDS,2,FALSE)","v":"2025-12-14"},{"$f":"VLOOKUP('Demande de VS'!$N$3,tabHDS,3,FALSE)","v":"2026-12-12"},null,2025,"2024-12-15","2025-12-13"]
[null,null,"Aime-La Plagne","Allerey","Angers-Maître-École","Avord","Amagne-Lucquy","Argentan","Abbeville","Achères-Ville","Agonac","Aguessac","Antibes",null,{"$f":"_xlfn._xlws.SORT(_xlfn.CHOOSECOLS('Liste des DT-EIC-SITES'!$B$6:$D$2042,3),1,1)","v":"Abancourt"},{"$f":"_xlfn.XLOOKUP(O4,'Liste des DT-EIC-SITES'!D:D,'Liste des DT-EIC-SITES'!C:C)","v":"EIC Hauts de France"},null,"Non",null,"D4",null,"Stationnement",null,"Fret",null,"Fret céréales",null,"Attribution Partielle",null,"Déclaratif",null,null,null,null,2026,"2025-12-14","2026-12-12"]
[null,null,"Aix-les-Bains-Le Revard","ALSTOM","Angers-St-Laud","Blois-Chambord","Andilly","Avranches","Achiet","Angerville","Aiffres","Aigues-Mortes","ARBOIS LGV",null,"Abbeville",{"$f":"_xlfn.XLOOKUP(O5,'Liste des DT-EIC-SITES'!D:D,'Liste des DT-EIC-SITES'!C:C)","v":"EIC Hauts de France"},null,null,null,null,null,"Stationnement et travail",null,null,null,"Fret chimie",null,"Proposition Alternative",null,"Non concerné",null,null,null,null,2027,"2026-12-13","2027-12-11"]
[null,null,"Albens","Andelot","Angers-St-Serge","Bourges","Apach","Bayeux","Ailly-sur-Noye","Argenteuil GC","Airvault-Gare","Albi","Arles",null,"Achères-Grand-Cormier",{"$f":"_xlfn.XLOOKUP(O6,'Liste des DT-EIC-SITES'!D:D,'Liste des DT-EIC-SITES'!C:C)","v":"EIC Paris Est Ouest Francilien"},null,null,null,null,null,null,null,null,null,"Fret divers",null,"A l'étude"]
[null,null,"Albertville","Arbois","Arnage","Bricy-Boulay","Arches","Bernay","Albert","Aulnay-sous-Bois","Aixe-sur-Vienne","Albi-Madeleine","Aspres-sur-Buëch",null,"Achères-Ville",{"$f":"_xlfn.XLOOKUP(O7,'Liste des DT-EIC-SITES'!D:D,'Liste des DT-EIC-SITES'!C:C)","v":"EIC Paris Est Ouest Francilien"},null,null,null,null,null,null,null,null,null,"Fret granulat",null,"Demande Annulée"]
[null,null,"Alixan-Châteauneuf-d'Isère","Arc-et-Senans","Aubigné-Racan","Buzançais","Arcis-sur-Aube","Beuzeville (Eure)","Amiens","Bécon-les-Bruyères","Allassac","Alès","Aubagne",null,"Achiet",{"$f":"_xlfn.XLOOKUP(O8,'Liste des DT-EIC-SITES'!D:D,'Liste des DT-EIC-SITES'!C:C)","v":"EIC Hauts de France"},null,null,null,null,null,null,null,null,null,"Fret métallurgie",null,"Refus"]
[null,null,"ALLAN LGV","Autet","Auray","Chartres","Attigny (Ardennes)","Bréauté-Beuzeville","Anor","Bernes","Ambazac","Ampèrevielle","Avignon-Centre",null,"Agde",{"$f":"_xlfn.XLOOKUP(O9,'Liste des DT-EIC-SITES'!D:D,'Liste des DT-EIC-SITES'!C:C)","v":"EIC Languedoc Roussillon"},null,null,null,null,null,null,null,null,null,"Militaire"]
[null,null,"Alleyras","Autrey-lès-Gray","Baud","Châteaudun","Audun-le-Roman","Breteuil","Armentières","Bobigny","Angoulême","Aramon","Avignon-Fontcouverte",null,"Agen",{"$f":"_xlfn.XLOOKUP(O10,'Liste des DT-EIC-SITES'!D:D,'Liste des DT-EIC-SITES'!C:C)","v":"EIC Aquitaine Poitou Charentes"},null,null,null,null,null,null,null,null,null,"Voyageur autres"]
[null,null,"Ambérieu","Autun","Benet","Château-Renault","Baccarat","Bretoncelles","Arques (Pas-de-Calais)","Bois-Colombes","Arcachon","Assier","Avignon-TGV",null,"Agonac",{"$f":"_xlfn.XLOOKUP(O11,'Liste des DT-EIC-SITES'!D:D,'Liste des DT-EIC-SITES'!C:C)","v":"EIC Aquitaine Poitou Charentes"},null,null,null,null,null,null,null,null,null,"Voyageur conventionné"]
[null,null,"Ambronay-Priay","Auxerre-St-Gervais","Beslé","Châteauroux","Bains-les-Bains","Bueil","Arras","Bourron-Marlotte-Grez","Artix","Auch","Bandol",null,"Aguessac",{"$f":"_xlfn.XLOOKUP(O12,'Liste des DT-EIC-SITES'!D:D,'Liste des DT-EIC-SITES'!C:C)","v":"EIC Languedoc Roussillon"},null,null,null,null,null,null,null,null,null,"Voyageur GV"]
[null,null,"Amplepuis","Auxonne","Bessé-sur-Braye","Châtillon-sur-Loire","Baleycourt","Caen","Athies-sous-Laon","Brétigny","Aubazine-St-Hilaire","Aumont-Aubrac","Beaulieu-sur-Mer",null,"Aiffres",{"$f":"_xlfn.XLOOKUP(O13,'Liste des DT-EIC-SITES'!D:D,'Liste des DT-EIC-SITES'!C:C)","v":"EIC Aquitaine Poitou Charentes"}]
[null,null,"Anglefort","Avallon","Brest","Courtalain-St-Pellerin","Bantzenheim","Carentan","Attin-Garage","Bruyères-sur-Oise","Ayron-Latillé","Auterive","Berre",null,"Aigrefeuille-Le Thou",{"$f":"_xlfn.XLOOKUP(O14,'Liste des DT-EIC-SITES'!D:D,'Liste des DT-EIC-SITES'!C:C)","v":"EIC Aquitaine Poitou Charentes"}]
[null,null,"Annecy","Base Maintenance LGV de Geneuille","Brézé-St-Cyr-en-Bourg","Dreux","Barisey-la-Côte","Cherbourg","Aulnoye-Aymeries","Bry-sur-Marne","Aytré","Ax-les-Thermes","Bollène-la-Croisière",null,"Aiguebelle",{"$f":"_xlfn.XLOOKUP(O15,'Liste des DT-EIC-SITES'!D:D,'Liste des DT-EIC-SITES'!C:C)","v":"EIC Alpes"}]
[null,null,"Annemasse","Bas-Évette","Broons","Gien","Bar-le-Duc","Cherbourg-en-Cotentin","Beauvais","Cergy-le-Haut","Base maintenance de Clerac","Bagnac","Bouc-Cabriès",null,"Aigues-Mortes",{"$f":"_xlfn.XLOOKUP(O16,'Liste des DT-EIC-SITES'!D:D,'Liste des DT-EIC-SITES'!C:C)","v":"EIC Languedoc Roussillon"}]
[null,null,"Archignat","Baume-les-Dames","CADS","Illiers-Combray","Baroncourt","Clères","Berlaimont","Cergy-St-Christophe","Base maintenance de Poitiers","Bagnères-de-Bigorre","Breil-sur-Roya",null,"Aillevillers",{"$f":"_xlfn.XLOOKUP(O17,'Liste des DT-EIC-SITES'!D:D,'Liste des DT-EIC-SITES'!C:C)","v":"EIC Bourgogne Franche Comté"}]
[null,null,"Argentière","Beaune","Callac","Issoudun","Barr","Coutances","Béthune","Chailly-Boissy-Le Châtel","Base maintenance de Villognon","Bagnols","Briançon",null,"Ailly-sur-Noye",{"$f":"_xlfn.XLOOKUP(O18,'Liste des DT-EIC-SITES'!D:D,'Liste des DT-EIC-SITES'!C:C)","v":"EIC Hauts de France"}]
[null,null,"Arvant","Belfort","Carhaix","Joué-lès-Tours","Bar-sur-Aube","Damville","Beuvry (Pas-de-Calais)","Changis-St-Jean","Bassens","Balaruc","Cagnes-sur-Mer",null,"Aime-La Plagne",{"$f":"_xlfn.XLOOKUP(O19,'Liste des DT-EIC-SITES'!D:D,'Liste des DT-EIC-SITES'!C:C)","v":"EIC Alpes"}]
[null,null,"Aulnat-Aéroport","Besançon-Mouillère","Carnoët-Locarn","La Chapelle-St-Ursin-Morthomiers","Bazancourt","Darnétal","Blanc-Misseron","CHEVRY COSSIGNY LGV","Bassens-Appontements","Banassac-La Canourgue","Cannes",null,"Aire-sur-l'Adour",{"$f":"_xlfn.XLOOKUP(O20,'Liste des DT-EIC-SITES'!D:D,'Liste des DT-EIC-SITES'!C:C)","v":"EIC Aquitaine Poitou Charentes"}]
[null,null,"Aurec","Besançon-St-Fergeux","Carquefou","La Ferté-St-Aubin","Beinheim","Dieppe","Boisleux","Choisy-le-Roi","Bayonne","Baraqueville-Carcenac-Peyralès","Cannes-Marchandises",null,"Aire-sur-la-Lys",{"$f":"_xlfn.XLOOKUP(O21,'Liste des DT-EIC-SITES'!D:D,'Liste des DT-EIC-SITES'!C:C)","v":"EIC Hauts de France"}]
[null,null,"Aurillac","Besançon-Viotte","Challans","La Guerche-sur-l'Aubois","Belleville","Elbeuf-St-Aubin","Boulogne-Ville","Clamart","Beautiran","Base Maintenance de Manduel Redessan","Cap-Martin-Roquebrune",null,"Airvault-Gare",{"$f":"_xlfn.XLOOKUP(O22,'Liste des DT-EIC-SITES'!D:D,'Liste des DT-EIC-SITES'!C:C)","v":"EIC Bretagne Pays de la Loire"}]
[null,null,"Badan","Bèze","Champagné","La Taye","Bénestroff","ET Haute Normandie UPT Le Havre","Bresles","Combs-la-Ville-Quincy","Bedous","Baziège","Carnoules",null,"Aix-en-Provence",{"$f":"_xlfn.XLOOKUP(O23,'Liste des DT-EIC-SITES'!D:D,'Liste des DT-EIC-SITES'!C:C)","v":"EIC Provence Alpes Côte d'Azur"}]
[null,null,"Balbigny","Blaisy-Bas","Chantenay","Lamotte-Beuvron","Béning","Étrépagny","Bully-Grenay","Conflans-Fin-d'Oise","Beillant","Beaucaire","Carpentras",null,"Aixe-sur-Vienne",{"$f":"_xlfn.XLOOKUP(O24,'Liste des DT-EIC-SITES'!D:D,'Liste des DT-EIC-SITES'!C:C)","v":"EIC Centre Limousin"}]
[null,null,"Barberier-Brout-Vernet","Blanzy-Poste","Chantier Equipement","Les Aubrais-Orléans","Berthelming","Évreux-Embranchement","Busigny","Conflans-Ste-Honorine","Bellac","Beaucaire-Marchandises","Cavaillon",null,"Aix-les-Bains-Le Revard",{"$f":"_xlfn.XLOOKUP(O25,'Liste des DT-EIC-SITES'!D:D,'Liste des DT-EIC-SITES'!C:C)","v":"EIC Alpes"}]
[null,null,"Bas-Monistrol","Bonnard-Bassou","Chantonnay","Maintenon","Bischheim","Évreux-Navarre","Caffiers","Corbeil-Essonnes","Bergerac","Beaumont-de-Lomagne","CAVAILLON LGV",null,"Albens",{"$f":"_xlfn.XLOOKUP(O26,'Liste des DT-EIC-SITES'!D:D,'Liste des DT-EIC-SITES'!C:C)","v":"EIC Alpes"}]
[null,null,"Bayet","Brazey-en-Plaine","Châteaubourg","Malesherbes","Bischwiller","Fécamp","Calais-Fréthun","Cormeilles-en-Parisis","Bessines","Bédarieux","Château-Arnoux-St-Auban",null,"Albert",{"$f":"_xlfn.XLOOKUP(O27,'Liste des DT-EIC-SITES'!D:D,'Liste des DT-EIC-SITES'!C:C)","v":"EIC Hauts de France"}]
[null,null,"Beaurepaire","Brienon","Châteaubriant","Montargis","Bitche","Flers","Calais-Ville","Coulommiers","Biarritz","Bessèges","Cheval-Blanc Base-Travaux-LGV",null,"Albertville",{"$f":"_xlfn.XLOOKUP(O28,'Liste des DT-EIC-SITES'!D:D,'Liste des DT-EIC-SITES'!C:C)","v":"EIC Alpes"}]
[null,null,"Bellegarde","Cercy-la-Tour","Châteaubriant Tram-Train","Neuillé-Pont-Pierre","Blainville-Damelevières","Folligny","Cambrai","Dammartin-Juilly-St-Mard","BICBO","Béziers","Drap-Cantaron",null,"Albi",{"$f":"_xlfn.XLOOKUP(O29,'Liste des DT-EIC-SITES'!D:D,'Liste des DT-EIC-SITES'!C:C)","v":"EIC Midi Pyrénées"}]
[null,null,"Bellenaves","Chagny","Château-du-Loir","Neuvy-Pailloux","Blesme-Haussignemont","Gaillon-Aubevoye","Château-Thierry","Dourdan","Bordeaux-Bastide","Bourg-Madame","Embrun",null,"Albi-Madeleine",{"$f":"_xlfn.XLOOKUP(O30,'Liste des DT-EIC-SITES'!D:D,'Liste des DT-EIC-SITES'!C:C)","v":"EIC Midi Pyrénées"}]
[null,null,"Belleville-sur-Saône","Chalon-sur-Saône","Château-Gontier","Nogent-le-Rotrou","Blodelsheim","Gisors","Chaulnes","Émerainville-Pontault-Combault","Bordeaux-Hourcade","Boussens","EMT Marseille UPT Logistique MBC",null,"Alençon",{"$f":"_xlfn.XLOOKUP(O31,'Liste des DT-EIC-SITES'!D:D,'Liste des DT-EIC-SITES'!C:C)","v":"EIC Normandie"}]
[null,null,"Bloye","Champagne-sur-Vingeanne","Châteaulin","Nogent-sur-Vernisson","Bollwiller","Glos-Montfort","Chauny","EMT Paris-Sud-Ouest UPT Banlieue Brétigny","Bordeaux-St-Jean","Bram","Faisceau NOVATRANS Avignon-Champfleury",null,"Alès",{"$f":"_xlfn.XLOOKUP(O32,'Liste des DT-EIC-SITES'!D:D,'Liste des DT-EIC-SITES'!C:C)","v":"EIC Languedoc Roussillon"}]
[null,null,"Boën","Champagney","Châtelaudren-Plouagat","Patay","Bologne","Granville","Clermont-de-l'Oise","EMT Paris-Sud-Ouest UPT GL Austerlitz","Bressuire","Bretenoux-Biars","Fos-Coussoul",null,"Alixan-Châteauneuf-d'Isère",{"$f":"_xlfn.XLOOKUP(O33,'Liste des DT-EIC-SITES'!D:D,'Liste des DT-EIC-SITES'!C:C)","v":"EIC Rhône Alpes Lyon"}]
[null,null,"BONLIEU LGV","Champagnole","Chemillé","Port-Boulet","Bouilly-Roncenay","Gravenchon-Port-Jérome","Compiègne","Épinay-Villetaneuse","Brive-la-Gaillarde","Cahors","Gap",null,"ALLAN LGV",{"$f":"_xlfn.XLOOKUP(O34,'Liste des DT-EIC-SITES'!D:D,'Liste des DT-EIC-SITES'!C:C)","v":"EIC Rhône Alpes Lyon"}]
[null,null,"Bonneville","Châtel-Censoir","Cholet","Port-de-Piles","Bourmont","Honfleur","Corbehem","Épluches","Bruges","Campagnac-St-Geniez","Gardanne",null,"Allassac",{"$f":"_xlfn.XLOOKUP(O35,'Liste des DT-EIC-SITES'!D:D,'Liste des DT-EIC-SITES'!C:C)","v":"EIC Centre Limousin"}]
[null,null,"Bons-en-Chablais","Châtillon-sur-Seine","Ciments LAFARGE","Salbris","Bouzonville","L'Aigle","Coudekerque-Branche","Épône-Mézières","Bugeat","Capdenac","Grasse",null,"Allerey",{"$f":"_xlfn.XLOOKUP(O36,'Liste des DT-EIC-SITES'!D:D,'Liste des DT-EIC-SITES'!C:C)","v":"EIC Bourgogne Franche Comté"}]
[null,null,"Bonson","Chemin-Peseux","Clisson","St-Aignan-Noyers","Breuvannes","Le Havre","Creil","Ermont-Eaubonne","Busseau-sur-Creuse","Capvern","Hyères",null,"Alleyras",{"$f":"_xlfn.XLOOKUP(O37,'Liste des DT-EIC-SITES'!D:D,'Liste des DT-EIC-SITES'!C:C)","v":"EIC Auvergne Nivernais"}]
[null,null,"Bossey-Veyrier","Chèvremont","Conlie","St-Amand-Montrond-Orval","Bricon","Le Havre-Graville","Crépy-Couvron","Étampes","Bussière-Galant","Carbonne","La Barque-Fuveau",null,"Allonnes-Boisville",{"$f":"_xlfn.XLOOKUP(O38,'Liste des DT-EIC-SITES'!D:D,'Liste des DT-EIC-SITES'!C:C)","v":"EIC Centre Limousin"}]
[null,null,"Bourg-en-Bresse","Ciments d'Origny","Connerré-Beillé","St-Cyr-en-Val-La Source","Brienne-le-Château","Le Havre-Maritime","Crépy-en-Valois","Ex EMT de La Plaine","Castillon","Carcassonne","La Brillanne-Oraison",null,"ALSTOM",{"$f":"_xlfn.XLOOKUP(O39,'Liste des DT-EIC-SITES'!D:D,'Liste des DT-EIC-SITES'!C:C)","v":"EIC Alsace"}]
[null,null,"Bourg-Lastic-Messeix","Ciry-le-Noble","Cordemais","St-Florent-sur-Cher","Brumath","Le Theil-La Rouge","Dannes-Camiers","Flamboin-Gouaix","Chalandray","Carmaux","La Ciotat",null,"Altkirch",{"$f":"_xlfn.XLOOKUP(O40,'Liste des DT-EIC-SITES'!D:D,'Liste des DT-EIC-SITES'!C:C)","v":"EIC Alsace"}]
[null,null,"Bourgoin-Jallieu","Clamecy","Dinan","St-Pierre-des-Corps","Bruyères","Les Ifs","Daours","Gagny","Charmant","Cases-de-Pène","La Freissinouse",null,"Amagne-Lucquy",{"$f":"_xlfn.XLOOKUP(O41,'Liste des DT-EIC-SITES'!D:D,'Liste des DT-EIC-SITES'!C:C)","v":"EIC Lorraine Champagne Ardenne"}]
[null,null,"Bourg-St-Andéol","Corbigny","Dirinon Loperhet","Thoré-la-Rochette","Carignan","Lisieux","Dercy-Mortiers","Garches-Marnes-la-Coquette","Chasseneuil (Vienne)","Castelnaudary","La Motte-Ste-Rosseline",null,"Ambazac",{"$f":"_xlfn.XLOOKUP(O42,'Liste des DT-EIC-SITES'!D:D,'Liste des DT-EIC-SITES'!C:C)","v":"EIC Centre Limousin"}]
[null,null,"Bourg-St-Maurice","Cordesse-Igornay","Dol-de-Bretagne","Tours","Cernay","Lison","Desvres","Gargenville","Château-l'Évêque","Castelnau-d'Estrétefonds","La Pauline-Hyères",null,"Ambérieu",{"$f":"_xlfn.XLOOKUP(O43,'Liste des DT-EIC-SITES'!D:D,'Liste des DT-EIC-SITES'!C:C)","v":"EIC Alpes"}]
[null,null,"Brens-Virignin","Cosne-sur-Loire","Donges-Bonne Nouvelle","Toury","Chaligny-Neuves-Maisons","Louviers","Don-Sainghin","Gennevilliers","Châteauneuf-Bujaleuf","Castelnau-Rivière-Basse","La Seyne-Six-Fours",null,"Amboise",{"$f":"_xlfn.XLOOKUP(O44,'Liste des DT-EIC-SITES'!D:D,'Liste des DT-EIC-SITES'!C:C)","v":"EIC Centre Limousin"}]
[null,null,"Brignais","Coulanges-sur-Yonne","Doulon","Vendôme","Châlons-en-Champagne","Malaunay-Le Houlme","Douai","Goussainville","Châteauneuf-sur-Charente","Castelsarrasin","LAMBESC LGV",null,"Ambronay-Priay",{"$f":"_xlfn.XLOOKUP(O45,'Liste des DT-EIC-SITES'!D:D,'Liste des DT-EIC-SITES'!C:C)","v":"EIC Alpes"}]
[null,null,"Brioude","Cravant-Bazarnes","Écouflant","Vierzon-Ville","Champigneulles","Maromme","Dunkerque","Grandpuits","Châtellerault","Castres","LAPALUD LGV",null,"Amiens",{"$f":"_xlfn.XLOOKUP(O46,'Liste des DT-EIC-SITES'!D:D,'Liste des DT-EIC-SITES'!C:C)","v":"EIC Hauts de France"}]
[null,null,"Cevins","Crissey","Embt de la société des koalins du Finistère","Voves","Charleville-Mézières","Mézidon","Estrées-St-Denis","Grandpuits-Bagneux","Civaux","Caudiès","Laragne",null,"Ampèrevielle",{"$f":"_xlfn.XLOOKUP(O47,'Liste des DT-EIC-SITES'!D:D,'Liste des DT-EIC-SITES'!C:C)","v":"EIC Midi Pyrénées"}]
[null,null,"Chambéry-Challes-les-Eaux","Dannemarie-Velesmes","Embt de la ZI L'HERMITAGE",null,"Charmes","Montérolier-Buchy","ET Lille UPT Lens","Gretz-Armainvilliers","Cognac","Caussade","L'Argentière-les-Écrins",null,"Amplepuis",{"$f":"_xlfn.XLOOKUP(O48,'Liste des DT-EIC-SITES'!D:D,'Liste des DT-EIC-SITES'!C:C)","v":"EIC Rhône Alpes Lyon"}]
[null,null,"Chandieu-Toussieu","Decize","Embt SCBM",null,"Châtel-Nomexy","Motteville","ET Littoral UPT Fréthun (Calais)","Héricy","Condat-le-Lardin","Cazères-sur-Garonne","Le Luc-et-Le Cannet",null,"Ancenis",{"$f":"_xlfn.XLOOKUP(O49,'Liste des DT-EIC-SITES'!D:D,'Liste des DT-EIC-SITES'!C:C)","v":"EIC Bretagne Pays de la Loire"}]
[null,null,"Chapeauroux","Deluz","Embt UNICOPA",null,"Châtenois-Dolaincourt","Oissel","Étaples-Le Touquet","Isles-Armentières","Corrèze","Ceilhes-Roqueredonde","Les Arcs-Draguignan",null,"Andelot",{"$f":"_xlfn.XLOOKUP(O50,'Liste des DT-EIC-SITES'!D:D,'Liste des DT-EIC-SITES'!C:C)","v":"EIC Bourgogne Franche Comté"}]
[null,null,"Charbonnières-les-Varennes","Devecey","EMT Bretagne UPT Rennes",null,"Châtres (Aube)","Petit-Couronne","Faisceau Port Fluvial","Issy-Val-de-Seine","Couhé-Vérac","Cerbère","L'Escarène",null,"Andilly",{"$f":"_xlfn.XLOOKUP(O51,'Liste des DT-EIC-SITES'!D:D,'Liste des DT-EIC-SITES'!C:C)","v":"EIC Lorraine Champagne Ardenne"}]
[null,null,"Charix-Lalleyriat","Digoin","Évron",null,"Chaumont","Petit-Quevilly","Fère-en-Tardenois","Ivry-sur-Seine","Coulombiers","Chamborigaud","L'Estaque",null,"Angers-Maître-École",{"$f":"_xlfn.XLOOKUP(O52,'Liste des DT-EIC-SITES'!D:D,'Liste des DT-EIC-SITES'!C:C)","v":"EIC Bretagne Pays de la Loire"}]
[null,null,"Charlieu","Dijon-Porte-d'Ouche-Perrigny","Faisceau Equipement",null,"Chevillon","Pont-de-l'Arche","Fourmies","JABLINES LGV","Coussac-Bonneval","Chanac","L'Isle-Fontaine-de-Vaucluse",null,"Angers-St-Laud",{"$f":"_xlfn.XLOOKUP(O53,'Liste des DT-EIC-SITES'!D:D,'Liste des DT-EIC-SITES'!C:C)","v":"EIC Bretagne Pays de la Loire"}]
[null,null,"Chasse-sur-Rhône","Dijon-Porte-Neuve","Gaël",null,"Clermont-en-Argonne","Prey","Grande-Synthe","Juvisy","Coutras","Cier-de-Luchon","Manoeuvres Marseille St Charles",null,"Angers-St-Serge",{"$f":"_xlfn.XLOOKUP(O54,'Liste des DT-EIC-SITES'!D:D,'Liste des DT-EIC-SITES'!C:C)","v":"EIC Bretagne Pays de la Loire"}]
[null,null,"Chavenon","Dijon-Ville","Gennes-Longuefuye",null,"Coligny (Marne)","Rouen-Orléans","Grandvilliers","La Chapelle-la-Reine","Dax","Cieurac (Lot)","Manosque-Gréoux-les-Bains",null,"Angerville",{"$f":"_xlfn.XLOOKUP(O55,'Liste des DT-EIC-SITES'!D:D,'Liste des DT-EIC-SITES'!C:C)","v":"EIC Paris Sud Ouest"}]
[null,null,"Chedde","Dole","Gérard",null,"Colmar","Rouen-Rive-Droite","Guignicourt","La Défense","Égletons","Cintegabelle","Marseille-Blancarde",null,"Anglefort",{"$f":"_xlfn.XLOOKUP(O56,'Liste des DT-EIC-SITES'!D:D,'Liste des DT-EIC-SITES'!C:C)","v":"EIC Alpes"}]
[null,null,"CLAVEYSON BREN","Époisses","Guingamp",null,"Conflans-Jarny","Rouen-Rive-Gauche","Ham","La Ferté-Alais","Estivaux","Colombiers","Marseille-Maritime-Arenc",null,"Angoulême",{"$f":"_xlfn.XLOOKUP(O57,'Liste des DT-EIC-SITES'!D:D,'Liste des DT-EIC-SITES'!C:C)","v":"EIC Aquitaine Poitou Charentes"}]
[null,null,"Clelles-Mens","Essertenne-Cecey","Hanvec",null,"Coussey","Rouxmesnil","Haubourdin","La Ferté-Gaucher","ET Bordeaux UPT Thermique Résid T Périgueux","Colomiers","Marseille-Maritime-Canet",null,"Aniche",{"$f":"_xlfn.XLOOKUP(O58,'Liste des DT-EIC-SITES'!D:D,'Liste des DT-EIC-SITES'!C:C)","v":"EIC Hauts de France"}]
[null,null,"Clermont-Ferrand","ET Rhin Rhône UPT Belfort","Hennebont",null,"Crancey","Serqueux","Hazebrouck","La Ferté-sous-Jouarre","Eygurande-Merlines","Condom","Marseille-Prado",null,"Annecy",{"$f":"_xlfn.XLOOKUP(O59,'Liste des DT-EIC-SITES'!D:D,'Liste des DT-EIC-SITES'!C:C)","v":"EIC Alpes"}]
[null,null,"Clermont-Les-Gravanches-Triage","Étang","Issé",null,"Creutzwald","Serquigny","Hirson","La Garenne-Colombes","Eymoutiers-Vassivière","Damiatte-St-Paul","Marseille-St-Charles",null,"Annemasse",{"$f":"_xlfn.XLOOKUP(O60,'Liste des DT-EIC-SITES'!D:D,'Liste des DT-EIC-SITES'!C:C)","v":"EIC Alpes"}]
[null,null,"Clonas","Faisceau dépôt","ITE Lambert Industrie",null,"Culmont-Chalindrey","Sotteville","Isbergues","Lagny-Thorigny","Facture-Biganos","Dégagnac","Martigues",null,"Anor",{"$f":"_xlfn.XLOOKUP(O61,'Liste des DT-EIC-SITES'!D:D,'Liste des DT-EIC-SITES'!C:C)","v":"EIC Hauts de France"}]
[null,null,"Cluses","Faisceau Plateforme Multimodale","ITE Passenaud",null,"Damblain","St-André-de-l'Eure","Jeumont","Le Bourget","Forgevieille","Dieupentale","Menton",null,"Antibes",{"$f":"_xlfn.XLOOKUP(O62,'Liste des DT-EIC-SITES'!D:D,'Liste des DT-EIC-SITES'!C:C)","v":"EIC Provence Alpes Côte d'Azur"}]
[null,null,"Collonges-Fontaines","Fleurville-Pont-de-Vaux","Janzé",null,"Deville","St-Aubin-du-Vieil-Évreux","La Ferté-Milon","Le Raincy-Villemomble-Montfermeil","Gazinet-Cestas","EIV de Bretenoux-Biars","Meyrargues",null,"Apach",{"$f":"_xlfn.XLOOKUP(O63,'Liste des DT-EIC-SITES'!D:D,'Liste des DT-EIC-SITES'!C:C)","v":"EIC Lorraine Champagne Ardenne"}]
[null,null,"Commentry","Franois","Kerhuon",null,"Diemeringen","St-Lô","Lamotte-Breuil","Le Vert-de-Maisons","Grand-Pont-Preuilly","Elne","Mirabeau",null,"Aramon",{"$f":"_xlfn.XLOOKUP(O64,'Liste des DT-EIC-SITES'!D:D,'Liste des DT-EIC-SITES'!C:C)","v":"EIC Languedoc Roussillon"}]
[null,null,"Condrieu","Frasne","La Basse-Indre-St-Herblain",null,"Dieulouard","St-Pierre-du-Vauvray","Laon","Léchelle (Seine-et-Marne)","Guéret","Engayresque","Miramas",null,"Arbois",{"$f":"_xlfn.XLOOKUP(O65,'Liste des DT-EIC-SITES'!D:D,'Liste des DT-EIC-SITES'!C:C)","v":"EIC Bourgogne Franche Comté"}]
[null,null,"Courzieu-Brussieu","Génelard","La Baule-Escoublac",null,"Dieuze","St-Pierre-lès-Elbeuf","Le Petit-Thérain","Les Mureaux","Hendaye","Escalquens","Mison",null,"ARBOIS LGV",{"$f":"_xlfn.XLOOKUP(O66,'Liste des DT-EIC-SITES'!D:D,'Liste des DT-EIC-SITES'!C:C)","v":"EIC Provence Alpes Côte d'Azur"}]
[null,null,"Crest","Genlis","La Brohinière",null,"Dormans","St-Pierre-le-Viger-Fontaine-le-Dun","Le Plessis-Belleville","Les Portes de St-Cyr","Ingrandes-sur-Vienne","Espira-de-l'Agly","Montdauphin-Guillestre",null,"Arcachon",{"$f":"_xlfn.XLOOKUP(O67,'Liste des DT-EIC-SITES'!D:D,'Liste des DT-EIC-SITES'!C:C)","v":"EIC Aquitaine Poitou Charentes"}]
[null,null,"Cruas","Gergy","La Chaize-le-Vicomte",null,"Dugny","St-Vaast-Bosville","Lens","Lieusaint-Moissy","Jardres","Estagel","Nice-St-Augustin",null,"Arc-et-Senans",{"$f":"_xlfn.XLOOKUP(O68,'Liste des DT-EIC-SITES'!D:D,'Liste des DT-EIC-SITES'!C:C)","v":"EIC Bourgogne Franche Comté"}]
[null,null,"Culoz","Gevrey-Chambertin","La Chapelle-Anthenaise",null,"Duttlenheim","St-Valéry-en-Caux","Lille-Champ-de-Mars","Limay","Jonzac","Faisceau Tarbes V62 à V90","Nice-St-Roch",null,"Arches",{"$f":"_xlfn.XLOOKUP(O69,'Liste des DT-EIC-SITES'!D:D,'Liste des DT-EIC-SITES'!C:C)","v":"EIC Lorraine Champagne Ardenne"}]
[null,null,"Cusset","Gilly-sur-Loire","La Chartre-sur-le-Loir",null,"Epernay","Surdon","Lille-Délivrance","Lizy-sur-Ourcq","La Coquille","Faisceau Vestric","Nice-Ville",null,"Archignat",{"$f":"_xlfn.XLOOKUP(O70,'Liste des DT-EIC-SITES'!D:D,'Liste des DT-EIC-SITES'!C:C)","v":"EIC Auvergne Nivernais"}]
[null,null,"Darsac","Giromagny","La Ferté-Bernard",null,"Épinal","Triage impaire de Soquence","Lille-Flandres","Longueville","La Couronne","Faugères","Orange",null,"Arcis-sur-Aube",{"$f":"_xlfn.XLOOKUP(O71,'Liste des DT-EIC-SITES'!D:D,'Liste des DT-EIC-SITES'!C:C)","v":"EIC Lorraine Champagne Ardenne"}]
[null,null,"Die","Gray","La Hutte-Coulombiers",null,"Erstein","Trouville-Deauville","Lille-St-Sauveur","Maison-Rouge-en-Brie","La Crèche","Fenouillet-St-Alban","Orgon",null,"Argent",{"$f":"_xlfn.XLOOKUP(O72,'Liste des DT-EIC-SITES'!D:D,'Liste des DT-EIC-SITES'!C:C)","v":"EIC Centre Limousin"}]
[null,null,"Dompierre-Sept-Fons","Héricourt","La Meilleraie (Vendée)",null,"Esternay","Valognes","Loison-sous-Lens","Maisse","La Gélie","Fiac","Pas-des-Lanciers",null,"Argentan",{"$f":"_xlfn.XLOOKUP(O73,'Liste des DT-EIC-SITES'!D:D,'Liste des DT-EIC-SITES'!C:C)","v":"EIC Normandie"}]
[null,null,"Doyet-la-Presle","Imphy","La Ménitré",null,"Estissac","Verneuil-sur-Avre","Longueau","Mantes-la-Jolie","La Mothe-St-Héray","Fleurance","Peille",null,"Argenteuil GC",{"$f":"_xlfn.XLOOKUP(O74,'Liste des DT-EIC-SITES'!D:D,'Liste des DT-EIC-SITES'!C:C)","v":"EIC Paris Est Ouest Francilien"}]
[null,null,"Dunières","Is-sur-Tille","La Mothe-Achard",null,"Étival-Clairefontaine","Vernon-Giverny","Longueil-Ste-Marie","Marles-en-Brie","La Rochelle-Ville","Foix","Pertuis",null,"Argentière",{"$f":"_xlfn.XLOOKUP(O75,'Liste des DT-EIC-SITES'!D:D,'Liste des DT-EIC-SITES'!C:C)","v":"EIC Alpes"}]
[null,null,"ELF ANTAR","Joigny","La Pointe-Bouchemaine",null,"Eurville-Bienville","Vignats","Lourches","Marly-le-Roi","La Souterraine","Fontpédrouse-St-Thomas-les-Bains","Peynier-Rousset",null,"Argenton-sur-Creuse",{"$f":"_xlfn.XLOOKUP(O76,'Liste des DT-EIC-SITES'!D:D,'Liste des DT-EIC-SITES'!C:C)","v":"EIC Centre Limousin"}]
[null,null,"Embt Km 9,2","Jussey","La Possonnière",null,"Faulquemont","Villedieu-les-Poêles","Lumbres","Marne-la-Vallée-Chessy","La Teste","Font-Romeu-Odeillo-Via","PIOLENC LGV",null,"Arles",{"$f":"_xlfn.XLOOKUP(O77,'Liste des DT-EIC-SITES'!D:D,'Liste des DT-EIC-SITES'!C:C)","v":"EIC Provence Alpes Côte d'Azur"}]
[null,null,"Emin Leydier","La Charité-sur-Loire","La Roche-sur-Yon",null,"Fère-Champenoise","Vire","Marais-de-Lomme","MAROLLES Faisceau Impair V13 à V15","La Tricherie","Gaillac","Port-de-Bouc",null,"Arleux",{"$f":"_xlfn.XLOOKUP(O78,'Liste des DT-EIC-SITES'!D:D,'Liste des DT-EIC-SITES'!C:C)","v":"EIC Hauts de France"}]
[null,null,"Ennezat-Clerlande","La Clayette-Baudemont","La Selle-en-Luitré",null,"Fismes","Yvetot","Marle-sur-Serre","MAROLLES Faisceau Impair V5 à V9","la vache bonnaous","Génolhac","Ranguin",null,"Armentières",{"$f":"_xlfn.XLOOKUP(O79,'Liste des DT-EIC-SITES'!D:D,'Liste des DT-EIC-SITES'!C:C)","v":"EIC Hauts de France"}]
[null,null,"Épierre-St-Léger","La Gravoine","La Suze",null,"Florange",null,"Marquise-Rinxent","Marolles-en-Hurepoix","Labouheyre","Gignac-Cressensac","Rognac",null,"Arnage",{"$f":"_xlfn.XLOOKUP(O80,'Liste des DT-EIC-SITES'!D:D,'Liste des DT-EIC-SITES'!C:C)","v":"EIC Bretagne Pays de la Loire"}]
[null,null,"ET Lyon-Mouche UPT Portes","LACOUR D ARCENAY Faisceau pair 6 à 22","Lamballe",null,"Fontenoy-sur-Moselle",null,"Maubeuge","Massy-Palaiseau","Lacq","Gourdon","Savines",null,"Arques (Pas-de-Calais)",{"$f":"_xlfn.XLOOKUP(O81,'Liste des DT-EIC-SITES'!D:D,'Liste des DT-EIC-SITES'!C:C)","v":"EIC Hauts de France"}]
[null,null,"Eurre","Laignes","Landerneau",null,"Forbach",null,"Mézy","Meaux","Lalinde","Gragnague","Sénas",null,"Arras",{"$f":"_xlfn.XLOOKUP(O82,'Liste des DT-EIC-SITES'!D:D,'Liste des DT-EIC-SITES'!C:C)","v":"EIC Hauts de France"}]
[null,null,"Évian-les-Bains","Laissey","Lannion",null,"Foug",null,"Montdidier","Melun","Laluque","Gramat","SENAS LGV",null,"Artenay",{"$f":"_xlfn.XLOOKUP(O83,'Liste des DT-EIC-SITES'!D:D,'Liste des DT-EIC-SITES'!C:C)","v":"EIC Centre Limousin"}]
[null,null,"Évires","Lamarche-sur-Saône","Laval",null,"Fougerolles",null,"Montescourt","Meulan-Hardricourt","Langon","Grand'Combe-La Pise","Serres",null,"Artix",{"$f":"_xlfn.XLOOKUP(O84,'Liste des DT-EIC-SITES'!D:D,'Liste des DT-EIC-SITES'!C:C)","v":"EIC Aquitaine Poitou Charentes"}]
[null,null,"Firminy","Laroche-Migennes","Le Croisic",null,"Frouard",null,"Montières","Mitry-Claye","Lavaufranche","Grisolles","Sisteron",null,"Arvant",{"$f":"_xlfn.XLOOKUP(O85,'Liste des DT-EIC-SITES'!D:D,'Liste des DT-EIC-SITES'!C:C)","v":"EIC Auvergne Nivernais"}]
[null,null,"FLECHET","LAURENT","Le Légué",null,"Gandrange-Amnéville",null,"Mont-Notre-Dame","Montereau","Le Boucau","Ille-sur-Têt","Sorgues-Châteauneuf-du-Pape",null,"Ascoux",{"$f":"_xlfn.XLOOKUP(O86,'Liste des DT-EIC-SITES'!D:D,'Liste des DT-EIC-SITES'!C:C)","v":"EIC Centre Limousin"}]
[null,null,"Fort-l'Écluse-Collonges","Le Creusot","Le Mans",null,"Gigny-Brandonvillers",null,"Nanteuil-le-Haudouin","Montfort-l'Amaury-Mère","Le Bugue","La Bastide-St-Laurent-les-Bains","St-Cyr-les-Lècques-La Cadière",null,"Asnières-lès-Bourges",{"$f":"_xlfn.XLOOKUP(O87,'Liste des DT-EIC-SITES'!D:D,'Liste des DT-EIC-SITES'!C:C)","v":"EIC Centre Limousin"}]
[null,null,"Frontenex","Le Creusot-Montceau-Montchanin","Le Priory",null,"Gironcourt-Houécourt",null,"Nesle","Montigny-Beauchamp","Le Buisson","La Roubinarie","St-Dalmas-de-Tende",null,"Aspres-sur-Buëch",{"$f":"_xlfn.XLOOKUP(O88,'Liste des DT-EIC-SITES'!D:D,'Liste des DT-EIC-SITES'!C:C)","v":"EIC Provence Alpes Côte d'Azur"}]
[null,null,"Gannat","Le Valdahon","Le Rody",null,"Givet",null,"Neuilly-St-Front","Montrouge-Châtillon","Le Dorat","Labarthe-Avezac","St-Louis-les-Aygalades",null,"Assier",{"$f":"_xlfn.XLOOKUP(O89,'Liste des DT-EIC-SITES'!D:D,'Liste des DT-EIC-SITES'!C:C)","v":"EIC Midi Pyrénées"}]
[null,null,"Gerzat","Les Laumes-Alésia","Les Sables-d'Olonne",null,"Gondrecourt-le-Château",null,"Noyelles-sur-Mer","Montsoult-Maffliers","Le Got","Labruguière","St-Marcel",null,"Athies-sous-Laon",{"$f":"_xlfn.XLOOKUP(O90,'Liste des DT-EIC-SITES'!D:D,'Liste des DT-EIC-SITES'!C:C)","v":"EIC Hauts de France"}]
[null,null,"Givors","Les Longevilles-Rochejean","L'Herbergement-Les Brouzils",null,"Graffenstaden",null,"Noyon","Moret-Veneux-les-Sablons","Le Verdon","Lacourtensourt","St-Martin-de-Crau",null,"Attigny (Ardennes)",{"$f":"_xlfn.XLOOKUP(O91,'Liste des DT-EIC-SITES'!D:D,'Liste des DT-EIC-SITES'!C:C)","v":"EIC Lorraine Champagne Ardenne"}]
[null,null,"Givors-Canal","Leuglay-Voulaines","L'Hermitage-Mordelles",null,"Gresswiller",null,"Onnaing","Mortcerf","Les Eyzies","Laguépie","St-Raphaël-Valescure",null,"Attin-Garage",{"$f":"_xlfn.XLOOKUP(O92,'Liste des DT-EIC-SITES'!D:D,'Liste des DT-EIC-SITES'!C:C)","v":"EIC Hauts de France"}]
[null,null,"Grand-Croix","Lézinnes","Longué",null,"Gudmont",null,"Orchies","Musée-d'Orsay","Les Ormes-sur-Vienne","Lalbenque-Fontanes","Tarascon",null,"Aubagne",{"$f":"_xlfn.XLOOKUP(O93,'Liste des DT-EIC-SITES'!D:D,'Liste des DT-EIC-SITES'!C:C)","v":"EIC Provence Alpes Côte d'Azur"}]
[null,null,"Grenoble","L'Hôpital-du-Grosbois","Lorient",null,"Hagondange",null,"Ormoy-Villers","Nangis","Lescar","Lamothe-Fénelon","Tende",null,"Aubazine-St-Hilaire",{"$f":"_xlfn.XLOOKUP(O94,'Liste des DT-EIC-SITES'!D:D,'Liste des DT-EIC-SITES'!C:C)","v":"EIC Centre Limousin"}]
[null,null,"Grenoble-Université-Gières","Liernais","Loudéac",null,"Haguenau",null,"Orry-la-Ville-Coye","Nanterre La Folie","Lesparre","Langogne","Toulon",null,"Aubigné-Racan",{"$f":"_xlfn.XLOOKUP(O95,'Liste des DT-EIC-SITES'!D:D,'Liste des DT-EIC-SITES'!C:C)","v":"EIC Bretagne Pays de la Loire"}]
[null,null,"Grésy-sur-Isère","L'Isle-sur-le-Doubs","Luçon",null,"Hargarten-Falck",null,"Oulchy-Breny","Nanteuil-Saâcy","Libourne","Lannemezan","Triage Avignon",null,"Aubigny-sur-Nère",{"$f":"_xlfn.XLOOKUP(O96,'Liste des DT-EIC-SITES'!D:D,'Liste des DT-EIC-SITES'!C:C)","v":"EIC Centre Limousin"}]
[null,null,"Groisy-Thorens-la-Caille","Lons-le-Saunier","Mauron",null,"Hausbergen",null,"Outreau","Nemours-St-Pierre","Limoges-Bénédictins","L'Ardoise","Triage Miramas",null,"Auch",{"$f":"_xlfn.XLOOKUP(O97,'Liste des DT-EIC-SITES'!D:D,'Liste des DT-EIC-SITES'!C:C)","v":"EIC Midi Pyrénées"}]
[null,null,"Heyrieux","L'Orme-St-Pantaléon","Messac-Guipry",null,"Hayange",null,"Petite-Synthe","Neuilly-sur-Marne","Limoges-Montjovis","Larrazet","Trinquetaille",null,"Audun-le-Roman",{"$f":"_xlfn.XLOOKUP(O98,'Liste des DT-EIC-SITES'!D:D,'Liste des DT-EIC-SITES'!C:C)","v":"EIC Lorraine Champagne Ardenne"}]
[null,null,"Huriel","Louhans","Montaigu-Vendée",null,"Héming",null,"Poix-de-Picardie","Nogent-Le Perreux","Limoges-Puy-Imbert","Latour-de-Carol-Enveitg","UP Miramas (Technicentre PACA)",null,"Aulnat-Aéroport",{"$f":"_xlfn.XLOOKUP(O99,'Liste des DT-EIC-SITES'!D:D,'Liste des DT-EIC-SITES'!C:C)","v":"EIC Auvergne Nivernais"}]
[null,null,"Issoire","Lure","Montauban-de-Bretagne",null,"Herrlisheim",null,"Prouvy-Thiant","Noisy-le-Sec","Luché","Laurens","Veynes-Dévoluy",null,"Aulnay-sous-Bois",{"$f":"_xlfn.XLOOKUP(O100,'Liste des DT-EIC-SITES'!D:D,'Liste des DT-EIC-SITES'!C:C)","v":"EIC Paris Nord"}]
[null,null,"ITE 526,5","Lux","Montfort-le-Gesnois",null,"Hochfelden",null,"Raismes","Orly-Ville","Lusignan","Laval-de-Cère","Viévola",null,"Aulnoye-Aymeries",{"$f":"_xlfn.XLOOKUP(O101,'Liste des DT-EIC-SITES'!D:D,'Liste des DT-EIC-SITES'!C:C)","v":"EIC Hauts de France"}]
[null,null,"ITE N°1","Luxeuil-les-Bains","Montoir-de-Bretagne",null,"Huningue",null,"Recquignies","Pantin","Lussac-les-Châteaux","Lavaur",null,null,"Aumale",{"$f":"_xlfn.XLOOKUP(O102,'Liste des DT-EIC-SITES'!D:D,'Liste des DT-EIC-SITES'!C:C)","v":"EIC Hauts de France"}]
[null,null,"Jarrie-Vizille","Luzy","Montreuil-Bellay",null,"Île-Napoléon",null,"Ribécourt","Parc-des-Expositions","Luxé","Lavilledieu",null,null,"Aumont-Aubrac",{"$f":"_xlfn.XLOOKUP(O103,'Liste des DT-EIC-SITES'!D:D,'Liste des DT-EIC-SITES'!C:C)","v":"EIC Languedoc Roussillon"}]
[null,null,"La Bâthie","Mâcon-Ville","Montreuil-sur-Ille",null,"Île-Napoléon-Garage",null,"Rochy-Condé","Paris-Austerlitz","Marans","Le Boulou-Perthus",null,null,"Aunay-Tréon",{"$f":"_xlfn.XLOOKUP(O104,'Liste des DT-EIC-SITES'!D:D,'Liste des DT-EIC-SITES'!C:C)","v":"EIC Paris Sud Ouest"}]
[null,null,"La Bourboule","Mâlain","Morlaix",null,"Jarville-la-Malgrange",null,"Saleux","Paris-Batignolles","Margaux","Le Bousquet-d'Orb",null,null,"Auneau",{"$f":"_xlfn.XLOOKUP(O105,'Liste des DT-EIC-SITES'!D:D,'Liste des DT-EIC-SITES'!C:C)","v":"EIC Centre Limousin"}]
[null,null,"La Ferté-Hauterive","Manlay","Nantes",null,"Jessains",null,"Santes","Paris-Bercy","Marmande","Le Monastier",null,null,"Auneau-Ville",{"$f":"_xlfn.XLOOKUP(O106,'Liste des DT-EIC-SITES'!D:D,'Liste des DT-EIC-SITES'!C:C)","v":"EIC Centre Limousin"}]
[null,null,"La Fouillouse","Maxilly-sur-Saône","Nantilly-Saumur",null,"Joinville",null,"Sequedin","Paris-Bercy-Charolais","Marracq","Lectoure",null,null,"Auray",{"$f":"_xlfn.XLOOKUP(O107,'Liste des DT-EIC-SITES'!D:D,'Liste des DT-EIC-SITES'!C:C)","v":"EIC Bretagne Pays de la Loire"}]
[null,null,"La Miouze-Rochefort","Mervans","Neau",null,"Kalhausen",null,"Sin-le-Noble","Paris-Bercy-Conflans","Masseret","Lexos",null,null,"Aurec",{"$f":"_xlfn.XLOOKUP(O108,'Liste des DT-EIC-SITES'!D:D,'Liste des DT-EIC-SITES'!C:C)","v":"EIC Auvergne Nivernais"}]
[null,null,"La Roche-sur-Foron","Mesnay-Arbois","Nort-sur-Erdre",null,"Kédange",null,"Soissons","Paris-Est","Mauzé","Lézignan (Aude)",null,null,"Aurillac",{"$f":"_xlfn.XLOOKUP(O109,'Liste des DT-EIC-SITES'!D:D,'Liste des DT-EIC-SITES'!C:C)","v":"EIC Auvergne Nivernais"}]
[null,null,"La Valbonne","Mirebeau-sur-Bèze","Oudon",null,"Kuntzig",null,"Somain","Paris-Gare-de-Lyon","Mazières-Verruyes","L'Hospitalet-près-l'Andorre",null,null,"Auterive",{"$f":"_xlfn.XLOOKUP(O110,'Liste des DT-EIC-SITES'!D:D,'Liste des DT-EIC-SITES'!C:C)","v":"EIC Midi Pyrénées"}]
[null,null,"La Voulte-sur-Rhône","Miserey-Salines","Paimpol",null,"La Vancelle",null,"St-Erme","Paris-La Chapelle","Meymac","Limoux",null,null,"Autet",{"$f":"_xlfn.XLOOKUP(O111,'Liste des DT-EIC-SITES'!D:D,'Liste des DT-EIC-SITES'!C:C)","v":"EIC Bourgogne Franche Comté"}]
[null,null,"Lagnieu","Montbard","Penhoët",null,"La Wantzenau",null,"St-Omer","Paris-La Chapelle-Évangile","Mignaloux-Nouaillé","L'Isle-Jourdain",null,null,"Autrey-lès-Gray",{"$f":"_xlfn.XLOOKUP(O112,'Liste des DT-EIC-SITES'!D:D,'Liste des DT-EIC-SITES'!C:C)","v":"EIC Bourgogne Franche Comté"}]
[null,null,"Lamativie","Montbéliard","Plaintel",null,"Laferté-sur-Amance",null,"St-Pol-sur-Ternoise","Paris-Nord","Monsempron-Libos","Lourdes",null,null,"Autun",{"$f":"_xlfn.XLOOKUP(O113,'Liste des DT-EIC-SITES'!D:D,'Liste des DT-EIC-SITES'!C:C)","v":"EIC Bourgogne Franche Comté"}]
[null,null,"Lamure-sur-Azergues","Montceau-les-Mines","Plancoët",null,"Lamarche",null,"St-Quentin","Paris-St-Lazare","Mont-de-Marsan","Luchon",null,null,"Auxerre-St-Gervais",{"$f":"_xlfn.XLOOKUP(O114,'Liste des DT-EIC-SITES'!D:D,'Liste des DT-EIC-SITES'!C:C)","v":"EIC Paris Sud Est"}]
[null,null,"Langeac","Montchanin","Plestan",null,"Langres",null,"Tergnier","Paris-Tolbiac","Montendre","Luc-Primaube",null,null,"Auxonne",{"$f":"_xlfn.XLOOKUP(O115,'Liste des DT-EIC-SITES'!D:D,'Liste des DT-EIC-SITES'!C:C)","v":"EIC Bourgogne Franche Comté"}]
[null,null,"Lapalisse-St-Prix","Morez","Pleyber-Christ",null,"Lauterbourg",null,"Thourotte","Paris-Vaugirard","Montmoreau","Lunel",null,null,"Auzances",{"$f":"_xlfn.XLOOKUP(O116,'Liste des DT-EIC-SITES'!D:D,'Liste des DT-EIC-SITES'!C:C)","v":"EIC Auvergne Nivernais"}]
[null,null,"Lapeyrouse","Morteau","Plouaret-Trégor",null,"Lérouville",null,"Tourcoing","Persan-Beaumont","Montmorillon","Luzenac-Garanou",null,null,"Avallon",{"$f":"_xlfn.XLOOKUP(O117,'Liste des DT-EIC-SITES'!D:D,'Liste des DT-EIC-SITES'!C:C)","v":"EIC Paris Sud Est"}]
[null,null,"LAPEYROUSE MORNAY","Mouchard","Plounérin",null,"Liart",null,"Trith-St-Léger","Plaisir-Grignon","Montpon-Ménestérol","Malause",null,null,"Avesnes",{"$f":"_xlfn.XLOOKUP(O118,'Liste des DT-EIC-SITES'!D:D,'Liste des DT-EIC-SITES'!C:C)","v":"EIC Hauts de France"}]
[null,null,"Laqueuille","Neuilly-lès-Dijon","Pontchâteau",null,"Liffol-le-Grand",null,"Valenciennes","Poissy","Morcenx","Marignac-St-Béat",null,null,"Avignon-Centre",{"$f":"_xlfn.XLOOKUP(O119,'Liste des DT-EIC-SITES'!D:D,'Liste des DT-EIC-SITES'!C:C)","v":"EIC Provence Alpes Côte d'Azur"}]
[null,null,"Laroquebrou","Neuvy-Sautour","Pontivy",null,"Ligny",null,"Vierzy","Pont-Cardinet","Mussidan","Marvejols",null,null,"Avignon-Fontcouverte",{"$f":"_xlfn.XLOOKUP(O120,'Liste des DT-EIC-SITES'!D:D,'Liste des DT-EIC-SITES'!C:C)","v":"EIC Provence Alpes Côte d'Azur"}]
[null,null,"Le Cheylas-La Buissière","Neuvy-sur-Loire","Pontrieux",null,"Longuyon",null,"Villers-Cotterêts","Pontoise","Naintré-les-Barres","Maubourguet",null,null,"Avignon-TGV",{"$f":"_xlfn.XLOOKUP(O121,'Liste des DT-EIC-SITES'!D:D,'Liste des DT-EIC-SITES'!C:C)","v":"EIC Provence Alpes Côte d'Azur"}]
[null,null,"Le Lioran","Nevers","Pornic",null,"Longwy",null,"Zone Industrielle Soissons St-Paul","Provins","Nantiat","Mazamet",null,null,"Avord",{"$f":"_xlfn.XLOOKUP(O122,'Liste des DT-EIC-SITES'!D:D,'Liste des DT-EIC-SITES'!C:C)","v":"EIC Centre Limousin"}]
[null,null,"Le Pouzin","Nuits-sous-Ravières","Poste MR de Quimper (Technicentre Bretagne)",null,"Loudrefing",null,null,"Rambouillet","Nexon","Mende",null,null,"Avranches",{"$f":"_xlfn.XLOOKUP(O123,'Liste des DT-EIC-SITES'!D:D,'Liste des DT-EIC-SITES'!C:C)","v":"EIC Normandie"}]
[null,null,"Le Puy-en-Velay","Nuits-St-Georges","Pouzauges",null,"Lumes",null,null,"Ris-Orangis","Niort","Millau",null,null,"Ax-les-Thermes",{"$f":"_xlfn.XLOOKUP(O124,'Liste des DT-EIC-SITES'!D:D,'Liste des DT-EIC-SITES'!C:C)","v":"EIC Midi Pyrénées"}]
[null,null,"Le Teil","Orchamps","Questembert",null,"Lunéville",null,null,"RNUR Accès Est","Niversac","Moissac",null,null,"Ayron-Latillé",{"$f":"_xlfn.XLOOKUP(O125,'Liste des DT-EIC-SITES'!D:D,'Liste des DT-EIC-SITES'!C:C)","v":"EIC Aquitaine Poitou Charentes"}]
[null,null,"Lempdes (Haute-Loire)","Ossun","Quiberon",null,"Lutzelbourg",null,null,"Rosny-sous-Bois","Noailles (Corrèze)","Montastruc-la-Conseillère",null,null,"Aytré",{"$f":"_xlfn.XLOOKUP(O126,'Liste des DT-EIC-SITES'!D:D,'Liste des DT-EIC-SITES'!C:C)","v":"EIC Aquitaine Poitou Charentes"}]
[null,null,"Les Ancizes-St-Georges","Pagny","Quimper",null,"Mailly-le-Camp",null,null,"Rosny-sur-Seine","Oloron-Ste-Marie","Montauban-Ville-Bourbon",null,null,"Azay-le-Rideau",{"$f":"_xlfn.XLOOKUP(O127,'Liste des DT-EIC-SITES'!D:D,'Liste des DT-EIC-SITES'!C:C)","v":"EIC Centre Limousin"}]
[null,null,"Les Houches","Paray-le-Monial","Redon",null,"Manois",null,null,"Rungis-la-Fraternelle","Pamproux","Montbartier",null,null,"Baccarat",{"$f":"_xlfn.XLOOKUP(O128,'Liste des DT-EIC-SITES'!D:D,'Liste des DT-EIC-SITES'!C:C)","v":"EIC Lorraine Champagne Ardenne"}]
[null,null,"Leyment","Parc Divisionnaire VB","Rennes",null,"Margut-Fromy",null,null,"Sartrouville","Parcoul-Médillac","Mont-Louis-La Cabanasse",null,null,"Badan",{"$f":"_xlfn.XLOOKUP(O129,'Liste des DT-EIC-SITES'!D:D,'Liste des DT-EIC-SITES'!C:C)","v":"EIC Rhône Alpes Lyon"}]
[null,null,"Lezoux","Pasilly","Retiers",null,"Menaucourt",null,null,"SATEBA","Parsac-Gouzon","Montpaon",null,null,"Bagnac",{"$f":"_xlfn.XLOOKUP(O130,'Liste des DT-EIC-SITES'!D:D,'Liste des DT-EIC-SITES'!C:C)","v":"EIC Midi Pyrénées"}]
[null,null,"Livron","Pavillon-lès-Grancey","Rezé-Pont-Rousseau",null,"Merrey",null,null,"Sèvres-Rive-Gauche","Parthenay","Montpellier-les-Prés-d'Arènes",null,null,"Bagnères-de-Bigorre",{"$f":"_xlfn.XLOOKUP(O131,'Liste des DT-EIC-SITES'!D:D,'Liste des DT-EIC-SITES'!C:C)","v":"EIC Midi Pyrénées"}]
[null,null,"Loire","Phillips Eclairage","Roscoff",null,"Metz-devant-les-Ponts",null,null,"SOLERS LGV","Pau","Montpellier-St-Roch",null,null,"Bagnols",{"$f":"_xlfn.XLOOKUP(O132,'Liste des DT-EIC-SITES'!D:D,'Liste des DT-EIC-SITES'!C:C)","v":"EIC Languedoc Roussillon"}]
[null,null,"Longeray-Léaz","Poinçon","Rosporden",null,"Metzeral",null,null,"Souppes-Château-Landon","Pauillac","Montpezat",null,null,"Bailleul-sur-Thérain",{"$f":"_xlfn.XLOOKUP(O133,'Liste des DT-EIC-SITES'!D:D,'Liste des DT-EIC-SITES'!C:C)","v":"EIC Paris Nord"}]
[null,null,"Loubaresse","Poinson-Beneuvre","Sablé-sur-Sarthe",null,"Metz-Nord",null,null,"Stains","Penne","Montrabé",null,null,"Bains-les-Bains",{"$f":"_xlfn.XLOOKUP(O134,'Liste des DT-EIC-SITES'!D:D,'Liste des DT-EIC-SITES'!C:C)","v":"EIC Lorraine Champagne Ardenne"}]
[null,null,"Lozanne","Poligny","Saumur",null,"Metz-Sablon",null,null,"St-Cloud","Périgueux","Montréjeau-Gourdan-Polignan",null,null,"Balaruc",{"$f":"_xlfn.XLOOKUP(O135,'Liste des DT-EIC-SITES'!D:D,'Liste des DT-EIC-SITES'!C:C)","v":"EIC Languedoc Roussillon"}]
[null,null,"Luc-en-Diois","Pontailler-sur-Saône","Savenay",null,"Metz-Ville",null,null,"St-Cyr","Peyrehorade","Moux (Aude)",null,null,"Balbigny",{"$f":"_xlfn.XLOOKUP(O136,'Liste des DT-EIC-SITES'!D:D,'Liste des DT-EIC-SITES'!C:C)","v":"EIC Rhône Alpes Lyon"}]
[null,null,"Lus-la-Croix-Haute","Pontanevaux","SCV (Poste 1)",null,"Mirecourt",null,null,"St-Denis","Pierre-Buffière","Muret",null,null,"Baleycourt",{"$f":"_xlfn.XLOOKUP(O137,'Liste des DT-EIC-SITES'!D:D,'Liste des DT-EIC-SITES'!C:C)","v":"EIC Lorraine Champagne Ardenne"}]
[null,null,"Lyon-Gorge-de-Loup","Pontarlier","Sillé-le-Guillaume",null,"Mohon",null,null,"St-Germain-en-Laye-Grande-Ceinture","Pointe-de-Grave","Narbonne",null,null,"Banassac-La Canourgue",{"$f":"_xlfn.XLOOKUP(O138,'Liste des DT-EIC-SITES'!D:D,'Liste des DT-EIC-SITES'!C:C)","v":"EIC Languedoc Roussillon"}]
[null,null,"Lyon-Guillotière","Pont-de-Roide","St-Brieuc",null,"Molsheim",null,null,"St-Leu-la-Forêt","Poitiers","Naucelle",null,null,"Bandol",{"$f":"_xlfn.XLOOKUP(O139,'Liste des DT-EIC-SITES'!D:D,'Liste des DT-EIC-SITES'!C:C)","v":"EIC Provence Alpes Côte d'Azur"}]
[null,null,"Lyon-Guillotière (Scaronne)","Port Fluvial","Ste-Pazanne",null,"Mommenheim",null,null,"St-Mammès","Pompadour","Nîmes",null,null,"Bannalec",{"$f":"_xlfn.XLOOKUP(O140,'Liste des DT-EIC-SITES'!D:D,'Liste des DT-EIC-SITES'!C:C)","v":"EIC Bretagne Pays de la Loire"}]
[null,null,"Lyon-Part-Dieu","Port-d'Atelier-Amance","St-Étienne-de-Montluc",null,"Monthermé",null,null,"St-Nom-la-Bretêche-Forêt-de-Marly","Pons","Nîmes (IE)",null,null,"Bantzenheim",{"$f":"_xlfn.XLOOKUP(O141,'Liste des DT-EIC-SITES'!D:D,'Liste des DT-EIC-SITES'!C:C)","v":"EIC Alsace"}]
[null,null,"Lyon-Perrache","Port-Fluvial-de-Chalon-sur-Saône","St-Gildas-des-Bois",null,"Montiéramey",null,null,"St-Ouen","Port-Ste-Marie","Nîmes-Courbessac (ex-Triage)",null,null,"Baraqueville-Carcenac-Peyralès",{"$f":"_xlfn.XLOOKUP(O142,'Liste des DT-EIC-SITES'!D:D,'Liste des DT-EIC-SITES'!C:C)","v":"EIC Midi Pyrénées"}]
[null,null,"Lyon-Perrache-Marchandises","Port-Sec-de-Pacy","St-Jacques-de-la-Lande",null,"Montmédy",null,null,"St-Ouen-les-Docks","Puyoô","Nogaro",null,null,"Barberier-Brout-Vernet",{"$f":"_xlfn.XLOOKUP(O143,'Liste des DT-EIC-SITES'!D:D,'Liste des DT-EIC-SITES'!C:C)","v":"EIC Auvergne Nivernais"}]
[null,null,"Lyon-St-Clair","Pouilly-sur-Loire","St-Julien (Côtes-d'Armor)",null,"Montreux-Vieux",null,null,"St-Quentin-en-Yvelines","Rion-des-Landes","Nozières-Brignon",null,null,"Barisey-la-Côte",{"$f":"_xlfn.XLOOKUP(O144,'Liste des DT-EIC-SITES'!D:D,'Liste des DT-EIC-SITES'!C:C)","v":"EIC Lorraine Champagne Ardenne"}]
[null,null,"Lyon-St-Exupéry-TGV","Prémery","St-Malo",null,"Morhange",null,null,"Sucy-Bonneuil","Rochefort","Nuces",null,null,"Bar-le-Duc",{"$f":"_xlfn.XLOOKUP(O145,'Liste des DT-EIC-SITES'!D:D,'Liste des DT-EIC-SITES'!C:C)","v":"EIC Lorraine Champagne Ardenne"}]
[null,null,"Lyon-Vaise","Recey-sur-Ource","St-Méen",null,"Mourmelon-le-Petit",null,null,"Survilliers-Fosses","Royan","Olette-Canaveilles-les-Bains",null,null,"Baroncourt",{"$f":"_xlfn.XLOOKUP(O146,'Liste des DT-EIC-SITES'!D:D,'Liste des DT-EIC-SITES'!C:C)","v":"EIC Lorraine Champagne Ardenne"}]
[null,null,"Magland","Roche-lez-Beaupré","St-Nazaire",null,"Mouzon",null,null,"Technicentre de Paris-Rive-Gauche","Ruffec","Pamiers",null,null,"Barr",{"$f":"_xlfn.XLOOKUP(O147,'Liste des DT-EIC-SITES'!D:D,'Liste des DT-EIC-SITES'!C:C)","v":"EIC Alsace"}]
[null,null,"Manthes-Lapeyrouse","Saincaize","St-Nicolas-des-Eaux",null,"Muizon",null,null,"Technicentre Paris -Est","Saillat-Chassenon","Perpignan",null,null,"Bar-sur-Aube",{"$f":"_xlfn.XLOOKUP(O148,'Liste des DT-EIC-SITES'!D:D,'Liste des DT-EIC-SITES'!C:C)","v":"EIC Lorraine Champagne Ardenne"}]
[null,null,"Marcellaz-Hauteville","Saône","St-Pierre-la-Cour",null,"Mulhouse-Nord",null,null,"Tournan","Saintes","Perpignan-Roussillon",null,null,"Base maintenance de Clerac",{"$f":"_xlfn.XLOOKUP(O149,'Liste des DT-EIC-SITES'!D:D,'Liste des DT-EIC-SITES'!C:C)","v":"EIC Aquitaine Poitou Charentes"}]
[null,null,"Marignier","Saulieu","Tiercé",null,"Mulhouse-Ville",null,null,"Trappes-Marchandises","Sarlat","Pont-St-Esprit",null,null,"Base Maintenance de Manduel Redessan",{"$f":"_xlfn.XLOOKUP(O150,'Liste des DT-EIC-SITES'!D:D,'Liste des DT-EIC-SITES'!C:C)","v":"EIC Languedoc Roussillon"}]
[null,null,"Massiac","Saulon","Trégonneau-Squiffiec",null,"Munster",null,null,"Trilport","Saujon","Portet-St-Simon",null,null,"Base maintenance de Poitiers",{"$f":"_xlfn.XLOOKUP(O151,'Liste des DT-EIC-SITES'!D:D,'Liste des DT-EIC-SITES'!C:C)","v":"EIC Aquitaine Poitou Charentes"}]
[null,null,"Maurs","SCI de Pouilly et Nohain","Trémentines",null,"Mussy-sur-Seine",null,null,"UPM Ivry- Masséna (Technicentre PRG)","Sireuil","Port-la-Nouvelle",null,null,"Base maintenance de Villognon",{"$f":"_xlfn.XLOOKUP(O152,'Liste des DT-EIC-SITES'!D:D,'Liste des DT-EIC-SITES'!C:C)","v":"EIC Aquitaine Poitou Charentes"}]
[null,null,"Meximieux-Pérouges","Semur-en-Auxois","UPT Quimper (ET Bretagne)",null,"Nançois-Tronville",null,null,"Vaires-Torcy","Solférino","Port-Vendres",null,null,"Base Maintenance LGV de Geneuille",{"$f":"_xlfn.XLOOKUP(O153,'Liste des DT-EIC-SITES'!D:D,'Liste des DT-EIC-SITES'!C:C)","v":"EIC Bourgogne Franche Comté"}]
[null,null,"MIRIBEL LGV","Sennecey-le-Grand","Uzel",null,"Nancy-Ville",null,null,"Valenton","Solignac-Le Vigen","Quillan",null,null,"Bas-Évette",{"$f":"_xlfn.XLOOKUP(O154,'Liste des DT-EIC-SITES'!D:D,'Liste des DT-EIC-SITES'!C:C)","v":"EIC Alsace"}]
[null,null,"Modane","Sens","Vannes",null,"Neuf-Brisach-Ville",null,null,"Valmondois","St-Aigulin-La Roche-Chalais","Remoulins-Pont-du-Gard",null,null,"Bas-Monistrol",{"$f":"_xlfn.XLOOKUP(O155,'Liste des DT-EIC-SITES'!D:D,'Liste des DT-EIC-SITES'!C:C)","v":"EIC Auvergne Nivernais"}]
[null,null,"Monestier-de-Clermont","Seurre","Vertou",null,"Neufchâteau",null,null,"Verneuil-l'Étang","St-André-de-Cubzac","Revel-Sorèze",null,null,"Bassens",{"$f":"_xlfn.XLOOKUP(O156,'Liste des DT-EIC-SITES'!D:D,'Liste des DT-EIC-SITES'!C:C)","v":"EIC Aquitaine Poitou Charentes"}]
[null,null,"Monistrol-d'Allier","SEVA","Vitré",null,"Nogent-sur-Seine",null,null,"Vernouillet-Verneuil","St-Cyprien-en-Dordogne","Ribaute-les-Lieuran",null,null,"Bassens-Appontements",{"$f":"_xlfn.XLOOKUP(O157,'Liste des DT-EIC-SITES'!D:D,'Liste des DT-EIC-SITES'!C:C)","v":"EIC Aquitaine Poitou Charentes"}]
[null,null,"Montbrison","Sincey-lès-Rouvray","Vivy",null,"Nouzonville",null,null,"Vernou-sur-Seine","Ste-Eulalie-Carbon-Blanc","Riscle",null,null,"Baud",{"$f":"_xlfn.XLOOKUP(O158,'Liste des DT-EIC-SITES'!D:D,'Liste des DT-EIC-SITES'!C:C)","v":"EIC Bretagne Pays de la Loire"}]
[null,null,"Mont-Dore","SNC Fillad","Voutré",null,"Nuisement",null,null,"Versailles-Chantiers","Ste-Foy-la-Grande","Rivesaltes",null,null,"Baume-les-Dames",{"$f":"_xlfn.XLOOKUP(O159,'Liste des DT-EIC-SITES'!D:D,'Liste des DT-EIC-SITES'!C:C)","v":"EIC Bourgogne Franche Comté"}]
[null,null,"Montélimar","Société SOUFFLET",null,null,"Oberhoffen-Camp-de-Haguenau",null,null,"Versailles-Matelots","St-Germain-les-Belles","Rocamadour-Padirac",null,null,"Bavay",{"$f":"_xlfn.XLOOKUP(O160,'Liste des DT-EIC-SITES'!D:D,'Liste des DT-EIC-SITES'!C:C)","v":"EIC Hauts de France"}]
[null,null,"Montluçon-Eau","SONOGRA",null,null,"Obermodern",null,null,"Versailles-Rive-Droite","St-Jean-d'Angély","Rodez",null,null,"Bayet",{"$f":"_xlfn.XLOOKUP(O161,'Liste des DT-EIC-SITES'!D:D,'Liste des DT-EIC-SITES'!C:C)","v":"EIC Auvergne Nivernais"}]
[null,null,"Montluçon-Ville","St-Amour",null,null,"Obernai",null,null,"Versailles-Rive-Gauche","St-Jean-Pied-de-Port","Roquemaure-Tavel",null,null,"Bayeux",{"$f":"_xlfn.XLOOKUP(O162,'Liste des DT-EIC-SITES'!D:D,'Liste des DT-EIC-SITES'!C:C)","v":"EIC Normandie"}]
[null,null,"Montluel","St-Aubin (Jura)",null,null,"Oiry",null,null,"Villeneuve-le-Roi","St-Junien","Saillagouse",null,null,"Bayonne",{"$f":"_xlfn.XLOOKUP(O163,'Liste des DT-EIC-SITES'!D:D,'Liste des DT-EIC-SITES'!C:C)","v":"EIC Aquitaine Poitou Charentes"}]
[null,null,"Montmélian","St-Bonnet-en-Bresse",null,null,"Onville",null,null,"Villeneuve-St-Georges","St-Léonard-de-Noblat","Salindres",null,null,"Bazancourt",{"$f":"_xlfn.XLOOKUP(O164,'Liste des DT-EIC-SITES'!D:D,'Liste des DT-EIC-SITES'!C:C)","v":"EIC Lorraine Champagne Ardenne"}]
[null,null,"Montrond-les-Bains","St-Claude",null,null,"Pagny-sur-Meuse",null,null,"Villeneuve-Triage","St-Maixent-l'Ecole","Sarrancolin",null,null,"Baziège",{"$f":"_xlfn.XLOOKUP(O165,'Liste des DT-EIC-SITES'!D:D,'Liste des DT-EIC-SITES'!C:C)","v":"EIC Midi Pyrénées"}]
[null,null,"Moulins-sur-Allier","Ste-Colombe-sur-Seine",null,null,"Pagny-sur-Moselle",null,null,"Villeparisis","St-Mariens-St-Yzan","Saverdun",null,null,"Beaucaire",{"$f":"_xlfn.XLOOKUP(O166,'Liste des DT-EIC-SITES'!D:D,'Liste des DT-EIC-SITES'!C:C)","v":"EIC Languedoc Roussillon"}]
[null,null,"Moûtiers-Salins-Brides-les-Bains","Ste-Croix",null,null,"Peltre",null,null,"Villiers-St-Georges","St-Savinien-sur-Charente","Sérignac",null,null,"Beaucaire-Marchandises",{"$f":"_xlfn.XLOOKUP(O167,'Liste des DT-EIC-SITES'!D:D,'Liste des DT-EIC-SITES'!C:C)","v":"EIC Languedoc Roussillon"}]
[null,null,"Murat","St-Florentin-Vergigny",null,null,"Petit-Réderching",null,null,"Villiers-sur-Marne-Le Plessis-Trévise","St-Saviol","Sète",null,null,"Beaugency",{"$f":"_xlfn.XLOOKUP(O168,'Liste des DT-EIC-SITES'!D:D,'Liste des DT-EIC-SITES'!C:C)","v":"EIC Centre Limousin"}]
[null,null,"Neussargues","St-Jean-de-Losne",null,null,"Poix-Terron",null,null,"Vitry-sur-Seine","St-Sébastien","Sète (IE)",null,null,"Beaulieu-Le Coudray",{"$f":"_xlfn.XLOOKUP(O169,'Liste des DT-EIC-SITES'!D:D,'Liste des DT-EIC-SITES'!C:C)","v":"EIC Centre Limousin"}]
[null,null,"Neuville-sur-Saône","St-Julien-Clénay",null,null,"Polisot",null,null,null,"St-Sulpice-Laurière","Sète-Voies-des-Quais",null,null,"Beaulieu-sur-Mer",{"$f":"_xlfn.XLOOKUP(O170,'Liste des DT-EIC-SITES'!D:D,'Liste des DT-EIC-SITES'!C:C)","v":"EIC Provence Alpes Côte d'Azur"}]
[null,null,"Noirétable","St-Julien-du-Sault",null,null,"Pompey",null,null,null,"St-Ustre","Sévérac-le-Château",null,null,"Beaumont-de-Lomagne",{"$f":"_xlfn.XLOOKUP(O171,'Liste des DT-EIC-SITES'!D:D,'Liste des DT-EIC-SITES'!C:C)","v":"EIC Midi Pyrénées"}]
[null,null,"Notre-Dame-de-Briançon","St-Laurent (Jura)",null,null,"Pont-à-Mousson",null,null,null,"St-Varent","Seveux",null,null,"Beaune",{"$f":"_xlfn.XLOOKUP(O172,'Liste des DT-EIC-SITES'!D:D,'Liste des DT-EIC-SITES'!C:C)","v":"EIC Bourgogne Franche Comté"}]
[null,null,"Nurieux","St-Léger-sur-Dheune",null,null,"Pont-St-Vincent",null,null,null,"St-Victurnien","Souillac",null,null,"Beaune-la-Rolande",{"$f":"_xlfn.XLOOKUP(O173,'Liste des DT-EIC-SITES'!D:D,'Liste des DT-EIC-SITES'!C:C)","v":"EIC Centre Limousin"}]
[null,null,"Oullins","St-Marcel-lès-Chalon",null,null,"Rambucourt-Bouconville",null,null,null,"Surgères","St-Ambroix",null,null,"Beaurepaire",{"$f":"_xlfn.XLOOKUP(O174,'Liste des DT-EIC-SITES'!D:D,'Liste des DT-EIC-SITES'!C:C)","v":"EIC Rhône Alpes Lyon"}]
[null,null,"Oyonnax","St-Marcel-ls-Chalon",null,null,"Raon-l'Étape",null,null,null,"Terrasson","St-Césaire",null,null,"Beaurières",{"$f":"_xlfn.XLOOKUP(O175,'Liste des DT-EIC-SITES'!D:D,'Liste des DT-EIC-SITES'!C:C)","v":"EIC Rhône Alpes Lyon"}]
[null,null,"Perrignier","St-Pierre-le-Moûtier",null,null,"Réding",null,null,null,"Thenon","St-Chély-d'Apcher",null,null,"Beautiran",{"$f":"_xlfn.XLOOKUP(O176,'Liste des DT-EIC-SITES'!D:D,'Liste des DT-EIC-SITES'!C:C)","v":"EIC Aquitaine Poitou Charentes"}]
[null,null,"Petit-Coeur-La Léchère-les-Bains","St-Vit",null,null,"Réguisheim",null,null,null,"Thiviers","St-Christophe",null,null,"Beauvais",{"$f":"_xlfn.XLOOKUP(O177,'Liste des DT-EIC-SITES'!D:D,'Liste des DT-EIC-SITES'!C:C)","v":"EIC Paris Nord"}]
[null,null,"Peyraud","SULLY Faisceau impair 3 à 7",null,null,"Reichshoffen-Usines",null,null,null,"Thouars","St-Cyprien-Arènes",null,null,"Bécon-les-Bruyères",{"$f":"_xlfn.XLOOKUP(O178,'Liste des DT-EIC-SITES'!D:D,'Liste des DT-EIC-SITES'!C:C)","v":"EIC Paris Est Ouest Francilien"}]
[null,null,"Pierrelatte","SYGMA",null,null,"Reichstett",null,null,null,"Tonneins","St-Denis-Catus",null,null,"Bédarieux",{"$f":"_xlfn.XLOOKUP(O179,'Liste des DT-EIC-SITES'!D:D,'Liste des DT-EIC-SITES'!C:C)","v":"EIC Languedoc Roussillon"}]
[null,null,"Pontcharra-sur-Breda-Allevard","Tamnay-Châtillon",null,null,"Reims",null,null,null,"Tulle","St-Denis-près-Martel",null,null,"Bedous",{"$f":"_xlfn.XLOOKUP(O180,'Liste des DT-EIC-SITES'!D:D,'Liste des DT-EIC-SITES'!C:C)","v":"EIC Aquitaine Poitou Charentes"}]
[null,null,"Pont-de-Beauvoisin","Tavaux",null,null,"Rémilly",null,null,null,"Turenne","Ste-Christie",null,null,"Bègles",{"$f":"_xlfn.XLOOKUP(O181,'Liste des DT-EIC-SITES'!D:D,'Liste des DT-EIC-SITES'!C:C)","v":"EIC Aquitaine Poitou Charentes"}]
[null,null,"Pont-de-Claix","Tilchâtel",null,null,"Remiremont",null,null,null,"Urt","St-Gaudens",null,null,"Beillant",{"$f":"_xlfn.XLOOKUP(O182,'Liste des DT-EIC-SITES'!D:D,'Liste des DT-EIC-SITES'!C:C)","v":"EIC Aquitaine Poitou Charentes"}]
[null,null,"Pont-de-Dore","Tiroir",null,null,"Rethel",null,null,null,"Ussac","St-Gilles-du-Gard",null,null,"Beinheim",{"$f":"_xlfn.XLOOKUP(O183,'Liste des DT-EIC-SITES'!D:D,'Liste des DT-EIC-SITES'!C:C)","v":"EIC Alsace"}]
[null,null,"Pont-de-Veyle","Tonnerre",null,null,"Revigny",null,null,null,"Ussel","St-Jean-Pla-de-Corts",null,null,"Belfort",{"$f":"_xlfn.XLOOKUP(O184,'Liste des DT-EIC-SITES'!D:D,'Liste des DT-EIC-SITES'!C:C)","v":"EIC Alsace"}]
[null,null,"Pont-du-Château","TONNERRE LGV",null,null,"Revin",null,null,null,"Uzerche","St-Jory",null,null,"Bellac",{"$f":"_xlfn.XLOOKUP(O185,'Liste des DT-EIC-SITES'!D:D,'Liste des DT-EIC-SITES'!C:C)","v":"EIC Centre Limousin"}]
[null,null,"Pontmort","Tournus",null,null,"Richwiller",null,null,null,"Vayres","St-Juéry",null,null,"Bellegarde",{"$f":"_xlfn.XLOOKUP(O186,'Liste des DT-EIC-SITES'!D:D,'Liste des DT-EIC-SITES'!C:C)","v":"EIC Alpes"}]
[null,null,"Portes","Tracy-Sancerre",null,null,"Rilly-la-Montagne",null,null,null,"Verneuil-sur-Vienne","St-Paul-de-Fenouillet",null,null,"Bellenaves",{"$f":"_xlfn.XLOOKUP(O187,'Liste des DT-EIC-SITES'!D:D,'Liste des DT-EIC-SITES'!C:C)","v":"EIC Auvergne Nivernais"}]
[null,null,"Poule","Tréfileries de Conflandey",null,null,"Rimaucourt",null,null,null,"Viam","St-Pé-de-Bigorre",null,null,"Belleville",{"$f":"_xlfn.XLOOKUP(O188,'Liste des DT-EIC-SITES'!D:D,'Liste des DT-EIC-SITES'!C:C)","v":"EIC Lorraine Champagne Ardenne"}]
[null,null,"Publier","UPM Perrigny (Technicentre BFC)",null,null,"Roeschwoog",null,null,null,"Vieilleville","St-Rome-de-Cernon",null,null,"Belleville-sur-Saône",{"$f":"_xlfn.XLOOKUP(O189,'Liste des DT-EIC-SITES'!D:D,'Liste des DT-EIC-SITES'!C:C)","v":"EIC Rhône Alpes Lyon"}]
[null,null,"Puy-Guillaume","Vanvey-Villiers",null,null,"Romilly-sur-Seine",null,null,null,"Vigeois","St-Sauveur-de-Peyre",null,null,"Bénestroff",{"$f":"_xlfn.XLOOKUP(O190,'Liste des DT-EIC-SITES'!D:D,'Liste des DT-EIC-SITES'!C:C)","v":"EIC Alsace"}]
[null,null,"Randan","VAUMORT Faisceau Pair V8 à V10",null,null,"Rothau",null,null,null,"Vivonne","St-Sulpice",null,null,"Benet",{"$f":"_xlfn.XLOOKUP(O191,'Liste des DT-EIC-SITES'!D:D,'Liste des DT-EIC-SITES'!C:C)","v":"EIC Bretagne Pays de la Loire"}]
[null,null,"Régny","VAUMORT Faisceau V6",null,null,"Saales",null,null,null,"Ychoux","Tamaris",null,null,"Béning",{"$f":"_xlfn.XLOOKUP(O192,'Liste des DT-EIC-SITES'!D:D,'Liste des DT-EIC-SITES'!C:C)","v":"EIC Lorraine Champagne Ardenne"}]
[null,null,"Retournac","VAUX EN PRE Faisceau impair 3 à 7",null,null,"Sarralbe",null,null,null,"Ygos","Tarascon-sur-Ariège",null,null,"Bergerac",{"$f":"_xlfn.XLOOKUP(O193,'Liste des DT-EIC-SITES'!D:D,'Liste des DT-EIC-SITES'!C:C)","v":"EIC Aquitaine Poitou Charentes"}]
[null,null,"Reyrieux","Vaux-et-Chantegrue",null,null,"Sarrebourg",null,null,null,null,"Tarbes",null,null,"Berlaimont",{"$f":"_xlfn.XLOOKUP(O194,'Liste des DT-EIC-SITES'!D:D,'Liste des DT-EIC-SITES'!C:C)","v":"EIC Hauts de France"}]
[null,null,"Riom-Châtel-Guyon","Velars",null,null,"Sarreguemines",null,null,null,null,"Tessonnières",null,null,"Bernay",{"$f":"_xlfn.XLOOKUP(O195,'Liste des DT-EIC-SITES'!D:D,'Liste des DT-EIC-SITES'!C:C)","v":"EIC Normandie"}]
[null,null,"Rive-de-Gier","Verdun-sur-le-Doubs",null,null,"Saverne",null,null,null,null,"Thédirac-Peyrilles",null,null,"Bernes",{"$f":"_xlfn.XLOOKUP(O196,'Liste des DT-EIC-SITES'!D:D,'Liste des DT-EIC-SITES'!C:C)","v":"EIC Paris Nord"}]
[null,null,"Rives","Vereux",null,null,"Schirmeck-La Broque",null,null,null,null,"Toulouse-Matabiau",null,null,"Berre",{"$f":"_xlfn.XLOOKUP(O197,'Liste des DT-EIC-SITES'!D:D,'Liste des DT-EIC-SITES'!C:C)","v":"EIC Provence Alpes Côte d'Azur"}]
[null,null,"Roanne","Vesoul",null,null,"Schweighouse-sur-Moder",null,null,null,null,"Tournay",null,null,"Berthelming",{"$f":"_xlfn.XLOOKUP(O198,'Liste des DT-EIC-SITES'!D:D,'Liste des DT-EIC-SITES'!C:C)","v":"EIC Alsace"}]
[null,null,"Romans-Bourg-de-Péage","Veuxhaulles",null,null,"Sedan",null,null,null,null,"Tournemire-Roquefort",null,null,"Besançon-Mouillère",{"$f":"_xlfn.XLOOKUP(O199,'Liste des DT-EIC-SITES'!D:D,'Liste des DT-EIC-SITES'!C:C)","v":"EIC Bourgogne Franche Comté"}]
[null,null,"Rumilly","VIGNA",null,null,"Sélestat",null,null,null,null,"Trèbes",null,null,"Besançon-St-Fergeux",{"$f":"_xlfn.XLOOKUP(O200,'Liste des DT-EIC-SITES'!D:D,'Liste des DT-EIC-SITES'!C:C)","v":"EIC Bourgogne Franche Comté"}]
[null,null,"Saint-Jean-de-Maurienne","Villars-Santenoge",null,null,"Sézanne",null,null,null,null,"UPT Tarbes (ET Midi-Pyrénées)",null,null,"Besançon-Viotte",{"$f":"_xlfn.XLOOKUP(O201,'Liste des DT-EIC-SITES'!D:D,'Liste des DT-EIC-SITES'!C:C)","v":"EIC Bourgogne Franche Comté"}]
[null,null,"Salaise","Villedieu-Chanliau",null,null,"Sierck-les-Bains",null,null,null,null,"Ussat-les-Bains",null,null,"Beslé",{"$f":"_xlfn.XLOOKUP(O202,'Liste des DT-EIC-SITES'!D:D,'Liste des DT-EIC-SITES'!C:C)","v":"EIC Bretagne Pays de la Loire"}]
[null,null,"Sallanches-Combloux-Megève","Villeneuve-l'Archevêque",null,null,"Sierentz",null,null,null,null,"Valence-d'Agen",null,null,"Bessèges",{"$f":"_xlfn.XLOOKUP(O203,'Liste des DT-EIC-SITES'!D:D,'Liste des DT-EIC-SITES'!C:C)","v":"EIC Languedoc Roussillon"}]
[null,null,"Sarliève-Cournon","Vitrey-Vernois",null,null,"Sillery",null,null,null,null,"Vauvert",null,null,"Bessé-sur-Braye",{"$f":"_xlfn.XLOOKUP(O204,'Liste des DT-EIC-SITES'!D:D,'Liste des DT-EIC-SITES'!C:C)","v":"EIC Bretagne Pays de la Loire"}]
[null,null,"Sathonay-Rillieux","ZI Chenove",null,null,"Sorcy",null,null,null,null,"Vénerque-le-Vernet",null,null,"Bessines",{"$f":"_xlfn.XLOOKUP(O205,'Liste des DT-EIC-SITES'!D:D,'Liste des DT-EIC-SITES'!C:C)","v":"EIC Centre Limousin"}]
[null,null,"Servoz",null,null,null,"Soultz-sous-Forêts",null,null,null,null,"Vias",null,null,"Béthune",{"$f":"_xlfn.XLOOKUP(O206,'Liste des DT-EIC-SITES'!D:D,'Liste des DT-EIC-SITES'!C:C)","v":"EIC Hauts de France"}]
[null,null,"Seyssel-Corbonod",null,null,null,"St-Avold",null,null,null,null,"Vic-Bigorre",null,null,"Beuvry (Pas-de-Calais)",{"$f":"_xlfn.XLOOKUP(O207,'Liste des DT-EIC-SITES'!D:D,'Liste des DT-EIC-SITES'!C:C)","v":"EIC Hauts de France"}]
[null,null,"Sibelin",null,null,null,"St-Dié-des-Vosges",null,null,null,null,"Vielmur-sur-Agout",null,null,"Beuzeville (Eure)",{"$f":"_xlfn.XLOOKUP(O208,'Liste des DT-EIC-SITES'!D:D,'Liste des DT-EIC-SITES'!C:C)","v":"EIC Normandie"}]
[null,null,"St-André-de-Corcy",null,null,null,"St-Dizier",null,null,null,null,"Villefort",null,null,"Bèze",{"$f":"_xlfn.XLOOKUP(O209,'Liste des DT-EIC-SITES'!D:D,'Liste des DT-EIC-SITES'!C:C)","v":"EIC Paris Sud Est"}]
[null,null,"St-André-le-Gaz",null,null,null,"Ste-Croix-en-Plaine",null,null,null,null,"Villefranche-de-Lauragais",null,null,"Béziers",{"$f":"_xlfn.XLOOKUP(O210,'Liste des DT-EIC-SITES'!D:D,'Liste des DT-EIC-SITES'!C:C)","v":"EIC Languedoc Roussillon"}]
[null,null,"St-Avre-la-Chambre",null,null,null,"Ste-Menehould",null,null,null,null,"Villefranche-de-Rouergue",null,null,"Biarritz",{"$f":"_xlfn.XLOOKUP(O211,'Liste des DT-EIC-SITES'!D:D,'Liste des DT-EIC-SITES'!C:C)","v":"EIC Aquitaine Poitou Charentes"}]
[null,null,"St-Béron-La Bridoire",null,null,null,"Stenay",null,null,null,null,"Villefranche-Vernet-les-Bains",null,null,"BICBO",{"$f":"_xlfn.XLOOKUP(O212,'Liste des DT-EIC-SITES'!D:D,'Liste des DT-EIC-SITES'!C:C)","v":"EIC Aquitaine Poitou Charentes"}]
[null,null,"St-Clair-les-Roches",null,null,null,"St-Hilaire-au-Temple",null,null,null,null,"Villeneuve-lès-Avignon",null,null,"Bischheim",{"$f":"_xlfn.XLOOKUP(O213,'Liste des DT-EIC-SITES'!D:D,'Liste des DT-EIC-SITES'!C:C)","v":"EIC Alsace"}]
[null,null,"Ste-Colombe-les-Vienne-St-Romain-en-Gal",null,null,null,"St-Léonard",null,null,null,null,"Viviez-Decazeville",null,null,"Bischwiller",{"$f":"_xlfn.XLOOKUP(O214,'Liste des DT-EIC-SITES'!D:D,'Liste des DT-EIC-SITES'!C:C)","v":"EIC Alsace"}]
[null,null,"Ste-Foy-l'Argentière",null,null,null,"St-Louis",null,null,null,null,null,null,null,"Bitche",{"$f":"_xlfn.XLOOKUP(O215,'Liste des DT-EIC-SITES'!D:D,'Liste des DT-EIC-SITES'!C:C)","v":"EIC Lorraine Champagne Ardenne"}]
[null,null,"St-Égrève-St-Robert",null,null,null,"St-Mesmin",null,null,null,null,null,null,null,"Bize (Aude)",{"$f":"_xlfn.XLOOKUP(O216,'Liste des DT-EIC-SITES'!D:D,'Liste des DT-EIC-SITES'!C:C)","v":"EIC Languedoc Roussillon"}]
[null,null,"St-Éloy",null,null,null,"Strasbourg-Cronenbourg",null,null,null,null,null,null,null,"Blainville-Damelevières",{"$f":"_xlfn.XLOOKUP(O217,'Liste des DT-EIC-SITES'!D:D,'Liste des DT-EIC-SITES'!C:C)","v":"EIC Lorraine Champagne Ardenne"}]
[null,null,"St-Étienne-Châteaucreux",null,null,null,"Strasbourg-Neudorf",null,null,null,null,null,null,null,"Blaisy-Bas",{"$f":"_xlfn.XLOOKUP(O218,'Liste des DT-EIC-SITES'!D:D,'Liste des DT-EIC-SITES'!C:C)","v":"EIC Bourgogne Franche Comté"}]
[null,null,"St-Étienne-Pont-de-l'Âne",null,null,null,"Strasbourg-Port-du-Rhin",null,null,null,null,null,null,null,"Blanc-Misseron",{"$f":"_xlfn.XLOOKUP(O219,'Liste des DT-EIC-SITES'!D:D,'Liste des DT-EIC-SITES'!C:C)","v":"EIC Hauts de France"}]
[null,null,"St-Flour-Chaudes-Aigues",null,null,null,"Strasbourg-Ville",null,null,null,null,null,null,null,"Blanquefort",{"$f":"_xlfn.XLOOKUP(O220,'Liste des DT-EIC-SITES'!D:D,'Liste des DT-EIC-SITES'!C:C)","v":"EIC Aquitaine Poitou Charentes"}]
[null,null,"St-Fons",null,null,null,"Suippes",null,null,null,null,null,null,null,"Blanzy-Poste",{"$f":"_xlfn.XLOOKUP(O221,'Liste des DT-EIC-SITES'!D:D,'Liste des DT-EIC-SITES'!C:C)","v":"EIC Bourgogne Franche Comté"}]
[null,null,"St-Georges-d'Aurac",null,null,null,"Thann",null,null,null,null,null,null,null,"Blaye",{"$f":"_xlfn.XLOOKUP(O222,'Liste des DT-EIC-SITES'!D:D,'Liste des DT-EIC-SITES'!C:C)","v":"EIC Aquitaine Poitou Charentes"}]
[null,null,"St-Germain-au-Mont-d'Or",null,null,null,"Thann-St-Jacques",null,null,null,null,null,null,null,"Bléré-la-Croix",{"$f":"_xlfn.XLOOKUP(O223,'Liste des DT-EIC-SITES'!D:D,'Liste des DT-EIC-SITES'!C:C)","v":"EIC Centre Limousin"}]
[null,null,"St-Germain-des-Fossés",null,null,null,"Thionville",null,null,null,null,null,null,null,"Blesme-Haussignemont",{"$f":"_xlfn.XLOOKUP(O224,'Liste des DT-EIC-SITES'!D:D,'Liste des DT-EIC-SITES'!C:C)","v":"EIC Lorraine Champagne Ardenne"}]
[null,null,"St-Gervais-Châteauneuf",null,null,null,"Toul",null,null,null,null,null,null,null,"Blodelsheim",{"$f":"_xlfn.XLOOKUP(O225,'Liste des DT-EIC-SITES'!D:D,'Liste des DT-EIC-SITES'!C:C)","v":"EIC Alsace"}]
[null,null,"St-Gervais-les-Bains-Le Fayet",null,null,null,"Tournes",null,null,null,null,null,null,null,"Blois-Chambord",{"$f":"_xlfn.XLOOKUP(O226,'Liste des DT-EIC-SITES'!D:D,'Liste des DT-EIC-SITES'!C:C)","v":"EIC Centre Limousin"}]
[null,null,"St-Julien-en-Genevois",null,null,null,"Troyes",null,null,null,null,null,null,null,"Bloye",{"$f":"_xlfn.XLOOKUP(O227,'Liste des DT-EIC-SITES'!D:D,'Liste des DT-EIC-SITES'!C:C)","v":"EIC Alpes"}]
[null,null,"St-Julien-Montricher",null,null,null,"Turckheim",null,null,null,null,null,null,null,"Bobigny",{"$f":"_xlfn.XLOOKUP(O228,'Liste des DT-EIC-SITES'!D:D,'Liste des DT-EIC-SITES'!C:C)","v":"EIC Paris Nord"}]
[null,null,"St-Just-St-Rambert",null,null,null,"Uckange",null,null,null,null,null,null,null,"Boën",{"$f":"_xlfn.XLOOKUP(O229,'Liste des DT-EIC-SITES'!D:D,'Liste des DT-EIC-SITES'!C:C)","v":"EIC Rhône Alpes Lyon"}]
[null,null,"St-Just-sur-Loire",null,null,null,"Valmy",null,null,null,null,null,null,null,"Bois-Colombes",{"$f":"_xlfn.XLOOKUP(O230,'Liste des DT-EIC-SITES'!D:D,'Liste des DT-EIC-SITES'!C:C)","v":"EIC Paris Est Ouest Francilien"}]
[null,null,"St-Marcellin",null,null,null,"Varangéville-St-Nicolas",null,null,null,null,null,null,null,"Boisleux",{"$f":"_xlfn.XLOOKUP(O231,'Liste des DT-EIC-SITES'!D:D,'Liste des DT-EIC-SITES'!C:C)","v":"EIC Hauts de France"}]
[null,null,"St-Marcellin (Loire)",null,null,null,"Vaux-sous-Aubigny",null,null,null,null,null,null,null,"Bollène-la-Croisière",{"$f":"_xlfn.XLOOKUP(O232,'Liste des DT-EIC-SITES'!D:D,'Liste des DT-EIC-SITES'!C:C)","v":"EIC Provence Alpes Côte d'Azur"}]
[null,null,"St-Martin-Bellevue",null,null,null,"Vendenheim",null,null,null,null,null,null,null,"Bollwiller",{"$f":"_xlfn.XLOOKUP(O233,'Liste des DT-EIC-SITES'!D:D,'Liste des DT-EIC-SITES'!C:C)","v":"EIC Alsace"}]
[null,null,"St-Martin-Sail-les-Bains",null,null,null,"Vendeuvre (Aube)",null,null,null,null,null,null,null,"Bologne",{"$f":"_xlfn.XLOOKUP(O234,'Liste des DT-EIC-SITES'!D:D,'Liste des DT-EIC-SITES'!C:C)","v":"EIC Lorraine Champagne Ardenne"}]
[null,null,"St-Maurice-de-Beynost",null,null,null,"Verdun",null,null,null,null,null,null,null,"Bon-Encontre",{"$f":"_xlfn.XLOOKUP(O235,'Liste des DT-EIC-SITES'!D:D,'Liste des DT-EIC-SITES'!C:C)","v":"EIC Aquitaine Poitou Charentes"}]
[null,null,"St-Michel-Valloire",null,null,null,"Vézelise",null,null,null,null,null,null,null,"BONLIEU LGV",{"$f":"_xlfn.XLOOKUP(O236,'Liste des DT-EIC-SITES'!D:D,'Liste des DT-EIC-SITES'!C:C)","v":"EIC Rhône Alpes Lyon"}]
[null,null,"St-Ours-les-Roches",null,null,null,"Vignory",null,null,null,null,null,null,null,"Bonnard-Bassou",{"$f":"_xlfn.XLOOKUP(O237,'Liste des DT-EIC-SITES'!D:D,'Liste des DT-EIC-SITES'!C:C)","v":"EIC Paris Sud Est"}]
[null,null,"St-Péray",null,null,null,"Vincey",null,null,null,null,null,null,null,"Bonneval",{"$f":"_xlfn.XLOOKUP(O238,'Liste des DT-EIC-SITES'!D:D,'Liste des DT-EIC-SITES'!C:C)","v":"EIC Centre Limousin"}]
[null,null,"St-Pierre-d'Albigny",null,null,null,"Vireux-Molhain",null,null,null,null,null,null,null,"Bonneville",{"$f":"_xlfn.XLOOKUP(O239,'Liste des DT-EIC-SITES'!D:D,'Liste des DT-EIC-SITES'!C:C)","v":"EIC Alpes"}]
[null,null,"St-Pourçain-sur-Sioule",null,null,null,"Vitry-la-Ville",null,null,null,null,null,null,null,"Bons-en-Chablais",{"$f":"_xlfn.XLOOKUP(O240,'Liste des DT-EIC-SITES'!D:D,'Liste des DT-EIC-SITES'!C:C)","v":"EIC Alpes"}]
[null,null,"St-Priest",null,null,null,"Vitry-le-François",null,null,null,null,null,null,null,"Bonson",{"$f":"_xlfn.XLOOKUP(O241,'Liste des DT-EIC-SITES'!D:D,'Liste des DT-EIC-SITES'!C:C)","v":"EIC Rhône Alpes Lyon"}]
[null,null,"St-Quentin-Fallavier",null,null,null,"Vittel",null,null,null,null,null,null,null,"Bordeaux-Bastide",{"$f":"_xlfn.XLOOKUP(O242,'Liste des DT-EIC-SITES'!D:D,'Liste des DT-EIC-SITES'!C:C)","v":"EIC Aquitaine Poitou Charentes"}]
[null,null,"St-Rambert d'Albon",null,null,null,"Wesserling",null,null,null,null,null,null,null,"Bordeaux-Hourcade",{"$f":"_xlfn.XLOOKUP(O243,'Liste des DT-EIC-SITES'!D:D,'Liste des DT-EIC-SITES'!C:C)","v":"EIC Aquitaine Poitou Charentes"}]
[null,null,"St-Rambert-d'Albon",null,null,null,"Wingen-sur-Moder",null,null,null,null,null,null,null,"Bordeaux-St-Jean",{"$f":"_xlfn.XLOOKUP(O244,'Liste des DT-EIC-SITES'!D:D,'Liste des DT-EIC-SITES'!C:C)","v":"EIC Aquitaine Poitou Charentes"}]
[null,null,"St-Romain-le-Puy",null,null,null,"Wissembourg",null,null,null,null,null,null,null,"Bossey-Veyrier",{"$f":"_xlfn.XLOOKUP(O245,'Liste des DT-EIC-SITES'!D:D,'Liste des DT-EIC-SITES'!C:C)","v":"EIC Alpes"}]
[null,null,"St-Vallier-sur-Rhône",null,null,null,"Woippy",null,null,null,null,null,null,null,"Bouc-Cabriès",{"$f":"_xlfn.XLOOKUP(O246,'Liste des DT-EIC-SITES'!D:D,'Liste des DT-EIC-SITES'!C:C)","v":"EIC Provence Alpes Côte d'Azur"}]
[null,null,"St-Yorre",null,null,null,null,null,null,null,null,null,null,null,"Bouilly-Roncenay",{"$f":"_xlfn.XLOOKUP(O247,'Liste des DT-EIC-SITES'!D:D,'Liste des DT-EIC-SITES'!C:C)","v":"EIC Lorraine Champagne Ardenne"}]
[null,null,"Tain-l'Hermitage-Tournon",null,null,null,null,null,null,null,null,null,null,null,"Boulogne-Ville",{"$f":"_xlfn.XLOOKUP(O248,'Liste des DT-EIC-SITES'!D:D,'Liste des DT-EIC-SITES'!C:C)","v":"EIC Hauts de France"}]
[null,null,"Tarare",null,null,null,null,null,null,null,null,null,null,null,"Bourg-en-Bresse",{"$f":"_xlfn.XLOOKUP(O249,'Liste des DT-EIC-SITES'!D:D,'Liste des DT-EIC-SITES'!C:C)","v":"EIC Alpes"}]
[null,null,"Tassin",null,null,null,null,null,null,null,null,null,null,null,"Bourges",{"$f":"_xlfn.XLOOKUP(O250,'Liste des DT-EIC-SITES'!D:D,'Liste des DT-EIC-SITES'!C:C)","v":"EIC Centre Limousin"}]
[null,null,"Technicentre TGV de Lyon",null,null,null,null,null,null,null,null,null,null,null,"Bourg-Lastic-Messeix",{"$f":"_xlfn.XLOOKUP(O251,'Liste des DT-EIC-SITES'!D:D,'Liste des DT-EIC-SITES'!C:C)","v":"EIC Auvergne Nivernais"}]
[null,null,"Tenay-Hauteville",null,null,null,null,null,null,null,null,null,null,null,"Bourg-Madame",{"$f":"_xlfn.XLOOKUP(O252,'Liste des DT-EIC-SITES'!D:D,'Liste des DT-EIC-SITES'!C:C)","v":"EIC Languedoc Roussillon"}]
[null,null,"Thiers",null,null,null,null,null,null,null,null,null,null,null,"Bourgoin-Jallieu",{"$f":"_xlfn.XLOOKUP(O253,'Liste des DT-EIC-SITES'!D:D,'Liste des DT-EIC-SITES'!C:C)","v":"EIC Rhône Alpes Lyon"}]
[null,null,"Thonon-les-Bains",null,null,null,null,null,null,null,null,null,null,null,"Bourg-St-Andéol",{"$f":"_xlfn.XLOOKUP(O254,'Liste des DT-EIC-SITES'!D:D,'Liste des DT-EIC-SITES'!C:C)","v":"EIC Rhône Alpes Lyon"}]
[null,null,"Tournon",null,null,null,null,null,null,null,null,null,null,null,"Bourg-St-Maurice",{"$f":"_xlfn.XLOOKUP(O255,'Liste des DT-EIC-SITES'!D:D,'Liste des DT-EIC-SITES'!C:C)","v":"EIC Alpes"}]
[null,null,"Tronget",null,null,null,null,null,null,null,null,null,null,null,"Bourmont",{"$f":"_xlfn.XLOOKUP(O256,'Liste des DT-EIC-SITES'!D:D,'Liste des DT-EIC-SITES'!C:C)","v":"EIC Lorraine Champagne Ardenne"}]
[null,null,"Tullins-Fures",null,null,null,null,null,null,null,null,null,null,null,"Bourron-Marlotte-Grez",{"$f":"_xlfn.XLOOKUP(O257,'Liste des DT-EIC-SITES'!D:D,'Liste des DT-EIC-SITES'!C:C)","v":"EIC Paris Sud Est"}]
[null,null,"Ugine",null,null,null,null,null,null,null,null,null,null,null,"Boussens",{"$f":"_xlfn.XLOOKUP(O258,'Liste des DT-EIC-SITES'!D:D,'Liste des DT-EIC-SITES'!C:C)","v":"EIC Midi Pyrénées"}]
[null,null,"UPIE LGV",null,null,null,null,null,null,null,null,null,null,null,"Bouthéon",{"$f":"_xlfn.XLOOKUP(O259,'Liste des DT-EIC-SITES'!D:D,'Liste des DT-EIC-SITES'!C:C)","v":"EIC Rhône Alpes Lyon"}]
[null,null,"Valence",null,null,null,null,null,null,null,null,null,null,null,"Bouzonville",{"$f":"_xlfn.XLOOKUP(O260,'Liste des DT-EIC-SITES'!D:D,'Liste des DT-EIC-SITES'!C:C)","v":"EIC Lorraine Champagne Ardenne"}]
[null,null,"Valence-TGV",null,null,null,null,null,null,null,null,null,null,null,"Bram",{"$f":"_xlfn.XLOOKUP(O261,'Liste des DT-EIC-SITES'!D:D,'Liste des DT-EIC-SITES'!C:C)","v":"EIC Midi Pyrénées"}]
[null,null,"Valleiry",null,null,null,null,null,null,null,null,null,null,null,"Brazey-en-Plaine",{"$f":"_xlfn.XLOOKUP(O262,'Liste des DT-EIC-SITES'!D:D,'Liste des DT-EIC-SITES'!C:C)","v":"EIC Bourgogne Franche Comté"}]
[null,null,"Vallon",null,null,null,null,null,null,null,null,null,null,null,"Bréauté-Beuzeville",{"$f":"_xlfn.XLOOKUP(O263,'Liste des DT-EIC-SITES'!D:D,'Liste des DT-EIC-SITES'!C:C)","v":"EIC Normandie"}]
[null,null,"Vallorcine",null,null,null,null,null,null,null,null,null,null,null,"Breil-sur-Roya",{"$f":"_xlfn.XLOOKUP(O264,'Liste des DT-EIC-SITES'!D:D,'Liste des DT-EIC-SITES'!C:C)","v":"EIC Provence Alpes Côte d'Azur"}]
[null,null,"Varennes-sur-Allier",null,null,null,null,null,null,null,null,null,null,null,"Brens-Virignin",{"$f":"_xlfn.XLOOKUP(O265,'Liste des DT-EIC-SITES'!D:D,'Liste des DT-EIC-SITES'!C:C)","v":"EIC Alpes"}]
[null,null,"Vaux-en-Bugey",null,null,null,null,null,null,null,null,null,null,null,"Bresles",{"$f":"_xlfn.XLOOKUP(O266,'Liste des DT-EIC-SITES'!D:D,'Liste des DT-EIC-SITES'!C:C)","v":"EIC Paris Nord"}]
[null,null,"Veauche-St-Galmier",null,null,null,null,null,null,null,null,null,null,null,"Bressuire",{"$f":"_xlfn.XLOOKUP(O267,'Liste des DT-EIC-SITES'!D:D,'Liste des DT-EIC-SITES'!C:C)","v":"EIC Bretagne Pays de la Loire"}]
[null,null,"Vénissieux",null,null,null,null,null,null,null,null,null,null,null,"Brest",{"$f":"_xlfn.XLOOKUP(O268,'Liste des DT-EIC-SITES'!D:D,'Liste des DT-EIC-SITES'!C:C)","v":"EIC Bretagne Pays de la Loire"}]
[null,null,"Vénissieux-Sud",null,null,null,null,null,null,null,null,null,null,null,"Bretenoux-Biars",{"$f":"_xlfn.XLOOKUP(O269,'Liste des DT-EIC-SITES'!D:D,'Liste des DT-EIC-SITES'!C:C)","v":"EIC Centre Limousin"}]
[null,null,"Vertaizon",null,null,null,null,null,null,null,null,null,null,null,"Breteuil",{"$f":"_xlfn.XLOOKUP(O270,'Liste des DT-EIC-SITES'!D:D,'Liste des DT-EIC-SITES'!C:C)","v":"EIC Normandie"}]
[null,null,"Vichy",null,null,null,null,null,null,null,null,null,null,null,"Breteuil-Embranchement",{"$f":"_xlfn.XLOOKUP(O271,'Liste des DT-EIC-SITES'!D:D,'Liste des DT-EIC-SITES'!C:C)","v":"EIC Hauts de France"}]
[null,null,"Vic-le-Comte",null,null,null,null,null,null,null,null,null,null,null,"Breteuil-Ville",{"$f":"_xlfn.XLOOKUP(O272,'Liste des DT-EIC-SITES'!D:D,'Liste des DT-EIC-SITES'!C:C)","v":"EIC Hauts de France"}]
[null,null,"Vic-sur-Cère",null,null,null,null,null,null,null,null,null,null,null,"Brétigny",{"$f":"_xlfn.XLOOKUP(O273,'Liste des DT-EIC-SITES'!D:D,'Liste des DT-EIC-SITES'!C:C)","v":"EIC Paris Sud Ouest"}]
[null,null,"Vienne",null,null,null,null,null,null,null,null,null,null,null,"Bretoncelles",{"$f":"_xlfn.XLOOKUP(O274,'Liste des DT-EIC-SITES'!D:D,'Liste des DT-EIC-SITES'!C:C)","v":"EIC Paris Sud Ouest"}]
[null,null,"Viescamp-sous-Jalles",null,null,null,null,null,null,null,null,null,null,null,"Breuil-le-Sec",{"$f":"_xlfn.XLOOKUP(O275,'Liste des DT-EIC-SITES'!D:D,'Liste des DT-EIC-SITES'!C:C)","v":"EIC Paris Nord"}]
[null,null,"Vif",null,null,null,null,null,null,null,null,null,null,null,"Breuvannes",{"$f":"_xlfn.XLOOKUP(O276,'Liste des DT-EIC-SITES'!D:D,'Liste des DT-EIC-SITES'!C:C)","v":"EIC Lorraine Champagne Ardenne"}]
[null,null,"Villars-les-Dombes",null,null,null,null,null,null,null,null,null,null,null,"Brézé-St-Cyr-en-Bourg",{"$f":"_xlfn.XLOOKUP(O277,'Liste des DT-EIC-SITES'!D:D,'Liste des DT-EIC-SITES'!C:C)","v":"EIC Bretagne Pays de la Loire"}]
[null,null,"Villefranche-sur-Saône",null,null,null,null,null,null,null,null,null,null,null,"Briançon",{"$f":"_xlfn.XLOOKUP(O278,'Liste des DT-EIC-SITES'!D:D,'Liste des DT-EIC-SITES'!C:C)","v":"EIC Provence Alpes Côte d'Azur"}]
[null,null,"Villereversure",null,null,null,null,null,null,null,null,null,null,null,"Bricon",{"$f":"_xlfn.XLOOKUP(O279,'Liste des DT-EIC-SITES'!D:D,'Liste des DT-EIC-SITES'!C:C)","v":"EIC Lorraine Champagne Ardenne"}]
[null,null,"Virieu-le-Grand-Belley",null,null,null,null,null,null,null,null,null,null,null,"Bricy-Boulay",{"$f":"_xlfn.XLOOKUP(O280,'Liste des DT-EIC-SITES'!D:D,'Liste des DT-EIC-SITES'!C:C)","v":"EIC Centre Limousin"}]
[null,null,"Viry",null,null,null,null,null,null,null,null,null,null,null,"Brienne-le-Château",{"$f":"_xlfn.XLOOKUP(O281,'Liste des DT-EIC-SITES'!D:D,'Liste des DT-EIC-SITES'!C:C)","v":"EIC Lorraine Champagne Ardenne"}]
[null,null,"Volvic",null,null,null,null,null,null,null,null,null,null,null,"Brienon",{"$f":"_xlfn.XLOOKUP(O282,'Liste des DT-EIC-SITES'!D:D,'Liste des DT-EIC-SITES'!C:C)","v":"EIC Paris Sud Est"}]
[null,null,"Vonnas",null,null,null,null,null,null,null,null,null,null,null,"Brignais",{"$f":"_xlfn.XLOOKUP(O283,'Liste des DT-EIC-SITES'!D:D,'Liste des DT-EIC-SITES'!C:C)","v":"EIC Rhône Alpes Lyon"}]
[null,null,"Voreppe",null,null,null,null,null,null,null,null,null,null,null,"Brioude",{"$f":"_xlfn.XLOOKUP(O284,'Liste des DT-EIC-SITES'!D:D,'Liste des DT-EIC-SITES'!C:C)","v":"EIC Auvergne Nivernais"}]
[null,null,"Vorey",null,null,null,null,null,null,null,null,null,null,null,"Brive-la-Gaillarde",{"$f":"_xlfn.XLOOKUP(O285,'Liste des DT-EIC-SITES'!D:D,'Liste des DT-EIC-SITES'!C:C)","v":"EIC Centre Limousin"}]
[null,null,null,null,null,null,null,null,null,null,null,null,null,null,"Broons",{"$f":"_xlfn.XLOOKUP(O286,'Liste des DT-EIC-SITES'!D:D,'Liste des DT-EIC-SITES'!C:C)","v":"EIC Bretagne Pays de la Loire"}]
[null,null,null,null,null,null,null,null,null,null,null,null,null,null,"Brou",{"$f":"_xlfn.XLOOKUP(O287,'Liste des DT-EIC-SITES'!D:D,'Liste des DT-EIC-SITES'!C:C)","v":"EIC Centre Limousin"}]
[null,null,null,null,null,null,null,null,null,null,null,null,null,null,"Bruges",{"$f":"_xlfn.XLOOKUP(O288,'Liste des DT-EIC-SITES'!D:D,'Liste des DT-EIC-SITES'!C:C)","v":"EIC Aquitaine Poitou Charentes"}]
[null,null,null,null,null,null,null,null,null,null,null,null,null,null,"Brumath",{"$f":"_xlfn.XLOOKUP(O289,'Liste des DT-EIC-SITES'!D:D,'Liste des DT-EIC-SITES'!C:C)","v":"EIC Alsace"}]
[null,null,null,null,null,null,null,null,null,null,null,null,null,null,"Bruyères",{"$f":"_xlfn.XLOOKUP(O290,'Liste des DT-EIC-SITES'!D:D,'Liste des DT-EIC-SITES'!C:C)","v":"EIC Lorraine Champagne Ardenne"}]
[null,null,null,null,null,null,null,null,null,null,null,null,null,null,"Bruyères-sur-Oise",{"$f":"_xlfn.XLOOKUP(O291,'Liste des DT-EIC-SITES'!D:D,'Liste des DT-EIC-SITES'!C:C)","v":"EIC Paris Nord"}]
[null,null,null,null,null,null,null,null,null,null,null,null,null,null,"Bry-sur-Marne",{"$f":"_xlfn.XLOOKUP(O292,'Liste des DT-EIC-SITES'!D:D,'Liste des DT-EIC-SITES'!C:C)","v":"EIC Paris Nord"}]
[null,null,null,null,null,null,null,null,null,null,null,null,null,null,"Bueil",{"$f":"_xlfn.XLOOKUP(O293,'Liste des DT-EIC-SITES'!D:D,'Liste des DT-EIC-SITES'!C:C)","v":"EIC Paris Est Ouest Francilien"}]
[null,null,null,null,null,null,null,null,null,null,null,null,null,null,"Bugeat",{"$f":"_xlfn.XLOOKUP(O294,'Liste des DT-EIC-SITES'!D:D,'Liste des DT-EIC-SITES'!C:C)","v":"EIC Centre Limousin"}]
[null,null,null,null,null,null,null,null,null,null,null,null,null,null,"Bully-Grenay",{"$f":"_xlfn.XLOOKUP(O295,'Liste des DT-EIC-SITES'!D:D,'Liste des DT-EIC-SITES'!C:C)","v":"EIC Hauts de France"}]
[null,null,null,null,null,null,null,null,null,null,null,null,null,null,"Busigny",{"$f":"_xlfn.XLOOKUP(O296,'Liste des DT-EIC-SITES'!D:D,'Liste des DT-EIC-SITES'!C:C)","v":"EIC Hauts de France"}]
[null,null,null,null,null,null,null,null,null,null,null,null,null,null,"Busseau-sur-Creuse",{"$f":"_xlfn.XLOOKUP(O297,'Liste des DT-EIC-SITES'!D:D,'Liste des DT-EIC-SITES'!C:C)","v":"EIC Centre Limousin"}]
[null,null,null,null,null,null,null,null,null,null,null,null,null,null,"Bussière-Galant",{"$f":"_xlfn.XLOOKUP(O298,'Liste des DT-EIC-SITES'!D:D,'Liste des DT-EIC-SITES'!C:C)","v":"EIC Centre Limousin"}]
[null,null,null,null,null,null,null,null,null,null,null,null,null,null,"Buzançais",{"$f":"_xlfn.XLOOKUP(O299,'Liste des DT-EIC-SITES'!D:D,'Liste des DT-EIC-SITES'!C:C)","v":"EIC Centre Limousin"}]
[null,null,null,null,null,null,null,null,null,null,null,null,null,null,"CADS",{"$f":"_xlfn.XLOOKUP(O300,'Liste des DT-EIC-SITES'!D:D,'Liste des DT-EIC-SITES'!C:C)","v":"EIC Bretagne Pays de la Loire"}]
[null,null,null,null,null,null,null,null,null,null,null,null,null,null,"Caen",{"$f":"_xlfn.XLOOKUP(O301,'Liste des DT-EIC-SITES'!D:D,'Liste des DT-EIC-SITES'!C:C)","v":"EIC Normandie"}]
[null,null,null,null,null,null,null,null,null,null,null,null,null,null,"Caffiers",{"$f":"_xlfn.XLOOKUP(O302,'Liste des DT-EIC-SITES'!D:D,'Liste des DT-EIC-SITES'!C:C)","v":"EIC Hauts de France"}]
[null,null,null,null,null,null,null,null,null,null,null,null,null,null,"Cagnes-sur-Mer",{"$f":"_xlfn.XLOOKUP(O303,'Liste des DT-EIC-SITES'!D:D,'Liste des DT-EIC-SITES'!C:C)","v":"EIC Provence Alpes Côte d'Azur"}]
[null,null,null,null,null,null,null,null,null,null,null,null,null,null,"Cahors",{"$f":"_xlfn.XLOOKUP(O304,'Liste des DT-EIC-SITES'!D:D,'Liste des DT-EIC-SITES'!C:C)","v":"EIC Midi Pyrénées"}]
[null,null,null,null,null,null,null,null,null,null,null,null,null,null,"Calais-Fréthun",{"$f":"_xlfn.XLOOKUP(O305,'Liste des DT-EIC-SITES'!D:D,'Liste des DT-EIC-SITES'!C:C)","v":"EIC Hauts de France"}]
[null,null,null,null,null,null,null,null,null,null,null,null,null,null,"Calais-Ville",{"$f":"_xlfn.XLOOKUP(O306,'Liste des DT-EIC-SITES'!D:D,'Liste des DT-EIC-SITES'!C:C)","v":"EIC Hauts de France"}]
[null,null,null,null,null,null,null,null,null,null,null,null,null,null,"Callac",{"$f":"_xlfn.XLOOKUP(O307,'Liste des DT-EIC-SITES'!D:D,'Liste des DT-EIC-SITES'!C:C)","v":"EIC Bretagne Pays de la Loire"}]
[null,null,null,null,null,null,null,null,null,null,null,null,null,null,"Cambrai",{"$f":"_xlfn.XLOOKUP(O308,'Liste des DT-EIC-SITES'!D:D,'Liste des DT-EIC-SITES'!C:C)","v":"EIC Hauts de France"}]
[null,null,null,null,null,null,null,null,null,null,null,null,null,null,"Campagnac-St-Geniez",{"$f":"_xlfn.XLOOKUP(O309,'Liste des DT-EIC-SITES'!D:D,'Liste des DT-EIC-SITES'!C:C)","v":"EIC Languedoc Roussillon"}]
[null,null,null,null,null,null,null,null,null,null,null,null,null,null,"Cannes",{"$f":"_xlfn.XLOOKUP(O310,'Liste des DT-EIC-SITES'!D:D,'Liste des DT-EIC-SITES'!C:C)","v":"EIC Provence Alpes Côte d'Azur"}]
[null,null,null,null,null,null,null,null,null,null,null,null,null,null,"Cannes-Marchandises",{"$f":"_xlfn.XLOOKUP(O311,'Liste des DT-EIC-SITES'!D:D,'Liste des DT-EIC-SITES'!C:C)","v":"EIC Provence Alpes Côte d'Azur"}]
[null,null,null,null,null,null,null,null,null,null,null,null,null,null,"Capdenac",{"$f":"_xlfn.XLOOKUP(O312,'Liste des DT-EIC-SITES'!D:D,'Liste des DT-EIC-SITES'!C:C)","v":"EIC Midi Pyrénées"}]
[null,null,null,null,null,null,null,null,null,null,null,null,null,null,"Cap-Martin-Roquebrune",{"$f":"_xlfn.XLOOKUP(O313,'Liste des DT-EIC-SITES'!D:D,'Liste des DT-EIC-SITES'!C:C)","v":"EIC Provence Alpes Côte d'Azur"}]
[null,null,null,null,null,null,null,null,null,null,null,null,null,null,"Capvern",{"$f":"_xlfn.XLOOKUP(O314,'Liste des DT-EIC-SITES'!D:D,'Liste des DT-EIC-SITES'!C:C)","v":"EIC Midi Pyrénées"}]
[null,null,null,null,null,null,null,null,null,null,null,null,null,null,"Carbonne",{"$f":"_xlfn.XLOOKUP(O315,'Liste des DT-EIC-SITES'!D:D,'Liste des DT-EIC-SITES'!C:C)","v":"EIC Midi Pyrénées"}]
[null,null,null,null,null,null,null,null,null,null,null,null,null,null,"Carcassonne",{"$f":"_xlfn.XLOOKUP(O316,'Liste des DT-EIC-SITES'!D:D,'Liste des DT-EIC-SITES'!C:C)","v":"EIC Languedoc Roussillon"}]
[null,null,null,null,null,null,null,null,null,null,null,null,null,null,"Carentan",{"$f":"_xlfn.XLOOKUP(O317,'Liste des DT-EIC-SITES'!D:D,'Liste des DT-EIC-SITES'!C:C)","v":"EIC Normandie"}]
[null,null,null,null,null,null,null,null,null,null,null,null,null,null,"Carhaix",{"$f":"_xlfn.XLOOKUP(O318,'Liste des DT-EIC-SITES'!D:D,'Liste des DT-EIC-SITES'!C:C)","v":"EIC Bretagne Pays de la Loire"}]
[null,null,null,null,null,null,null,null,null,null,null,null,null,null,"Carignan",{"$f":"_xlfn.XLOOKUP(O319,'Liste des DT-EIC-SITES'!D:D,'Liste des DT-EIC-SITES'!C:C)","v":"EIC Lorraine Champagne Ardenne"}]
[null,null,null,null,null,null,null,null,null,null,null,null,null,null,"Carmaux",{"$f":"_xlfn.XLOOKUP(O320,'Liste des DT-EIC-SITES'!D:D,'Liste des DT-EIC-SITES'!C:C)","v":"EIC Midi Pyrénées"}]
[null,null,null,null,null,null,null,null,null,null,null,null,null,null,"Carnoët-Locarn",{"$f":"_xlfn.XLOOKUP(O321,'Liste des DT-EIC-SITES'!D:D,'Liste des DT-EIC-SITES'!C:C)","v":"EIC Bretagne Pays de la Loire"}]
[null,null,null,null,null,null,null,null,null,null,null,null,null,null,"Carnoules",{"$f":"_xlfn.XLOOKUP(O322,'Liste des DT-EIC-SITES'!D:D,'Liste des DT-EIC-SITES'!C:C)","v":"EIC Provence Alpes Côte d'Azur"}]
[null,null,null,null,null,null,null,null,null,null,null,null,null,null,"Carpentras",{"$f":"_xlfn.XLOOKUP(O323,'Liste des DT-EIC-SITES'!D:D,'Liste des DT-EIC-SITES'!C:C)","v":"EIC Provence Alpes Côte d'Azur"}]
[null,null,null,null,null,null,null,null,null,null,null,null,null,null,"Carquefou",{"$f":"_xlfn.XLOOKUP(O324,'Liste des DT-EIC-SITES'!D:D,'Liste des DT-EIC-SITES'!C:C)","v":"EIC Bretagne Pays de la Loire"}]
[null,null,null,null,null,null,null,null,null,null,null,null,null,null,"Cases-de-Pène",{"$f":"_xlfn.XLOOKUP(O325,'Liste des DT-EIC-SITES'!D:D,'Liste des DT-EIC-SITES'!C:C)","v":"EIC Languedoc Roussillon"}]
[null,null,null,null,null,null,null,null,null,null,null,null,null,null,"Castelnaudary",{"$f":"_xlfn.XLOOKUP(O326,'Liste des DT-EIC-SITES'!D:D,'Liste des DT-EIC-SITES'!C:C)","v":"EIC Midi Pyrénées"}]
[null,null,null,null,null,null,null,null,null,null,null,null,null,null,"Castelnau-d'Estrétefonds",{"$f":"_xlfn.XLOOKUP(O327,'Liste des DT-EIC-SITES'!D:D,'Liste des DT-EIC-SITES'!C:C)","v":"EIC Midi Pyrénées"}]
[null,null,null,null,null,null,null,null,null,null,null,null,null,null,"Castelnau-Rivière-Basse",{"$f":"_xlfn.XLOOKUP(O328,'Liste des DT-EIC-SITES'!D:D,'Liste des DT-EIC-SITES'!C:C)","v":"EIC Midi Pyrénées"}]
[null,null,null,null,null,null,null,null,null,null,null,null,null,null,"Castelsarrasin",{"$f":"_xlfn.XLOOKUP(O329,'Liste des DT-EIC-SITES'!D:D,'Liste des DT-EIC-SITES'!C:C)","v":"EIC Midi Pyrénées"}]
[null,null,null,null,null,null,null,null,null,null,null,null,null,null,"Castillon",{"$f":"_xlfn.XLOOKUP(O330,'Liste des DT-EIC-SITES'!D:D,'Liste des DT-EIC-SITES'!C:C)","v":"EIC Aquitaine Poitou Charentes"}]
[null,null,null,null,null,null,null,null,null,null,null,null,null,null,"Castres",{"$f":"_xlfn.XLOOKUP(O331,'Liste des DT-EIC-SITES'!D:D,'Liste des DT-EIC-SITES'!C:C)","v":"EIC Midi Pyrénées"}]
[null,null,null,null,null,null,null,null,null,null,null,null,null,null,"Caudiès",{"$f":"_xlfn.XLOOKUP(O332,'Liste des DT-EIC-SITES'!D:D,'Liste des DT-EIC-SITES'!C:C)","v":"EIC Languedoc Roussillon"}]
[null,null,null,null,null,null,null,null,null,null,null,null,null,null,"Caussade",{"$f":"_xlfn.XLOOKUP(O333,'Liste des DT-EIC-SITES'!D:D,'Liste des DT-EIC-SITES'!C:C)","v":"EIC Midi Pyrénées"}]
[null,null,null,null,null,null,null,null,null,null,null,null,null,null,"Cavaillon",{"$f":"_xlfn.XLOOKUP(O334,'Liste des DT-EIC-SITES'!D:D,'Liste des DT-EIC-SITES'!C:C)","v":"EIC Provence Alpes Côte d'Azur"}]
[null,null,null,null,null,null,null,null,null,null,null,null,null,null,"CAVAILLON LGV",{"$f":"_xlfn.XLOOKUP(O335,'Liste des DT-EIC-SITES'!D:D,'Liste des DT-EIC-SITES'!C:C)","v":"EIC Provence Alpes Côte d'Azur"}]
[null,null,null,null,null,null,null,null,null,null,null,null,null,null,"Cazères-sur-Garonne",{"$f":"_xlfn.XLOOKUP(O336,'Liste des DT-EIC-SITES'!D:D,'Liste des DT-EIC-SITES'!C:C)","v":"EIC Midi Pyrénées"}]
[null,null,null,null,null,null,null,null,null,null,null,null,null,null,"Ceilhes-Roqueredonde",{"$f":"_xlfn.XLOOKUP(O337,'Liste des DT-EIC-SITES'!D:D,'Liste des DT-EIC-SITES'!C:C)","v":"EIC Languedoc Roussillon"}]
[null,null,null,null,null,null,null,null,null,null,null,null,null,null,"Celon",{"$f":"_xlfn.XLOOKUP(O338,'Liste des DT-EIC-SITES'!D:D,'Liste des DT-EIC-SITES'!C:C)","v":"EIC Centre Limousin"}]
[null,null,null,null,null,null,null,null,null,null,null,null,null,null,"Cerbère",{"$f":"_xlfn.XLOOKUP(O339,'Liste des DT-EIC-SITES'!D:D,'Liste des DT-EIC-SITES'!C:C)","v":"EIC Languedoc Roussillon"}]
[null,null,null,null,null,null,null,null,null,null,null,null,null,null,"Cercy-la-Tour",{"$f":"_xlfn.XLOOKUP(O340,'Liste des DT-EIC-SITES'!D:D,'Liste des DT-EIC-SITES'!C:C)","v":"EIC Auvergne Nivernais"}]
[null,null,null,null,null,null,null,null,null,null,null,null,null,null,"Cerdon-du-Loiret",{"$f":"_xlfn.XLOOKUP(O341,'Liste des DT-EIC-SITES'!D:D,'Liste des DT-EIC-SITES'!C:C)","v":"EIC Centre Limousin"}]
[null,null,null,null,null,null,null,null,null,null,null,null,null,null,"Cergy-le-Haut",{"$f":"_xlfn.XLOOKUP(O342,'Liste des DT-EIC-SITES'!D:D,'Liste des DT-EIC-SITES'!C:C)","v":"EIC Paris Est Ouest Francilien"}]
[null,null,null,null,null,null,null,null,null,null,null,null,null,null,"Cergy-St-Christophe",{"$f":"_xlfn.XLOOKUP(O343,'Liste des DT-EIC-SITES'!D:D,'Liste des DT-EIC-SITES'!C:C)","v":"EIC Paris Est Ouest Francilien"}]
[null,null,null,null,null,null,null,null,null,null,null,null,null,null,"Cernay",{"$f":"_xlfn.XLOOKUP(O344,'Liste des DT-EIC-SITES'!D:D,'Liste des DT-EIC-SITES'!C:C)","v":"EIC Alsace"}]
[null,null,null,null,null,null,null,null,null,null,null,null,null,null,"Cevins",{"$f":"_xlfn.XLOOKUP(O345,'Liste des DT-EIC-SITES'!D:D,'Liste des DT-EIC-SITES'!C:C)","v":"EIC Alpes"}]
[null,null,null,null,null,null,null,null,null,null,null,null,null,null,"Chabanais",{"$f":"_xlfn.XLOOKUP(O346,'Liste des DT-EIC-SITES'!D:D,'Liste des DT-EIC-SITES'!C:C)","v":"EIC Aquitaine Poitou Charentes"}]
[null,null,null,null,null,null,null,null,null,null,null,null,null,null,"Chagny",{"$f":"_xlfn.XLOOKUP(O347,'Liste des DT-EIC-SITES'!D:D,'Liste des DT-EIC-SITES'!C:C)","v":"EIC Bourgogne Franche Comté"}]
[null,null,null,null,null,null,null,null,null,null,null,null,null,null,"Chailly-Boissy-Le Châtel",{"$f":"_xlfn.XLOOKUP(O348,'Liste des DT-EIC-SITES'!D:D,'Liste des DT-EIC-SITES'!C:C)","v":"EIC Paris Est Ouest Francilien"}]
[null,null,null,null,null,null,null,null,null,null,null,null,null,null,"Chalandray",{"$f":"_xlfn.XLOOKUP(O349,'Liste des DT-EIC-SITES'!D:D,'Liste des DT-EIC-SITES'!C:C)","v":"EIC Aquitaine Poitou Charentes"}]
[null,null,null,null,null,null,null,null,null,null,null,null,null,null,"Chaligny-Neuves-Maisons",{"$f":"_xlfn.XLOOKUP(O350,'Liste des DT-EIC-SITES'!D:D,'Liste des DT-EIC-SITES'!C:C)","v":"EIC Lorraine Champagne Ardenne"}]
[null,null,null,null,null,null,null,null,null,null,null,null,null,null,"Challans",{"$f":"_xlfn.XLOOKUP(O351,'Liste des DT-EIC-SITES'!D:D,'Liste des DT-EIC-SITES'!C:C)","v":"EIC Bretagne Pays de la Loire"}]
[null,null,null,null,null,null,null,null,null,null,null,null,null,null,"Châlons-en-Champagne",{"$f":"_xlfn.XLOOKUP(O352,'Liste des DT-EIC-SITES'!D:D,'Liste des DT-EIC-SITES'!C:C)","v":"EIC Lorraine Champagne Ardenne"}]
[null,null,null,null,null,null,null,null,null,null,null,null,null,null,"Chalon-sur-Saône",{"$f":"_xlfn.XLOOKUP(O353,'Liste des DT-EIC-SITES'!D:D,'Liste des DT-EIC-SITES'!C:C)","v":"EIC Bourgogne Franche Comté"}]
[null,null,null,null,null,null,null,null,null,null,null,null,null,null,"Chambéry-Challes-les-Eaux",{"$f":"_xlfn.XLOOKUP(O354,'Liste des DT-EIC-SITES'!D:D,'Liste des DT-EIC-SITES'!C:C)","v":"EIC Alpes"}]
[null,null,null,null,null,null,null,null,null,null,null,null,null,null,"Chamborigaud",{"$f":"_xlfn.XLOOKUP(O355,'Liste des DT-EIC-SITES'!D:D,'Liste des DT-EIC-SITES'!C:C)","v":"EIC Languedoc Roussillon"}]
[null,null,null,null,null,null,null,null,null,null,null,null,null,null,"Champagné",{"$f":"_xlfn.XLOOKUP(O356,'Liste des DT-EIC-SITES'!D:D,'Liste des DT-EIC-SITES'!C:C)","v":"EIC Bretagne Pays de la Loire"}]
[null,null,null,null,null,null,null,null,null,null,null,null,null,null,"Champagne-sur-Vingeanne",{"$f":"_xlfn.XLOOKUP(O357,'Liste des DT-EIC-SITES'!D:D,'Liste des DT-EIC-SITES'!C:C)","v":"EIC Paris Sud Est"}]
[null,null,null,null,null,null,null,null,null,null,null,null,null,null,"Champagney",{"$f":"_xlfn.XLOOKUP(O358,'Liste des DT-EIC-SITES'!D:D,'Liste des DT-EIC-SITES'!C:C)","v":"EIC Bourgogne Franche Comté"}]
[null,null,null,null,null,null,null,null,null,null,null,null,null,null,"Champagnole",{"$f":"_xlfn.XLOOKUP(O359,'Liste des DT-EIC-SITES'!D:D,'Liste des DT-EIC-SITES'!C:C)","v":"EIC Bourgogne Franche Comté"}]
[null,null,null,null,null,null,null,null,null,null,null,null,null,null,"Champigneulles",{"$f":"_xlfn.XLOOKUP(O360,'Liste des DT-EIC-SITES'!D:D,'Liste des DT-EIC-SITES'!C:C)","v":"EIC Lorraine Champagne Ardenne"}]
[null,null,null,null,null,null,null,null,null,null,null,null,null,null,"Champ-St-Père",{"$f":"_xlfn.XLOOKUP(O361,'Liste des DT-EIC-SITES'!D:D,'Liste des DT-EIC-SITES'!C:C)","v":"EIC Bretagne Pays de la Loire"}]
[null,null,null,null,null,null,null,null,null,null,null,null,null,null,"Chanac",{"$f":"_xlfn.XLOOKUP(O362,'Liste des DT-EIC-SITES'!D:D,'Liste des DT-EIC-SITES'!C:C)","v":"EIC Languedoc Roussillon"}]
[null,null,null,null,null,null,null,null,null,null,null,null,null,null,"Chandieu-Toussieu",{"$f":"_xlfn.XLOOKUP(O363,'Liste des DT-EIC-SITES'!D:D,'Liste des DT-EIC-SITES'!C:C)","v":"EIC Rhône Alpes Lyon"}]
[null,null,null,null,null,null,null,null,null,null,null,null,null,null,"Changis-St-Jean",{"$f":"_xlfn.XLOOKUP(O364,'Liste des DT-EIC-SITES'!D:D,'Liste des DT-EIC-SITES'!C:C)","v":"EIC Paris Est Ouest Francilien"}]
[null,null,null,null,null,null,null,null,null,null,null,null,null,null,"Chantenay",{"$f":"_xlfn.XLOOKUP(O365,'Liste des DT-EIC-SITES'!D:D,'Liste des DT-EIC-SITES'!C:C)","v":"EIC Bretagne Pays de la Loire"}]
[null,null,null,null,null,null,null,null,null,null,null,null,null,null,"Chantier Equipement",{"$f":"_xlfn.XLOOKUP(O366,'Liste des DT-EIC-SITES'!D:D,'Liste des DT-EIC-SITES'!C:C)","v":"EIC Bretagne Pays de la Loire"}]
[null,null,null,null,null,null,null,null,null,null,null,null,null,null,"Chantier VB de La Gratouille",{"$f":"_xlfn.XLOOKUP(O367,'Liste des DT-EIC-SITES'!D:D,'Liste des DT-EIC-SITES'!C:C)","v":"EIC Centre Limousin"}]
[null,null,null,null,null,null,null,null,null,null,null,null,null,null,"Chantonnay",{"$f":"_xlfn.XLOOKUP(O368,'Liste des DT-EIC-SITES'!D:D,'Liste des DT-EIC-SITES'!C:C)","v":"EIC Bretagne Pays de la Loire"}]
[null,null,null,null,null,null,null,null,null,null,null,null,null,null,"Chapeauroux",{"$f":"_xlfn.XLOOKUP(O369,'Liste des DT-EIC-SITES'!D:D,'Liste des DT-EIC-SITES'!C:C)","v":"EIC Auvergne Nivernais"}]
[null,null,null,null,null,null,null,null,null,null,null,null,null,null,"Charbonnières-les-Varennes",{"$f":"_xlfn.XLOOKUP(O370,'Liste des DT-EIC-SITES'!D:D,'Liste des DT-EIC-SITES'!C:C)","v":"EIC Auvergne Nivernais"}]
[null,null,null,null,null,null,null,null,null,null,null,null,null,null,"Charix-Lalleyriat",{"$f":"_xlfn.XLOOKUP(O371,'Liste des DT-EIC-SITES'!D:D,'Liste des DT-EIC-SITES'!C:C)","v":"EIC Alpes"}]
[null,null,null,null,null,null,null,null,null,null,null,null,null,null,"Charleville-Mézières",{"$f":"_xlfn.XLOOKUP(O372,'Liste des DT-EIC-SITES'!D:D,'Liste des DT-EIC-SITES'!C:C)","v":"EIC Lorraine Champagne Ardenne"}]
[null,null,null,null,null,null,null,null,null,null,null,null,null,null,"Charlieu",{"$f":"_xlfn.XLOOKUP(O373,'Liste des DT-EIC-SITES'!D:D,'Liste des DT-EIC-SITES'!C:C)","v":"EIC Rhône Alpes Lyon"}]
[null,null,null,null,null,null,null,null,null,null,null,null,null,null,"Charmant",{"$f":"_xlfn.XLOOKUP(O374,'Liste des DT-EIC-SITES'!D:D,'Liste des DT-EIC-SITES'!C:C)","v":"EIC Aquitaine Poitou Charentes"}]
[null,null,null,null,null,null,null,null,null,null,null,null,null,null,"Charmes",{"$f":"_xlfn.XLOOKUP(O375,'Liste des DT-EIC-SITES'!D:D,'Liste des DT-EIC-SITES'!C:C)","v":"EIC Lorraine Champagne Ardenne"}]
[null,null,null,null,null,null,null,null,null,null,null,null,null,null,"Chartres",{"$f":"_xlfn.XLOOKUP(O376,'Liste des DT-EIC-SITES'!D:D,'Liste des DT-EIC-SITES'!C:C)","v":"EIC Centre Limousin"}]
[null,null,null,null,null,null,null,null,null,null,null,null,null,null,"Chasseneuil (Vienne)",{"$f":"_xlfn.XLOOKUP(O377,'Liste des DT-EIC-SITES'!D:D,'Liste des DT-EIC-SITES'!C:C)","v":"EIC Aquitaine Poitou Charentes"}]
[null,null,null,null,null,null,null,null,null,null,null,null,null,null,"Chasse-sur-Rhône",{"$f":"_xlfn.XLOOKUP(O378,'Liste des DT-EIC-SITES'!D:D,'Liste des DT-EIC-SITES'!C:C)","v":"EIC Rhône Alpes Lyon"}]
[null,null,null,null,null,null,null,null,null,null,null,null,null,null,"Château-Arnoux-St-Auban",{"$f":"_xlfn.XLOOKUP(O379,'Liste des DT-EIC-SITES'!D:D,'Liste des DT-EIC-SITES'!C:C)","v":"EIC Provence Alpes Côte d'Azur"}]
[null,null,null,null,null,null,null,null,null,null,null,null,null,null,"Châteaubourg",{"$f":"_xlfn.XLOOKUP(O380,'Liste des DT-EIC-SITES'!D:D,'Liste des DT-EIC-SITES'!C:C)","v":"EIC Bretagne Pays de la Loire"}]
[null,null,null,null,null,null,null,null,null,null,null,null,null,null,"Châteaubriant",{"$f":"_xlfn.XLOOKUP(O381,'Liste des DT-EIC-SITES'!D:D,'Liste des DT-EIC-SITES'!C:C)","v":"EIC Bretagne Pays de la Loire"}]
[null,null,null,null,null,null,null,null,null,null,null,null,null,null,"Châteaubriant Tram-Train",{"$f":"_xlfn.XLOOKUP(O382,'Liste des DT-EIC-SITES'!D:D,'Liste des DT-EIC-SITES'!C:C)","v":"EIC Bretagne Pays de la Loire"}]
[null,null,null,null,null,null,null,null,null,null,null,null,null,null,"Château-du-Loir",{"$f":"_xlfn.XLOOKUP(O383,'Liste des DT-EIC-SITES'!D:D,'Liste des DT-EIC-SITES'!C:C)","v":"EIC Bretagne Pays de la Loire"}]
[null,null,null,null,null,null,null,null,null,null,null,null,null,null,"Châteaudun",{"$f":"_xlfn.XLOOKUP(O384,'Liste des DT-EIC-SITES'!D:D,'Liste des DT-EIC-SITES'!C:C)","v":"EIC Centre Limousin"}]
[null,null,null,null,null,null,null,null,null,null,null,null,null,null,"Château-Gontier",{"$f":"_xlfn.XLOOKUP(O385,'Liste des DT-EIC-SITES'!D:D,'Liste des DT-EIC-SITES'!C:C)","v":"EIC Bretagne Pays de la Loire"}]
[null,null,null,null,null,null,null,null,null,null,null,null,null,null,"Château-la-Vallière",{"$f":"_xlfn.XLOOKUP(O386,'Liste des DT-EIC-SITES'!D:D,'Liste des DT-EIC-SITES'!C:C)","v":"EIC Pays de la Loire"}]
[null,null,null,null,null,null,null,null,null,null,null,null,null,null,"Château-l'Évêque",{"$f":"_xlfn.XLOOKUP(O387,'Liste des DT-EIC-SITES'!D:D,'Liste des DT-EIC-SITES'!C:C)","v":"EIC Aquitaine Poitou Charentes"}]
[null,null,null,null,null,null,null,null,null,null,null,null,null,null,"Châteaulin",{"$f":"_xlfn.XLOOKUP(O388,'Liste des DT-EIC-SITES'!D:D,'Liste des DT-EIC-SITES'!C:C)","v":"EIC Bretagne Pays de la Loire"}]
[null,null,null,null,null,null,null,null,null,null,null,null,null,null,"Châteauneuf-Bujaleuf",{"$f":"_xlfn.XLOOKUP(O389,'Liste des DT-EIC-SITES'!D:D,'Liste des DT-EIC-SITES'!C:C)","v":"EIC Centre Limousin"}]
[null,null,null,null,null,null,null,null,null,null,null,null,null,null,"Châteauneuf-sur-Charente",{"$f":"_xlfn.XLOOKUP(O390,'Liste des DT-EIC-SITES'!D:D,'Liste des DT-EIC-SITES'!C:C)","v":"EIC Aquitaine Poitou Charentes"}]
[null,null,null,null,null,null,null,null,null,null,null,null,null,null,"Châteauneuf-sur-Cher",{"$f":"_xlfn.XLOOKUP(O391,'Liste des DT-EIC-SITES'!D:D,'Liste des DT-EIC-SITES'!C:C)","v":"EIC Centre Limousin"}]
[null,null,null,null,null,null,null,null,null,null,null,null,null,null,"Châteauneuf-sur-Loire",{"$f":"_xlfn.XLOOKUP(O392,'Liste des DT-EIC-SITES'!D:D,'Liste des DT-EIC-SITES'!C:C)","v":"EIC Centre Limousin"}]
[null,null,null,null,null,null,null,null,null,null,null,null,null,null,"Château-Renault",{"$f":"_xlfn.XLOOKUP(O393,'Liste des DT-EIC-SITES'!D:D,'Liste des DT-EIC-SITES'!C:C)","v":"EIC Centre Limousin"}]
[null,null,null,null,null,null,null,null,null,null,null,null,null,null,"Châteauroux",{"$f":"_xlfn.XLOOKUP(O394,'Liste des DT-EIC-SITES'!D:D,'Liste des DT-EIC-SITES'!C:C)","v":"EIC Centre Limousin"}]
[null,null,null,null,null,null,null,null,null,null,null,null,null,null,"Château-Thierry",{"$f":"_xlfn.XLOOKUP(O395,'Liste des DT-EIC-SITES'!D:D,'Liste des DT-EIC-SITES'!C:C)","v":"EIC Paris Est Ouest Francilien"}]
[null,null,null,null,null,null,null,null,null,null,null,null,null,null,"Châtelaudren-Plouagat",{"$f":"_xlfn.XLOOKUP(O396,'Liste des DT-EIC-SITES'!D:D,'Liste des DT-EIC-SITES'!C:C)","v":"EIC Bretagne Pays de la Loire"}]
[null,null,null,null,null,null,null,null,null,null,null,null,null,null,"Châtel-Censoir",{"$f":"_xlfn.XLOOKUP(O397,'Liste des DT-EIC-SITES'!D:D,'Liste des DT-EIC-SITES'!C:C)","v":"EIC Paris Sud Est"}]
[null,null,null,null,null,null,null,null,null,null,null,null,null,null,"Châtellerault",{"$f":"_xlfn.XLOOKUP(O398,'Liste des DT-EIC-SITES'!D:D,'Liste des DT-EIC-SITES'!C:C)","v":"EIC Aquitaine Poitou Charentes"}]
[null,null,null,null,null,null,null,null,null,null,null,null,null,null,"Châtel-Nomexy",{"$f":"_xlfn.XLOOKUP(O399,'Liste des DT-EIC-SITES'!D:D,'Liste des DT-EIC-SITES'!C:C)","v":"EIC Lorraine Champagne Ardenne"}]
[null,null,null,null,null,null,null,null,null,null,null,null,null,null,"Châtenois-Dolaincourt",{"$f":"_xlfn.XLOOKUP(O400,'Liste des DT-EIC-SITES'!D:D,'Liste des DT-EIC-SITES'!C:C)","v":"EIC Lorraine Champagne Ardenne"}]
[null,null,null,null,null,null,null,null,null,null,null,null,null,null,"Châtillon-sur-Loire",{"$f":"_xlfn.XLOOKUP(O401,'Liste des DT-EIC-SITES'!D:D,'Liste des DT-EIC-SITES'!C:C)","v":"EIC Paris Sud Est"}]
[null,null,null,null,null,null,null,null,null,null,null,null,null,null,"Châtillon-sur-Seine",{"$f":"_xlfn.XLOOKUP(O402,'Liste des DT-EIC-SITES'!D:D,'Liste des DT-EIC-SITES'!C:C)","v":"EIC Bourgogne Franche Comté"}]
[null,null,null,null,null,null,null,null,null,null,null,null,null,null,"Châtres (Aube)",{"$f":"_xlfn.XLOOKUP(O403,'Liste des DT-EIC-SITES'!D:D,'Liste des DT-EIC-SITES'!C:C)","v":"EIC Lorraine Champagne Ardenne"}]
[null,null,null,null,null,null,null,null,null,null,null,null,null,null,"Chaulnes",{"$f":"_xlfn.XLOOKUP(O404,'Liste des DT-EIC-SITES'!D:D,'Liste des DT-EIC-SITES'!C:C)","v":"EIC Hauts de France"}]
[null,null,null,null,null,null,null,null,null,null,null,null,null,null,"Chaumont",{"$f":"_xlfn.XLOOKUP(O405,'Liste des DT-EIC-SITES'!D:D,'Liste des DT-EIC-SITES'!C:C)","v":"EIC Lorraine Champagne Ardenne"}]
[null,null,null,null,null,null,null,null,null,null,null,null,null,null,"Chauny",{"$f":"_xlfn.XLOOKUP(O406,'Liste des DT-EIC-SITES'!D:D,'Liste des DT-EIC-SITES'!C:C)","v":"EIC Hauts de France"}]
[null,null,null,null,null,null,null,null,null,null,null,null,null,null,"Chavenon",{"$f":"_xlfn.XLOOKUP(O407,'Liste des DT-EIC-SITES'!D:D,'Liste des DT-EIC-SITES'!C:C)","v":"EIC Auvergne Nivernais"}]
[null,null,null,null,null,null,null,null,null,null,null,null,null,null,"Chécy-Mardié",{"$f":"_xlfn.XLOOKUP(O408,'Liste des DT-EIC-SITES'!D:D,'Liste des DT-EIC-SITES'!C:C)","v":"EIC Centre Limousin"}]
[null,null,null,null,null,null,null,null,null,null,null,null,null,null,"Chedde",{"$f":"_xlfn.XLOOKUP(O409,'Liste des DT-EIC-SITES'!D:D,'Liste des DT-EIC-SITES'!C:C)","v":"EIC Alpes"}]
[null,null,null,null,null,null,null,null,null,null,null,null,null,null,"Chemillé",{"$f":"_xlfn.XLOOKUP(O410,'Liste des DT-EIC-SITES'!D:D,'Liste des DT-EIC-SITES'!C:C)","v":"EIC Bretagne Pays de la Loire"}]
[null,null,null,null,null,null,null,null,null,null,null,null,null,null,"Chemin-Peseux",{"$f":"_xlfn.XLOOKUP(O411,'Liste des DT-EIC-SITES'!D:D,'Liste des DT-EIC-SITES'!C:C)","v":"EIC Bourgogne Franche Comté"}]
[null,null,null,null,null,null,null,null,null,null,null,null,null,null,"Cherbourg",{"$f":"_xlfn.XLOOKUP(O412,'Liste des DT-EIC-SITES'!D:D,'Liste des DT-EIC-SITES'!C:C)","v":"EIC Normandie"}]
[null,null,null,null,null,null,null,null,null,null,null,null,null,null,"Cherbourg-en-Cotentin",{"$f":"_xlfn.XLOOKUP(O413,'Liste des DT-EIC-SITES'!D:D,'Liste des DT-EIC-SITES'!C:C)","v":"EIC Normandie"}]
[null,null,null,null,null,null,null,null,null,null,null,null,null,null,"Cheval-Blanc Base-Travaux-LGV",{"$f":"_xlfn.XLOOKUP(O414,'Liste des DT-EIC-SITES'!D:D,'Liste des DT-EIC-SITES'!C:C)","v":"EIC Provence Alpes Côte d'Azur"}]
[null,null,null,null,null,null,null,null,null,null,null,null,null,null,"Chevillon",{"$f":"_xlfn.XLOOKUP(O415,'Liste des DT-EIC-SITES'!D:D,'Liste des DT-EIC-SITES'!C:C)","v":"EIC Lorraine Champagne Ardenne"}]
[null,null,null,null,null,null,null,null,null,null,null,null,null,null,"Chèvremont",{"$f":"_xlfn.XLOOKUP(O416,'Liste des DT-EIC-SITES'!D:D,'Liste des DT-EIC-SITES'!C:C)","v":"EIC Alsace"}]
[null,null,null,null,null,null,null,null,null,null,null,null,null,null,"Chevrières",{"$f":"_xlfn.XLOOKUP(O417,'Liste des DT-EIC-SITES'!D:D,'Liste des DT-EIC-SITES'!C:C)","v":"EIC Paris Nord"}]
[null,null,null,null,null,null,null,null,null,null,null,null,null,null,"CHEVRY COSSIGNY LGV",{"$f":"_xlfn.XLOOKUP(O418,'Liste des DT-EIC-SITES'!D:D,'Liste des DT-EIC-SITES'!C:C)","v":"EIC Paris Sud Est"}]
[null,null,null,null,null,null,null,null,null,null,null,null,null,null,"Chinon",{"$f":"_xlfn.XLOOKUP(O419,'Liste des DT-EIC-SITES'!D:D,'Liste des DT-EIC-SITES'!C:C)","v":"EIC Centre Limousin"}]
[null,null,null,null,null,null,null,null,null,null,null,null,null,null,"Chivres-en-Laonnois",{"$f":"_xlfn.XLOOKUP(O420,'Liste des DT-EIC-SITES'!D:D,'Liste des DT-EIC-SITES'!C:C)","v":"EIC Hauts de France"}]
[null,null,null,null,null,null,null,null,null,null,null,null,null,null,"Chocques",{"$f":"_xlfn.XLOOKUP(O421,'Liste des DT-EIC-SITES'!D:D,'Liste des DT-EIC-SITES'!C:C)","v":"EIC Hauts de France"}]
[null,null,null,null,null,null,null,null,null,null,null,null,null,null,"Choisy-le-Roi",{"$f":"_xlfn.XLOOKUP(O422,'Liste des DT-EIC-SITES'!D:D,'Liste des DT-EIC-SITES'!C:C)","v":"EIC Paris Sud Ouest"}]
[null,null,null,null,null,null,null,null,null,null,null,null,null,null,"Cholet",{"$f":"_xlfn.XLOOKUP(O423,'Liste des DT-EIC-SITES'!D:D,'Liste des DT-EIC-SITES'!C:C)","v":"EIC Bretagne Pays de la Loire"}]
[null,null,null,null,null,null,null,null,null,null,null,null,null,null,"Cier-de-Luchon",{"$f":"_xlfn.XLOOKUP(O424,'Liste des DT-EIC-SITES'!D:D,'Liste des DT-EIC-SITES'!C:C)","v":"EIC Midi Pyrénées"}]
[null,null,null,null,null,null,null,null,null,null,null,null,null,null,"Cieurac (Lot)",{"$f":"_xlfn.XLOOKUP(O425,'Liste des DT-EIC-SITES'!D:D,'Liste des DT-EIC-SITES'!C:C)","v":"EIC Midi Pyrénées"}]
[null,null,null,null,null,null,null,null,null,null,null,null,null,null,"Ciments d'Origny",{"$f":"_xlfn.XLOOKUP(O426,'Liste des DT-EIC-SITES'!D:D,'Liste des DT-EIC-SITES'!C:C)","v":"EIC Bourgogne Franche Comté"}]
[null,null,null,null,null,null,null,null,null,null,null,null,null,null,"Ciments LAFARGE",{"$f":"_xlfn.XLOOKUP(O427,'Liste des DT-EIC-SITES'!D:D,'Liste des DT-EIC-SITES'!C:C)","v":"EIC Bretagne Pays de la Loire"}]
[null,null,null,null,null,null,null,null,null,null,null,null,null,null,"Cintegabelle",{"$f":"_xlfn.XLOOKUP(O428,'Liste des DT-EIC-SITES'!D:D,'Liste des DT-EIC-SITES'!C:C)","v":"EIC Midi Pyrénées"}]
[null,null,null,null,null,null,null,null,null,null,null,null,null,null,"Ciry-le-Noble",{"$f":"_xlfn.XLOOKUP(O429,'Liste des DT-EIC-SITES'!D:D,'Liste des DT-EIC-SITES'!C:C)","v":"EIC Bourgogne Franche Comté"}]
[null,null,null,null,null,null,null,null,null,null,null,null,null,null,"Ciry-Sermoise",{"$f":"_xlfn.XLOOKUP(O430,'Liste des DT-EIC-SITES'!D:D,'Liste des DT-EIC-SITES'!C:C)","v":"EIC Hauts de France"}]
[null,null,null,null,null,null,null,null,null,null,null,null,null,null,"Civaux",{"$f":"_xlfn.XLOOKUP(O431,'Liste des DT-EIC-SITES'!D:D,'Liste des DT-EIC-SITES'!C:C)","v":"EIC Aquitaine Poitou Charentes"}]
[null,null,null,null,null,null,null,null,null,null,null,null,null,null,"Clamart",{"$f":"_xlfn.XLOOKUP(O432,'Liste des DT-EIC-SITES'!D:D,'Liste des DT-EIC-SITES'!C:C)","v":"EIC Paris Sud Ouest"}]
[null,null,null,null,null,null,null,null,null,null,null,null,null,null,"Clamecy",{"$f":"_xlfn.XLOOKUP(O433,'Liste des DT-EIC-SITES'!D:D,'Liste des DT-EIC-SITES'!C:C)","v":"EIC Paris Sud Est"}]
[null,null,null,null,null,null,null,null,null,null,null,null,null,null,"CLAVEYSON BREN",{"$f":"_xlfn.XLOOKUP(O434,'Liste des DT-EIC-SITES'!D:D,'Liste des DT-EIC-SITES'!C:C)","v":"EIC Rhône Alpes Lyon"}]
[null,null,null,null,null,null,null,null,null,null,null,null,null,null,"Clelles-Mens",{"$f":"_xlfn.XLOOKUP(O435,'Liste des DT-EIC-SITES'!D:D,'Liste des DT-EIC-SITES'!C:C)","v":"EIC Alpes"}]
[null,null,null,null,null,null,null,null,null,null,null,null,null,null,"Clérac-Charente",{"$f":"_xlfn.XLOOKUP(O436,'Liste des DT-EIC-SITES'!D:D,'Liste des DT-EIC-SITES'!C:C)","v":"EIC Aquitaine Poitou Charentes"}]
[null,null,null,null,null,null,null,null,null,null,null,null,null,null,"Clères",{"$f":"_xlfn.XLOOKUP(O437,'Liste des DT-EIC-SITES'!D:D,'Liste des DT-EIC-SITES'!C:C)","v":"EIC Normandie"}]
[null,null,null,null,null,null,null,null,null,null,null,null,null,null,"Clermont-de-l'Oise",{"$f":"_xlfn.XLOOKUP(O438,'Liste des DT-EIC-SITES'!D:D,'Liste des DT-EIC-SITES'!C:C)","v":"EIC Paris Nord"}]
[null,null,null,null,null,null,null,null,null,null,null,null,null,null,"Clermont-en-Argonne",{"$f":"_xlfn.XLOOKUP(O439,'Liste des DT-EIC-SITES'!D:D,'Liste des DT-EIC-SITES'!C:C)","v":"EIC Lorraine Champagne Ardenne"}]
[null,null,null,null,null,null,null,null,null,null,null,null,null,null,"Clermont-Ferrand",{"$f":"_xlfn.XLOOKUP(O440,'Liste des DT-EIC-SITES'!D:D,'Liste des DT-EIC-SITES'!C:C)","v":"EIC Auvergne Nivernais"}]
[null,null,null,null,null,null,null,null,null,null,null,null,null,null,"Clermont-les-Fermes",{"$f":"_xlfn.XLOOKUP(O441,'Liste des DT-EIC-SITES'!D:D,'Liste des DT-EIC-SITES'!C:C)","v":"EIC Hauts de France"}]
[null,null,null,null,null,null,null,null,null,null,null,null,null,null,"Clermont-les-Gravanches",{"$f":"_xlfn.XLOOKUP(O442,'Liste des DT-EIC-SITES'!D:D,'Liste des DT-EIC-SITES'!C:C)","v":"EIC Auvergne Nivernais"}]
[null,null,null,null,null,null,null,null,null,null,null,null,null,null,"Clermont-Les-Gravanches-Triage",{"$f":"_xlfn.XLOOKUP(O443,'Liste des DT-EIC-SITES'!D:D,'Liste des DT-EIC-SITES'!C:C)","v":"EIC Auvergne Nivernais"}]
[null,null,null,null,null,null,null,null,null,null,null,null,null,null,"Clerval",{"$f":"_xlfn.XLOOKUP(O444,'Liste des DT-EIC-SITES'!D:D,'Liste des DT-EIC-SITES'!C:C)","v":"EIC Alsace"}]
[null,null,null,null,null,null,null,null,null,null,null,null,null,null,"Clévilliers",{"$f":"_xlfn.XLOOKUP(O445,'Liste des DT-EIC-SITES'!D:D,'Liste des DT-EIC-SITES'!C:C)","v":"EIC Centre Limousin"}]
[null,null,null,null,null,null,null,null,null,null,null,null,null,null,"Clisson",{"$f":"_xlfn.XLOOKUP(O446,'Liste des DT-EIC-SITES'!D:D,'Liste des DT-EIC-SITES'!C:C)","v":"EIC Bretagne Pays de la Loire"}]
[null,null,null,null,null,null,null,null,null,null,null,null,null,null,"Clonas",{"$f":"_xlfn.XLOOKUP(O447,'Liste des DT-EIC-SITES'!D:D,'Liste des DT-EIC-SITES'!C:C)","v":"EIC Rhône Alpes Lyon"}]
[null,null,null,null,null,null,null,null,null,null,null,null,null,null,"Cloyes",{"$f":"_xlfn.XLOOKUP(O448,'Liste des DT-EIC-SITES'!D:D,'Liste des DT-EIC-SITES'!C:C)","v":"EIC Centre Limousin"}]
[null,null,null,null,null,null,null,null,null,null,null,null,null,null,"Cluses",{"$f":"_xlfn.XLOOKUP(O449,'Liste des DT-EIC-SITES'!D:D,'Liste des DT-EIC-SITES'!C:C)","v":"EIC Alpes"}]
[null,null,null,null,null,null,null,null,null,null,null,null,null,null,"Cognac",{"$f":"_xlfn.XLOOKUP(O450,'Liste des DT-EIC-SITES'!D:D,'Liste des DT-EIC-SITES'!C:C)","v":"EIC Aquitaine Poitou Charentes"}]
[null,null,null,null,null,null,null,null,null,null,null,null,null,null,"Coligny (Marne)",{"$f":"_xlfn.XLOOKUP(O451,'Liste des DT-EIC-SITES'!D:D,'Liste des DT-EIC-SITES'!C:C)","v":"EIC Lorraine Champagne Ardenne"}]
[null,null,null,null,null,null,null,null,null,null,null,null,null,null,"Collonges-Fontaines",{"$f":"_xlfn.XLOOKUP(O452,'Liste des DT-EIC-SITES'!D:D,'Liste des DT-EIC-SITES'!C:C)","v":"EIC Rhône Alpes Lyon"}]
[null,null,null,null,null,null,null,null,null,null,null,null,null,null,"Colmar",{"$f":"_xlfn.XLOOKUP(O453,'Liste des DT-EIC-SITES'!D:D,'Liste des DT-EIC-SITES'!C:C)","v":"EIC Alsace"}]
[null,null,null,null,null,null,null,null,null,null,null,null,null,null,"Colombiers",{"$f":"_xlfn.XLOOKUP(O454,'Liste des DT-EIC-SITES'!D:D,'Liste des DT-EIC-SITES'!C:C)","v":"EIC Languedoc Roussillon"}]
[null,null,null,null,null,null,null,null,null,null,null,null,null,null,"Colomiers",{"$f":"_xlfn.XLOOKUP(O455,'Liste des DT-EIC-SITES'!D:D,'Liste des DT-EIC-SITES'!C:C)","v":"EIC Midi Pyrénées"}]
[null,null,null,null,null,null,null,null,null,null,null,null,null,null,"Combs-la-Ville-Quincy",{"$f":"_xlfn.XLOOKUP(O456,'Liste des DT-EIC-SITES'!D:D,'Liste des DT-EIC-SITES'!C:C)","v":"EIC Paris Sud Est"}]
[null,null,null,null,null,null,null,null,null,null,null,null,null,null,"Commentry",{"$f":"_xlfn.XLOOKUP(O457,'Liste des DT-EIC-SITES'!D:D,'Liste des DT-EIC-SITES'!C:C)","v":"EIC Auvergne Nivernais"}]
[null,null,null,null,null,null,null,null,null,null,null,null,null,null,"Commercy",{"$f":"_xlfn.XLOOKUP(O458,'Liste des DT-EIC-SITES'!D:D,'Liste des DT-EIC-SITES'!C:C)","v":"EIC Lorraine Champagne Ardenne"}]
[null,null,null,null,null,null,null,null,null,null,null,null,null,null,"Compiègne",{"$f":"_xlfn.XLOOKUP(O459,'Liste des DT-EIC-SITES'!D:D,'Liste des DT-EIC-SITES'!C:C)","v":"EIC Paris Nord"}]
[null,null,null,null,null,null,null,null,null,null,null,null,null,null,"Conchil-le-Temple",{"$f":"_xlfn.XLOOKUP(O460,'Liste des DT-EIC-SITES'!D:D,'Liste des DT-EIC-SITES'!C:C)","v":"EIC Hauts de France"}]
[null,null,null,null,null,null,null,null,null,null,null,null,null,null,"Condat-le-Lardin",{"$f":"_xlfn.XLOOKUP(O461,'Liste des DT-EIC-SITES'!D:D,'Liste des DT-EIC-SITES'!C:C)","v":"EIC Aquitaine Poitou Charentes"}]
[null,null,null,null,null,null,null,null,null,null,null,null,null,null,"Condé-sur-Huisne",{"$f":"_xlfn.XLOOKUP(O462,'Liste des DT-EIC-SITES'!D:D,'Liste des DT-EIC-SITES'!C:C)","v":"EIC Centre Limousin"}]
[null,null,null,null,null,null,null,null,null,null,null,null,null,null,"Condom",{"$f":"_xlfn.XLOOKUP(O463,'Liste des DT-EIC-SITES'!D:D,'Liste des DT-EIC-SITES'!C:C)","v":"EIC Aquitaine Poitou Charentes"}]
[null,null,null,null,null,null,null,null,null,null,null,null,null,null,"Condrieu",{"$f":"_xlfn.XLOOKUP(O464,'Liste des DT-EIC-SITES'!D:D,'Liste des DT-EIC-SITES'!C:C)","v":"EIC Rhône Alpes Lyon"}]
[null,null,null,null,null,null,null,null,null,null,null,null,null,null,"Conflans-Fin-d'Oise",{"$f":"_xlfn.XLOOKUP(O465,'Liste des DT-EIC-SITES'!D:D,'Liste des DT-EIC-SITES'!C:C)","v":"EIC Paris Est Ouest Francilien"}]
[null,null,null,null,null,null,null,null,null,null,null,null,null,null,"Conflans-Jarny",{"$f":"_xlfn.XLOOKUP(O466,'Liste des DT-EIC-SITES'!D:D,'Liste des DT-EIC-SITES'!C:C)","v":"EIC Lorraine Champagne Ardenne"}]
[null,null,null,null,null,null,null,null,null,null,null,null,null,null,"Conflans-Ste-Honorine",{"$f":"_xlfn.XLOOKUP(O467,'Liste des DT-EIC-SITES'!D:D,'Liste des DT-EIC-SITES'!C:C)","v":"EIC Paris Est Ouest Francilien"}]
[null,null,null,null,null,null,null,null,null,null,null,null,null,null,"Conlie",{"$f":"_xlfn.XLOOKUP(O468,'Liste des DT-EIC-SITES'!D:D,'Liste des DT-EIC-SITES'!C:C)","v":"EIC Bretagne Pays de la Loire"}]
[null,null,null,null,null,null,null,null,null,null,null,null,null,null,"Connerré-Beillé",{"$f":"_xlfn.XLOOKUP(O469,'Liste des DT-EIC-SITES'!D:D,'Liste des DT-EIC-SITES'!C:C)","v":"EIC Bretagne Pays de la Loire"}]
[null,null,null,null,null,null,null,null,null,null,null,null,null,null,"Corbehem",{"$f":"_xlfn.XLOOKUP(O470,'Liste des DT-EIC-SITES'!D:D,'Liste des DT-EIC-SITES'!C:C)","v":"EIC Hauts de France"}]
[null,null,null,null,null,null,null,null,null,null,null,null,null,null,"Corbeil-Essonnes",{"$f":"_xlfn.XLOOKUP(O471,'Liste des DT-EIC-SITES'!D:D,'Liste des DT-EIC-SITES'!C:C)","v":"EIC Paris Sud Est"}]
[null,null,null,null,null,null,null,null,null,null,null,null,null,null,"Corbie",{"$f":"_xlfn.XLOOKUP(O472,'Liste des DT-EIC-SITES'!D:D,'Liste des DT-EIC-SITES'!C:C)","v":"EIC Hauts de France"}]
[null,null,null,null,null,null,null,null,null,null,null,null,null,null,"Corbigny",{"$f":"_xlfn.XLOOKUP(O473,'Liste des DT-EIC-SITES'!D:D,'Liste des DT-EIC-SITES'!C:C)","v":"EIC Auvergne Nivernais"}]
[null,null,null,null,null,null,null,null,null,null,null,null,null,null,"Cordemais",{"$f":"_xlfn.XLOOKUP(O474,'Liste des DT-EIC-SITES'!D:D,'Liste des DT-EIC-SITES'!C:C)","v":"EIC Bretagne Pays de la Loire"}]
[null,null,null,null,null,null,null,null,null,null,null,null,null,null,"Cordesse-Igornay",{"$f":"_xlfn.XLOOKUP(O475,'Liste des DT-EIC-SITES'!D:D,'Liste des DT-EIC-SITES'!C:C)","v":"EIC Bourgogne Franche Comté"}]
[null,null,null,null,null,null,null,null,null,null,null,null,null,null,"Cormeilles-en-Parisis",{"$f":"_xlfn.XLOOKUP(O476,'Liste des DT-EIC-SITES'!D:D,'Liste des DT-EIC-SITES'!C:C)","v":"EIC Paris Est Ouest Francilien"}]
[null,null,null,null,null,null,null,null,null,null,null,null,null,null,"Corrèze",{"$f":"_xlfn.XLOOKUP(O477,'Liste des DT-EIC-SITES'!D:D,'Liste des DT-EIC-SITES'!C:C)","v":"EIC Centre Limousin"}]
[null,null,null,null,null,null,null,null,null,null,null,null,null,null,"Cosne-sur-Loire",{"$f":"_xlfn.XLOOKUP(O478,'Liste des DT-EIC-SITES'!D:D,'Liste des DT-EIC-SITES'!C:C)","v":"EIC Auvergne Nivernais"}]
[null,null,null,null,null,null,null,null,null,null,null,null,null,null,"Coudekerque-Branche",{"$f":"_xlfn.XLOOKUP(O479,'Liste des DT-EIC-SITES'!D:D,'Liste des DT-EIC-SITES'!C:C)","v":"EIC Hauts de France"}]
[null,null,null,null,null,null,null,null,null,null,null,null,null,null,"Couhé-Vérac",{"$f":"_xlfn.XLOOKUP(O480,'Liste des DT-EIC-SITES'!D:D,'Liste des DT-EIC-SITES'!C:C)","v":"EIC Aquitaine Poitou Charentes"}]
[null,null,null,null,null,null,null,null,null,null,null,null,null,null,"Coulanges-sur-Yonne",{"$f":"_xlfn.XLOOKUP(O481,'Liste des DT-EIC-SITES'!D:D,'Liste des DT-EIC-SITES'!C:C)","v":"EIC Paris Sud Est"}]
[null,null,null,null,null,null,null,null,null,null,null,null,null,null,"Coulombiers",{"$f":"_xlfn.XLOOKUP(O482,'Liste des DT-EIC-SITES'!D:D,'Liste des DT-EIC-SITES'!C:C)","v":"EIC Aquitaine Poitou Charentes"}]
[null,null,null,null,null,null,null,null,null,null,null,null,null,null,"Coulommiers",{"$f":"_xlfn.XLOOKUP(O483,'Liste des DT-EIC-SITES'!D:D,'Liste des DT-EIC-SITES'!C:C)","v":"EIC Paris Est Ouest Francilien"}]
[null,null,null,null,null,null,null,null,null,null,null,null,null,null,"Courtalain-St-Pellerin",{"$f":"_xlfn.XLOOKUP(O484,'Liste des DT-EIC-SITES'!D:D,'Liste des DT-EIC-SITES'!C:C)","v":"EIC Centre Limousin"}]
[null,null,null,null,null,null,null,null,null,null,null,null,null,null,"Courville-sur-Eure",{"$f":"_xlfn.XLOOKUP(O485,'Liste des DT-EIC-SITES'!D:D,'Liste des DT-EIC-SITES'!C:C)","v":"EIC Centre Limousin"}]
[null,null,null,null,null,null,null,null,null,null,null,null,null,null,"Courzieu-Brussieu",{"$f":"_xlfn.XLOOKUP(O486,'Liste des DT-EIC-SITES'!D:D,'Liste des DT-EIC-SITES'!C:C)","v":"EIC Rhône Alpes Lyon"}]
[null,null,null,null,null,null,null,null,null,null,null,null,null,null,"Cousolre",{"$f":"_xlfn.XLOOKUP(O487,'Liste des DT-EIC-SITES'!D:D,'Liste des DT-EIC-SITES'!C:C)","v":"EIC Hauts de France"}]
[null,null,null,null,null,null,null,null,null,null,null,null,null,null,"Coussac-Bonneval",{"$f":"_xlfn.XLOOKUP(O488,'Liste des DT-EIC-SITES'!D:D,'Liste des DT-EIC-SITES'!C:C)","v":"EIC Centre Limousin"}]
[null,null,null,null,null,null,null,null,null,null,null,null,null,null,"Coussey",{"$f":"_xlfn.XLOOKUP(O489,'Liste des DT-EIC-SITES'!D:D,'Liste des DT-EIC-SITES'!C:C)","v":"EIC Lorraine Champagne Ardenne"}]
[null,null,null,null,null,null,null,null,null,null,null,null,null,null,"Coutances",{"$f":"_xlfn.XLOOKUP(O490,'Liste des DT-EIC-SITES'!D:D,'Liste des DT-EIC-SITES'!C:C)","v":"EIC Normandie"}]
[null,null,null,null,null,null,null,null,null,null,null,null,null,null,"Coutras",{"$f":"_xlfn.XLOOKUP(O491,'Liste des DT-EIC-SITES'!D:D,'Liste des DT-EIC-SITES'!C:C)","v":"EIC Aquitaine Poitou Charentes"}]
[null,null,null,null,null,null,null,null,null,null,null,null,null,null,"Crancey",{"$f":"_xlfn.XLOOKUP(O492,'Liste des DT-EIC-SITES'!D:D,'Liste des DT-EIC-SITES'!C:C)","v":"EIC Lorraine Champagne Ardenne"}]
[null,null,null,null,null,null,null,null,null,null,null,null,null,null,"Cravant-Bazarnes",{"$f":"_xlfn.XLOOKUP(O493,'Liste des DT-EIC-SITES'!D:D,'Liste des DT-EIC-SITES'!C:C)","v":"EIC Paris Sud Est"}]
[null,null,null,null,null,null,null,null,null,null,null,null,null,null,"Creil",{"$f":"_xlfn.XLOOKUP(O494,'Liste des DT-EIC-SITES'!D:D,'Liste des DT-EIC-SITES'!C:C)","v":"EIC Paris Nord"}]
[null,null,null,null,null,null,null,null,null,null,null,null,null,null,"Crépy-Couvron",{"$f":"_xlfn.XLOOKUP(O495,'Liste des DT-EIC-SITES'!D:D,'Liste des DT-EIC-SITES'!C:C)","v":"EIC Hauts de France"}]
[null,null,null,null,null,null,null,null,null,null,null,null,null,null,"Crépy-en-Valois",{"$f":"_xlfn.XLOOKUP(O496,'Liste des DT-EIC-SITES'!D:D,'Liste des DT-EIC-SITES'!C:C)","v":"EIC Paris Nord"}]
[null,null,null,null,null,null,null,null,null,null,null,null,null,null,"Crest",{"$f":"_xlfn.XLOOKUP(O497,'Liste des DT-EIC-SITES'!D:D,'Liste des DT-EIC-SITES'!C:C)","v":"EIC Rhône Alpes Lyon"}]
[null,null,null,null,null,null,null,null,null,null,null,null,null,null,"Creutzwald",{"$f":"_xlfn.XLOOKUP(O498,'Liste des DT-EIC-SITES'!D:D,'Liste des DT-EIC-SITES'!C:C)","v":"EIC Lorraine Champagne Ardenne"}]
[null,null,null,null,null,null,null,null,null,null,null,null,null,null,"Creveney-Saulx",{"$f":"_xlfn.XLOOKUP(O499,'Liste des DT-EIC-SITES'!D:D,'Liste des DT-EIC-SITES'!C:C)","v":"EIC Bourgogne Franche Comté"}]
[null,null,null,null,null,null,null,null,null,null,null,null,null,null,"Crissey",{"$f":"_xlfn.XLOOKUP(O500,'Liste des DT-EIC-SITES'!D:D,'Liste des DT-EIC-SITES'!C:C)","v":"EIC Bourgogne Franche Comté"}]
[null,null,null,null,null,null,null,null,null,null,null,null,null,null,"Crotelles",{"$f":"_xlfn.XLOOKUP(O501,'Liste des DT-EIC-SITES'!D:D,'Liste des DT-EIC-SITES'!C:C)","v":"EIC Centre Limousin"}]
[null,null,null,null,null,null,null,null,null,null,null,null,null,null,"Crouy",{"$f":"_xlfn.XLOOKUP(O502,'Liste des DT-EIC-SITES'!D:D,'Liste des DT-EIC-SITES'!C:C)","v":"EIC Hauts de France"}]
[null,null,null,null,null,null,null,null,null,null,null,null,null,null,"Cruas",{"$f":"_xlfn.XLOOKUP(O503,'Liste des DT-EIC-SITES'!D:D,'Liste des DT-EIC-SITES'!C:C)","v":"EIC Rhône Alpes Lyon"}]
[null,null,null,null,null,null,null,null,null,null,null,null,null,null,"Culmont-Chalindrey",{"$f":"_xlfn.XLOOKUP(O504,'Liste des DT-EIC-SITES'!D:D,'Liste des DT-EIC-SITES'!C:C)","v":"EIC Lorraine Champagne Ardenne"}]
[null,null,null,null,null,null,null,null,null,null,null,null,null,null,"Culoz",{"$f":"_xlfn.XLOOKUP(O505,'Liste des DT-EIC-SITES'!D:D,'Liste des DT-EIC-SITES'!C:C)","v":"EIC Alpes"}]
[null,null,null,null,null,null,null,null,null,null,null,null,null,null,"Cusset",{"$f":"_xlfn.XLOOKUP(O506,'Liste des DT-EIC-SITES'!D:D,'Liste des DT-EIC-SITES'!C:C)","v":"EIC Auvergne Nivernais"}]
[null,null,null,null,null,null,null,null,null,null,null,null,null,null,"Damblain",{"$f":"_xlfn.XLOOKUP(O507,'Liste des DT-EIC-SITES'!D:D,'Liste des DT-EIC-SITES'!C:C)","v":"EIC Lorraine Champagne Ardenne"}]
[null,null,null,null,null,null,null,null,null,null,null,null,null,null,"Damiatte-St-Paul",{"$f":"_xlfn.XLOOKUP(O508,'Liste des DT-EIC-SITES'!D:D,'Liste des DT-EIC-SITES'!C:C)","v":"EIC Midi Pyrénées"}]
[null,null,null,null,null,null,null,null,null,null,null,null,null,null,"Dammartin-Juilly-St-Mard",{"$f":"_xlfn.XLOOKUP(O509,'Liste des DT-EIC-SITES'!D:D,'Liste des DT-EIC-SITES'!C:C)","v":"EIC Paris Nord"}]
[null,null,null,null,null,null,null,null,null,null,null,null,null,null,"Damville",{"$f":"_xlfn.XLOOKUP(O510,'Liste des DT-EIC-SITES'!D:D,'Liste des DT-EIC-SITES'!C:C)","v":"EIC Normandie"}]
[null,null,null,null,null,null,null,null,null,null,null,null,null,null,"DANGEAU faisceau LGV",{"$f":"_xlfn.XLOOKUP(O511,'Liste des DT-EIC-SITES'!D:D,'Liste des DT-EIC-SITES'!C:C)","v":"EIC Centre Limousin"}]
[null,null,null,null,null,null,null,null,null,null,null,null,null,null,"Dannemarie-Velesmes",{"$f":"_xlfn.XLOOKUP(O512,'Liste des DT-EIC-SITES'!D:D,'Liste des DT-EIC-SITES'!C:C)","v":"EIC Bourgogne Franche Comté"}]
[null,null,null,null,null,null,null,null,null,null,null,null,null,null,"Dannes-Camiers",{"$f":"_xlfn.XLOOKUP(O513,'Liste des DT-EIC-SITES'!D:D,'Liste des DT-EIC-SITES'!C:C)","v":"EIC Hauts de France"}]
[null,null,null,null,null,null,null,null,null,null,null,null,null,null,"Daours",{"$f":"_xlfn.XLOOKUP(O514,'Liste des DT-EIC-SITES'!D:D,'Liste des DT-EIC-SITES'!C:C)","v":"EIC Hauts de France"}]
[null,null,null,null,null,null,null,null,null,null,null,null,null,null,"Darnétal",{"$f":"_xlfn.XLOOKUP(O515,'Liste des DT-EIC-SITES'!D:D,'Liste des DT-EIC-SITES'!C:C)","v":"EIC Normandie"}]
[null,null,null,null,null,null,null,null,null,null,null,null,null,null,"Darsac",{"$f":"_xlfn.XLOOKUP(O516,'Liste des DT-EIC-SITES'!D:D,'Liste des DT-EIC-SITES'!C:C)","v":"EIC Auvergne Nivernais"}]
[null,null,null,null,null,null,null,null,null,null,null,null,null,null,"Dax",{"$f":"_xlfn.XLOOKUP(O517,'Liste des DT-EIC-SITES'!D:D,'Liste des DT-EIC-SITES'!C:C)","v":"EIC Aquitaine Poitou Charentes"}]
[null,null,null,null,null,null,null,null,null,null,null,null,null,null,"Decize",{"$f":"_xlfn.XLOOKUP(O518,'Liste des DT-EIC-SITES'!D:D,'Liste des DT-EIC-SITES'!C:C)","v":"EIC Auvergne Nivernais"}]
[null,null,null,null,null,null,null,null,null,null,null,null,null,null,"Dégagnac",{"$f":"_xlfn.XLOOKUP(O519,'Liste des DT-EIC-SITES'!D:D,'Liste des DT-EIC-SITES'!C:C)","v":"EIC Midi Pyrénées"}]
[null,null,null,null,null,null,null,null,null,null,null,null,null,null,"Deluz",{"$f":"_xlfn.XLOOKUP(O520,'Liste des DT-EIC-SITES'!D:D,'Liste des DT-EIC-SITES'!C:C)","v":"EIC Bourgogne Franche Comté"}]
[null,null,null,null,null,null,null,null,null,null,null,null,null,null,"Déols",{"$f":"_xlfn.XLOOKUP(O521,'Liste des DT-EIC-SITES'!D:D,'Liste des DT-EIC-SITES'!C:C)","v":"EIC Centre Limousin"}]
[null,null,null,null,null,null,null,null,null,null,null,null,null,null,"Dercy-Mortiers",{"$f":"_xlfn.XLOOKUP(O522,'Liste des DT-EIC-SITES'!D:D,'Liste des DT-EIC-SITES'!C:C)","v":"EIC Hauts de France"}]
[null,null,null,null,null,null,null,null,null,null,null,null,null,null,"Desvres",{"$f":"_xlfn.XLOOKUP(O523,'Liste des DT-EIC-SITES'!D:D,'Liste des DT-EIC-SITES'!C:C)","v":"EIC Hauts de France"}]
[null,null,null,null,null,null,null,null,null,null,null,null,null,null,"Devecey",{"$f":"_xlfn.XLOOKUP(O524,'Liste des DT-EIC-SITES'!D:D,'Liste des DT-EIC-SITES'!C:C)","v":"EIC Bourgogne Franche Comté"}]
[null,null,null,null,null,null,null,null,null,null,null,null,null,null,"Deville",{"$f":"_xlfn.XLOOKUP(O525,'Liste des DT-EIC-SITES'!D:D,'Liste des DT-EIC-SITES'!C:C)","v":"EIC Lorraine Champagne Ardenne"}]
[null,null,null,null,null,null,null,null,null,null,null,null,null,null,"Die",{"$f":"_xlfn.XLOOKUP(O526,'Liste des DT-EIC-SITES'!D:D,'Liste des DT-EIC-SITES'!C:C)","v":"EIC Rhône Alpes Lyon"}]
[null,null,null,null,null,null,null,null,null,null,null,null,null,null,"Diemeringen",{"$f":"_xlfn.XLOOKUP(O527,'Liste des DT-EIC-SITES'!D:D,'Liste des DT-EIC-SITES'!C:C)","v":"EIC Alsace"}]
[null,null,null,null,null,null,null,null,null,null,null,null,null,null,"Dieppe",{"$f":"_xlfn.XLOOKUP(O528,'Liste des DT-EIC-SITES'!D:D,'Liste des DT-EIC-SITES'!C:C)","v":"EIC Normandie"}]
[null,null,null,null,null,null,null,null,null,null,null,null,null,null,"Dieulouard",{"$f":"_xlfn.XLOOKUP(O529,'Liste des DT-EIC-SITES'!D:D,'Liste des DT-EIC-SITES'!C:C)","v":"EIC Lorraine Champagne Ardenne"}]
[null,null,null,null,null,null,null,null,null,null,null,null,null,null,"Dieupentale",{"$f":"_xlfn.XLOOKUP(O530,'Liste des DT-EIC-SITES'!D:D,'Liste des DT-EIC-SITES'!C:C)","v":"EIC Midi Pyrénées"}]
[null,null,null,null,null,null,null,null,null,null,null,null,null,null,"Dieuze",{"$f":"_xlfn.XLOOKUP(O531,'Liste des DT-EIC-SITES'!D:D,'Liste des DT-EIC-SITES'!C:C)","v":"EIC Lorraine Champagne Ardenne"}]
[null,null,null,null,null,null,null,null,null,null,null,null,null,null,"Digoin",{"$f":"_xlfn.XLOOKUP(O532,'Liste des DT-EIC-SITES'!D:D,'Liste des DT-EIC-SITES'!C:C)","v":"EIC Bourgogne Franche Comté"}]
[null,null,null,null,null,null,null,null,null,null,null,null,null,null,"Dijon-Porte-d'Ouche-Perrigny",{"$f":"_xlfn.XLOOKUP(O533,'Liste des DT-EIC-SITES'!D:D,'Liste des DT-EIC-SITES'!C:C)","v":"EIC Bourgogne Franche Comté"}]
[null,null,null,null,null,null,null,null,null,null,null,null,null,null,"Dijon-Porte-Neuve",{"$f":"_xlfn.XLOOKUP(O534,'Liste des DT-EIC-SITES'!D:D,'Liste des DT-EIC-SITES'!C:C)","v":"EIC Bourgogne Franche Comté"}]
[null,null,null,null,null,null,null,null,null,null,null,null,null,null,"Dijon-Ville",{"$f":"_xlfn.XLOOKUP(O535,'Liste des DT-EIC-SITES'!D:D,'Liste des DT-EIC-SITES'!C:C)","v":"EIC Bourgogne Franche Comté"}]
[null,null,null,null,null,null,null,null,null,null,null,null,null,null,"Dinan",{"$f":"_xlfn.XLOOKUP(O536,'Liste des DT-EIC-SITES'!D:D,'Liste des DT-EIC-SITES'!C:C)","v":"EIC Bretagne Pays de la Loire"}]
[null,null,null,null,null,null,null,null,null,null,null,null,null,null,"Dirinon Loperhet",{"$f":"_xlfn.XLOOKUP(O537,'Liste des DT-EIC-SITES'!D:D,'Liste des DT-EIC-SITES'!C:C)","v":"EIC Bretagne Pays de la Loire"}]
[null,null,null,null,null,null,null,null,null,null,null,null,null,null,"Dol-de-Bretagne",{"$f":"_xlfn.XLOOKUP(O538,'Liste des DT-EIC-SITES'!D:D,'Liste des DT-EIC-SITES'!C:C)","v":"EIC Bretagne Pays de la Loire"}]
[null,null,null,null,null,null,null,null,null,null,null,null,null,null,"Dole",{"$f":"_xlfn.XLOOKUP(O539,'Liste des DT-EIC-SITES'!D:D,'Liste des DT-EIC-SITES'!C:C)","v":"EIC Bourgogne Franche Comté"}]
[null,null,null,null,null,null,null,null,null,null,null,null,null,null,"Dole-la-Bedugue",{"$f":"_xlfn.XLOOKUP(O540,'Liste des DT-EIC-SITES'!D:D,'Liste des DT-EIC-SITES'!C:C)","v":"EIC Bourgogne Franche Comté"}]
[null,null,null,null,null,null,null,null,null,null,null,null,null,null,"Dompierre-Sept-Fons",{"$f":"_xlfn.XLOOKUP(O541,'Liste des DT-EIC-SITES'!D:D,'Liste des DT-EIC-SITES'!C:C)","v":"EIC Auvergne Nivernais"}]
[null,null,null,null,null,null,null,null,null,null,null,null,null,null,"Donges-Bonne Nouvelle",{"$f":"_xlfn.XLOOKUP(O542,'Liste des DT-EIC-SITES'!D:D,'Liste des DT-EIC-SITES'!C:C)","v":"EIC Bretagne Pays de la Loire"}]
[null,null,null,null,null,null,null,null,null,null,null,null,null,null,"Don-Sainghin",{"$f":"_xlfn.XLOOKUP(O543,'Liste des DT-EIC-SITES'!D:D,'Liste des DT-EIC-SITES'!C:C)","v":"EIC Hauts de France"}]
[null,null,null,null,null,null,null,null,null,null,null,null,null,null,"Dormans",{"$f":"_xlfn.XLOOKUP(O544,'Liste des DT-EIC-SITES'!D:D,'Liste des DT-EIC-SITES'!C:C)","v":"EIC Lorraine Champagne Ardenne"}]
[null,null,null,null,null,null,null,null,null,null,null,null,null,null,"Douai",{"$f":"_xlfn.XLOOKUP(O545,'Liste des DT-EIC-SITES'!D:D,'Liste des DT-EIC-SITES'!C:C)","v":"EIC Hauts de France"}]
[null,null,null,null,null,null,null,null,null,null,null,null,null,null,"Doulon",{"$f":"_xlfn.XLOOKUP(O546,'Liste des DT-EIC-SITES'!D:D,'Liste des DT-EIC-SITES'!C:C)","v":"EIC Bretagne Pays de la Loire"}]
[null,null,null,null,null,null,null,null,null,null,null,null,null,null,"Dourdan",{"$f":"_xlfn.XLOOKUP(O547,'Liste des DT-EIC-SITES'!D:D,'Liste des DT-EIC-SITES'!C:C)","v":"EIC Paris Sud Ouest"}]
[null,null,null,null,null,null,null,null,null,null,null,null,null,null,"Dourges",{"$f":"_xlfn.XLOOKUP(O548,'Liste des DT-EIC-SITES'!D:D,'Liste des DT-EIC-SITES'!C:C)","v":"EIC Hauts de France"}]
[null,null,null,null,null,null,null,null,null,null,null,null,null,null,"Douzies",{"$f":"_xlfn.XLOOKUP(O549,'Liste des DT-EIC-SITES'!D:D,'Liste des DT-EIC-SITES'!C:C)","v":"EIC Hauts de France"}]
[null,null,null,null,null,null,null,null,null,null,null,null,null,null,"Doyet-la-Presle",{"$f":"_xlfn.XLOOKUP(O550,'Liste des DT-EIC-SITES'!D:D,'Liste des DT-EIC-SITES'!C:C)","v":"EIC Auvergne Nivernais"}]
[null,null,null,null,null,null,null,null,null,null,null,null,null,null,"Drap-Cantaron",{"$f":"_xlfn.XLOOKUP(O551,'Liste des DT-EIC-SITES'!D:D,'Liste des DT-EIC-SITES'!C:C)","v":"EIC Provence Alpes Côte d'Azur"}]
[null,null,null,null,null,null,null,null,null,null,null,null,null,null,"Dreux",{"$f":"_xlfn.XLOOKUP(O552,'Liste des DT-EIC-SITES'!D:D,'Liste des DT-EIC-SITES'!C:C)","v":"EIC Paris Sud Ouest"}]
[null,null,null,null,null,null,null,null,null,null,null,null,null,null,"Droué",{"$f":"_xlfn.XLOOKUP(O553,'Liste des DT-EIC-SITES'!D:D,'Liste des DT-EIC-SITES'!C:C)","v":"EIC Centre Limousin"}]
[null,null,null,null,null,null,null,null,null,null,null,null,null,null,"Dugny",{"$f":"_xlfn.XLOOKUP(O554,'Liste des DT-EIC-SITES'!D:D,'Liste des DT-EIC-SITES'!C:C)","v":"EIC Lorraine Champagne Ardenne"}]
[null,null,null,null,null,null,null,null,null,null,null,null,null,null,"Dunières",{"$f":"_xlfn.XLOOKUP(O555,'Liste des DT-EIC-SITES'!D:D,'Liste des DT-EIC-SITES'!C:C)","v":"EIC Auvergne Nivernais"}]
[null,null,null,null,null,null,null,null,null,null,null,null,null,null,"Dunkerque",{"$f":"_xlfn.XLOOKUP(O556,'Liste des DT-EIC-SITES'!D:D,'Liste des DT-EIC-SITES'!C:C)","v":"EIC Hauts de France"}]
[null,null,null,null,null,null,null,null,null,null,null,null,null,null,"Duttlenheim",{"$f":"_xlfn.XLOOKUP(O557,'Liste des DT-EIC-SITES'!D:D,'Liste des DT-EIC-SITES'!C:C)","v":"EIC Alsace"}]
[null,null,null,null,null,null,null,null,null,null,null,null,null,null,"Écommoy",{"$f":"_xlfn.XLOOKUP(O558,'Liste des DT-EIC-SITES'!D:D,'Liste des DT-EIC-SITES'!C:C)","v":"EIC Bretagne Pays de la Loire"}]
[null,null,null,null,null,null,null,null,null,null,null,null,null,null,"Écouflant",{"$f":"_xlfn.XLOOKUP(O559,'Liste des DT-EIC-SITES'!D:D,'Liste des DT-EIC-SITES'!C:C)","v":"EIC Bretagne Pays de la Loire"}]
[null,null,null,null,null,null,null,null,null,null,null,null,null,null,"Égletons",{"$f":"_xlfn.XLOOKUP(O560,'Liste des DT-EIC-SITES'!D:D,'Liste des DT-EIC-SITES'!C:C)","v":"EIC Centre Limousin"}]
[null,null,null,null,null,null,null,null,null,null,null,null,null,null,"Éguzon",{"$f":"_xlfn.XLOOKUP(O561,'Liste des DT-EIC-SITES'!D:D,'Liste des DT-EIC-SITES'!C:C)","v":"EIC Centre Limousin"}]
[null,null,null,null,null,null,null,null,null,null,null,null,null,null,"EIV de Bretenoux-Biars",{"$f":"_xlfn.XLOOKUP(O562,'Liste des DT-EIC-SITES'!D:D,'Liste des DT-EIC-SITES'!C:C)","v":"EIC Centre Limousin"}]
[null,null,null,null,null,null,null,null,null,null,null,null,null,null,"EIV des Laumes",{"$f":"_xlfn.XLOOKUP(O563,'Liste des DT-EIC-SITES'!D:D,'Liste des DT-EIC-SITES'!C:C)","v":"EIC Bourgogne Franche Comté"}]
[null,null,null,null,null,null,null,null,null,null,null,null,null,null,"Elbeuf-St-Aubin",{"$f":"_xlfn.XLOOKUP(O564,'Liste des DT-EIC-SITES'!D:D,'Liste des DT-EIC-SITES'!C:C)","v":"EIC Normandie"}]
[null,null,null,null,null,null,null,null,null,null,null,null,null,null,"ELF ANTAR",{"$f":"_xlfn.XLOOKUP(O565,'Liste des DT-EIC-SITES'!D:D,'Liste des DT-EIC-SITES'!C:C)","v":"EIC Rhône Alpes Lyon"}]
[null,null,null,null,null,null,null,null,null,null,null,null,null,null,"Elne",{"$f":"_xlfn.XLOOKUP(O566,'Liste des DT-EIC-SITES'!D:D,'Liste des DT-EIC-SITES'!C:C)","v":"EIC Languedoc Roussillon"}]
[null,null,null,null,null,null,null,null,null,null,null,null,null,null,"Embrun",{"$f":"_xlfn.XLOOKUP(O567,'Liste des DT-EIC-SITES'!D:D,'Liste des DT-EIC-SITES'!C:C)","v":"EIC Provence Alpes Côte d'Azur"}]
[null,null,null,null,null,null,null,null,null,null,null,null,null,null,"Embt de la société des koalins du Finistère",{"$f":"_xlfn.XLOOKUP(O568,'Liste des DT-EIC-SITES'!D:D,'Liste des DT-EIC-SITES'!C:C)","v":"EIC Bretagne Pays de la Loire"}]
[null,null,null,null,null,null,null,null,null,null,null,null,null,null,"Embt de la ZI L'HERMITAGE",{"$f":"_xlfn.XLOOKUP(O569,'Liste des DT-EIC-SITES'!D:D,'Liste des DT-EIC-SITES'!C:C)","v":"EIC Bretagne Pays de la Loire"}]
[null,null,null,null,null,null,null,null,null,null,null,null,null,null,"Embt des Etablissements CAPROGA",{"$f":"_xlfn.XLOOKUP(O570,'Liste des DT-EIC-SITES'!D:D,'Liste des DT-EIC-SITES'!C:C)","v":"EIC Paris Sud Est"}]
[null,null,null,null,null,null,null,null,null,null,null,null,null,null,"Embt Km 9,2",{"$f":"_xlfn.XLOOKUP(O571,'Liste des DT-EIC-SITES'!D:D,'Liste des DT-EIC-SITES'!C:C)","v":"EIC Rhône Alpes Lyon"}]
[null,null,null,null,null,null,null,null,null,null,null,null,null,null,"Embt SCBM",{"$f":"_xlfn.XLOOKUP(O572,'Liste des DT-EIC-SITES'!D:D,'Liste des DT-EIC-SITES'!C:C)","v":"EIC Bretagne Pays de la Loire"}]
[null,null,null,null,null,null,null,null,null,null,null,null,null,null,"Embt UNICOPA",{"$f":"_xlfn.XLOOKUP(O573,'Liste des DT-EIC-SITES'!D:D,'Liste des DT-EIC-SITES'!C:C)","v":"EIC Bretagne Pays de la Loire"}]
[null,null,null,null,null,null,null,null,null,null,null,null,null,null,"Émerainville-Pontault-Combault",{"$f":"_xlfn.XLOOKUP(O574,'Liste des DT-EIC-SITES'!D:D,'Liste des DT-EIC-SITES'!C:C)","v":"EIC Paris Est Ouest Francilien"}]
[null,null,null,null,null,null,null,null,null,null,null,null,null,null,"Emin Leydier",{"$f":"_xlfn.XLOOKUP(O575,'Liste des DT-EIC-SITES'!D:D,'Liste des DT-EIC-SITES'!C:C)","v":"EIC Rhône Alpes Lyon"}]
[null,null,null,null,null,null,null,null,null,null,null,null,null,null,"EMT Bretagne UPT Rennes",{"$f":"_xlfn.XLOOKUP(O576,'Liste des DT-EIC-SITES'!D:D,'Liste des DT-EIC-SITES'!C:C)","v":"EIC Bretagne Pays de la Loire"}]
[null,null,null,null,null,null,null,null,null,null,null,null,null,null,"EMT Marseille UPT Logistique MBC",{"$f":"_xlfn.XLOOKUP(O577,'Liste des DT-EIC-SITES'!D:D,'Liste des DT-EIC-SITES'!C:C)","v":"EIC Provence Alpes Côte d'Azur"}]
[null,null,null,null,null,null,null,null,null,null,null,null,null,null,"EMT Paris-Sud-Ouest UPT Banlieue Brétigny",{"$f":"_xlfn.XLOOKUP(O578,'Liste des DT-EIC-SITES'!D:D,'Liste des DT-EIC-SITES'!C:C)","v":"EIC Paris Sud Ouest"}]
[null,null,null,null,null,null,null,null,null,null,null,null,null,null,"EMT Paris-Sud-Ouest UPT GL Austerlitz",{"$f":"_xlfn.XLOOKUP(O579,'Liste des DT-EIC-SITES'!D:D,'Liste des DT-EIC-SITES'!C:C)","v":"EIC Paris Sud Ouest"}]
[null,null,null,null,null,null,null,null,null,null,null,null,null,null,"Engayresque",{"$f":"_xlfn.XLOOKUP(O580,'Liste des DT-EIC-SITES'!D:D,'Liste des DT-EIC-SITES'!C:C)","v":"EIC Languedoc Roussillon"}]
[null,null,null,null,null,null,null,null,null,null,null,null,null,null,"Engenville",{"$f":"_xlfn.XLOOKUP(O581,'Liste des DT-EIC-SITES'!D:D,'Liste des DT-EIC-SITES'!C:C)","v":"EIC Centre Limousin"}]
[null,null,null,null,null,null,null,null,null,null,null,null,null,null,"Ennetières-en-Weppes",{"$f":"_xlfn.XLOOKUP(O582,'Liste des DT-EIC-SITES'!D:D,'Liste des DT-EIC-SITES'!C:C)","v":"EIC Hauts de France"}]
[null,null,null,null,null,null,null,null,null,null,null,null,null,null,"Ennezat-Clerlande",{"$f":"_xlfn.XLOOKUP(O583,'Liste des DT-EIC-SITES'!D:D,'Liste des DT-EIC-SITES'!C:C)","v":"EIC Auvergne Nivernais"}]
[null,null,null,null,null,null,null,null,null,null,null,null,null,null,"Épehy",{"$f":"_xlfn.XLOOKUP(O584,'Liste des DT-EIC-SITES'!D:D,'Liste des DT-EIC-SITES'!C:C)","v":"EIC Hauts de France"}]
[null,null,null,null,null,null,null,null,null,null,null,null,null,null,"Epernay",{"$f":"_xlfn.XLOOKUP(O585,'Liste des DT-EIC-SITES'!D:D,'Liste des DT-EIC-SITES'!C:C)","v":"EIC Lorraine Champagne Ardenne"}]
[null,null,null,null,null,null,null,null,null,null,null,null,null,null,"Épierre-St-Léger",{"$f":"_xlfn.XLOOKUP(O586,'Liste des DT-EIC-SITES'!D:D,'Liste des DT-EIC-SITES'!C:C)","v":"EIC Alpes"}]
[null,null,null,null,null,null,null,null,null,null,null,null,null,null,"Épinal",{"$f":"_xlfn.XLOOKUP(O587,'Liste des DT-EIC-SITES'!D:D,'Liste des DT-EIC-SITES'!C:C)","v":"EIC Lorraine Champagne Ardenne"}]
[null,null,null,null,null,null,null,null,null,null,null,null,null,null,"Épinay-Villetaneuse",{"$f":"_xlfn.XLOOKUP(O588,'Liste des DT-EIC-SITES'!D:D,'Liste des DT-EIC-SITES'!C:C)","v":"EIC Paris Nord"}]
[null,null,null,null,null,null,null,null,null,null,null,null,null,null,"Épluches",{"$f":"_xlfn.XLOOKUP(O589,'Liste des DT-EIC-SITES'!D:D,'Liste des DT-EIC-SITES'!C:C)","v":"EIC Paris Nord"}]
[null,null,null,null,null,null,null,null,null,null,null,null,null,null,"Époisses",{"$f":"_xlfn.XLOOKUP(O590,'Liste des DT-EIC-SITES'!D:D,'Liste des DT-EIC-SITES'!C:C)","v":"EIC Bourgogne Franche Comté"}]
[null,null,null,null,null,null,null,null,null,null,null,null,null,null,"Épône-Mézières",{"$f":"_xlfn.XLOOKUP(O591,'Liste des DT-EIC-SITES'!D:D,'Liste des DT-EIC-SITES'!C:C)","v":"EIC Paris Est Ouest Francilien"}]
[null,null,null,null,null,null,null,null,null,null,null,null,null,null,"Ermont-Eaubonne",{"$f":"_xlfn.XLOOKUP(O592,'Liste des DT-EIC-SITES'!D:D,'Liste des DT-EIC-SITES'!C:C)","v":"EIC Paris Nord"}]
[null,null,null,null,null,null,null,null,null,null,null,null,null,null,"Erstein",{"$f":"_xlfn.XLOOKUP(O593,'Liste des DT-EIC-SITES'!D:D,'Liste des DT-EIC-SITES'!C:C)","v":"EIC Alsace"}]
[null,null,null,null,null,null,null,null,null,null,null,null,null,null,"Escalquens",{"$f":"_xlfn.XLOOKUP(O594,'Liste des DT-EIC-SITES'!D:D,'Liste des DT-EIC-SITES'!C:C)","v":"EIC Midi Pyrénées"}]
[null,null,null,null,null,null,null,null,null,null,null,null,null,null,"Espira-de-l'Agly",{"$f":"_xlfn.XLOOKUP(O595,'Liste des DT-EIC-SITES'!D:D,'Liste des DT-EIC-SITES'!C:C)","v":"EIC Languedoc Roussillon"}]
[null,null,null,null,null,null,null,null,null,null,null,null,null,null,"Essertenne-Cecey",{"$f":"_xlfn.XLOOKUP(O596,'Liste des DT-EIC-SITES'!D:D,'Liste des DT-EIC-SITES'!C:C)","v":"EIC Bourgogne Franche Comté"}]
[null,null,null,null,null,null,null,null,null,null,null,null,null,null,"Estagel",{"$f":"_xlfn.XLOOKUP(O597,'Liste des DT-EIC-SITES'!D:D,'Liste des DT-EIC-SITES'!C:C)","v":"EIC Languedoc Roussillon"}]
[null,null,null,null,null,null,null,null,null,null,null,null,null,null,"Esternay",{"$f":"_xlfn.XLOOKUP(O598,'Liste des DT-EIC-SITES'!D:D,'Liste des DT-EIC-SITES'!C:C)","v":"EIC Lorraine Champagne Ardenne"}]
[null,null,null,null,null,null,null,null,null,null,null,null,null,null,"Estissac",{"$f":"_xlfn.XLOOKUP(O599,'Liste des DT-EIC-SITES'!D:D,'Liste des DT-EIC-SITES'!C:C)","v":"EIC Lorraine Champagne Ardenne"}]
[null,null,null,null,null,null,null,null,null,null,null,null,null,null,"Estivaux",{"$f":"_xlfn.XLOOKUP(O600,'Liste des DT-EIC-SITES'!D:D,'Liste des DT-EIC-SITES'!C:C)","v":"EIC Centre Limousin"}]
[null,null,null,null,null,null,null,null,null,null,null,null,null,null,"Estrées-St-Denis",{"$f":"_xlfn.XLOOKUP(O601,'Liste des DT-EIC-SITES'!D:D,'Liste des DT-EIC-SITES'!C:C)","v":"EIC Hauts de France"}]
[null,null,null,null,null,null,null,null,null,null,null,null,null,null,"ET Bordeaux UPT Thermique Résid T Périgueux",{"$f":"_xlfn.XLOOKUP(O602,'Liste des DT-EIC-SITES'!D:D,'Liste des DT-EIC-SITES'!C:C)","v":"EIC Aquitaine Poitou Charentes"}]
[null,null,null,null,null,null,null,null,null,null,null,null,null,null,"ET Haute Normandie UPT Le Havre",{"$f":"_xlfn.XLOOKUP(O603,'Liste des DT-EIC-SITES'!D:D,'Liste des DT-EIC-SITES'!C:C)","v":"EIC Normandie"}]
[null,null,null,null,null,null,null,null,null,null,null,null,null,null,"ET Lille UPT Lens",{"$f":"_xlfn.XLOOKUP(O604,'Liste des DT-EIC-SITES'!D:D,'Liste des DT-EIC-SITES'!C:C)","v":"EIC Hauts de France"}]
[null,null,null,null,null,null,null,null,null,null,null,null,null,null,"ET Littoral UPT Fréthun (Calais)",{"$f":"_xlfn.XLOOKUP(O605,'Liste des DT-EIC-SITES'!D:D,'Liste des DT-EIC-SITES'!C:C)","v":"EIC Hauts de France"}]
[null,null,null,null,null,null,null,null,null,null,null,null,null,null,"ET Lyon-Mouche UPT Portes",{"$f":"_xlfn.XLOOKUP(O606,'Liste des DT-EIC-SITES'!D:D,'Liste des DT-EIC-SITES'!C:C)","v":"EIC Rhône Alpes Lyon"}]
[null,null,null,null,null,null,null,null,null,null,null,null,null,null,"ET Rhin Rhône UPT Belfort",{"$f":"_xlfn.XLOOKUP(O607,'Liste des DT-EIC-SITES'!D:D,'Liste des DT-EIC-SITES'!C:C)","v":"EIC Alsace"}]
[null,null,null,null,null,null,null,null,null,null,null,null,null,null,"Étampes",{"$f":"_xlfn.XLOOKUP(O608,'Liste des DT-EIC-SITES'!D:D,'Liste des DT-EIC-SITES'!C:C)","v":"EIC Paris Sud Ouest"}]
[null,null,null,null,null,null,null,null,null,null,null,null,null,null,"Étang",{"$f":"_xlfn.XLOOKUP(O609,'Liste des DT-EIC-SITES'!D:D,'Liste des DT-EIC-SITES'!C:C)","v":"EIC Bourgogne Franche Comté"}]
[null,null,null,null,null,null,null,null,null,null,null,null,null,null,"Étaples-Le Touquet",{"$f":"_xlfn.XLOOKUP(O610,'Liste des DT-EIC-SITES'!D:D,'Liste des DT-EIC-SITES'!C:C)","v":"EIC Hauts de France"}]
[null,null,null,null,null,null,null,null,null,null,null,null,null,null,"Étival-Clairefontaine",{"$f":"_xlfn.XLOOKUP(O611,'Liste des DT-EIC-SITES'!D:D,'Liste des DT-EIC-SITES'!C:C)","v":"EIC Lorraine Champagne Ardenne"}]
[null,null,null,null,null,null,null,null,null,null,null,null,null,null,"Étrépagny",{"$f":"_xlfn.XLOOKUP(O612,'Liste des DT-EIC-SITES'!D:D,'Liste des DT-EIC-SITES'!C:C)","v":"EIC Normandie"}]
[null,null,null,null,null,null,null,null,null,null,null,null,null,null,"Eurre",{"$f":"_xlfn.XLOOKUP(O613,'Liste des DT-EIC-SITES'!D:D,'Liste des DT-EIC-SITES'!C:C)","v":"EIC Rhône Alpes Lyon"}]
[null,null,null,null,null,null,null,null,null,null,null,null,null,null,"Eurville-Bienville",{"$f":"_xlfn.XLOOKUP(O614,'Liste des DT-EIC-SITES'!D:D,'Liste des DT-EIC-SITES'!C:C)","v":"EIC Lorraine Champagne Ardenne"}]
[null,null,null,null,null,null,null,null,null,null,null,null,null,null,"Évaux-les-Bains",{"$f":"_xlfn.XLOOKUP(O615,'Liste des DT-EIC-SITES'!D:D,'Liste des DT-EIC-SITES'!C:C)","v":"EIC Auvergne Nivernais"}]
[null,null,null,null,null,null,null,null,null,null,null,null,null,null,"Évian-les-Bains",{"$f":"_xlfn.XLOOKUP(O616,'Liste des DT-EIC-SITES'!D:D,'Liste des DT-EIC-SITES'!C:C)","v":"EIC Alpes"}]
[null,null,null,null,null,null,null,null,null,null,null,null,null,null,"Évires",{"$f":"_xlfn.XLOOKUP(O617,'Liste des DT-EIC-SITES'!D:D,'Liste des DT-EIC-SITES'!C:C)","v":"EIC Alpes"}]
[null,null,null,null,null,null,null,null,null,null,null,null,null,null,"Évreux-Embranchement",{"$f":"_xlfn.XLOOKUP(O618,'Liste des DT-EIC-SITES'!D:D,'Liste des DT-EIC-SITES'!C:C)","v":"EIC Normandie"}]
[null,null,null,null,null,null,null,null,null,null,null,null,null,null,"Évreux-Navarre",{"$f":"_xlfn.XLOOKUP(O619,'Liste des DT-EIC-SITES'!D:D,'Liste des DT-EIC-SITES'!C:C)","v":"EIC Normandie"}]
[null,null,null,null,null,null,null,null,null,null,null,null,null,null,"Évron",{"$f":"_xlfn.XLOOKUP(O620,'Liste des DT-EIC-SITES'!D:D,'Liste des DT-EIC-SITES'!C:C)","v":"EIC Bretagne Pays de la Loire"}]
[null,null,null,null,null,null,null,null,null,null,null,null,null,null,"Ex EMT de La Plaine",{"$f":"_xlfn.XLOOKUP(O621,'Liste des DT-EIC-SITES'!D:D,'Liste des DT-EIC-SITES'!C:C)","v":"EIC Paris Nord"}]
[null,null,null,null,null,null,null,null,null,null,null,null,null,null,"Exideuil-sur-Vienne",{"$f":"_xlfn.XLOOKUP(O622,'Liste des DT-EIC-SITES'!D:D,'Liste des DT-EIC-SITES'!C:C)","v":"EIC Aquitaine Poitou Charentes"}]
[null,null,null,null,null,null,null,null,null,null,null,null,null,null,"Eygurande-Merlines",{"$f":"_xlfn.XLOOKUP(O623,'Liste des DT-EIC-SITES'!D:D,'Liste des DT-EIC-SITES'!C:C)","v":"EIC Centre Limousin"}]
[null,null,null,null,null,null,null,null,null,null,null,null,null,null,"Eymoutiers-Vassivière",{"$f":"_xlfn.XLOOKUP(O624,'Liste des DT-EIC-SITES'!D:D,'Liste des DT-EIC-SITES'!C:C)","v":"EIC Centre Limousin"}]
[null,null,null,null,null,null,null,null,null,null,null,null,null,null,"F.Braun et Cie",{"$f":"_xlfn.XLOOKUP(O625,'Liste des DT-EIC-SITES'!D:D,'Liste des DT-EIC-SITES'!C:C)","v":"EIC Alsace"}]
[null,null,null,null,null,null,null,null,null,null,null,null,null,null,"Facture-Biganos",{"$f":"_xlfn.XLOOKUP(O626,'Liste des DT-EIC-SITES'!D:D,'Liste des DT-EIC-SITES'!C:C)","v":"EIC Aquitaine Poitou Charentes"}]
[null,null,null,null,null,null,null,null,null,null,null,null,null,null,"Faisceau Besançon-St-Fergeux V3 à 7",{"$f":"_xlfn.XLOOKUP(O627,'Liste des DT-EIC-SITES'!D:D,'Liste des DT-EIC-SITES'!C:C)","v":"EIC Bourgogne Franche Comté"}]
[null,null,null,null,null,null,null,null,null,null,null,null,null,null,"Faisceau dépôt",{"$f":"_xlfn.XLOOKUP(O628,'Liste des DT-EIC-SITES'!D:D,'Liste des DT-EIC-SITES'!C:C)","v":"EIC Bourgogne Franche Comté"}]
[null,null,null,null,null,null,null,null,null,null,null,null,null,null,"Faisceau Equipement",{"$f":"_xlfn.XLOOKUP(O629,'Liste des DT-EIC-SITES'!D:D,'Liste des DT-EIC-SITES'!C:C)","v":"EIC Bretagne Pays de la Loire"}]
[null,null,null,null,null,null,null,null,null,null,null,null,null,null,"Faisceau Lavage",{"$f":"_xlfn.XLOOKUP(O630,'Liste des DT-EIC-SITES'!D:D,'Liste des DT-EIC-SITES'!C:C)","v":"EIC Centre Limousin"}]
[null,null,null,null,null,null,null,null,null,null,null,null,null,null,"Faisceau NOVATRANS Avignon-Champfleury",{"$f":"_xlfn.XLOOKUP(O631,'Liste des DT-EIC-SITES'!D:D,'Liste des DT-EIC-SITES'!C:C)","v":"EIC Provence Alpes Côte d'Azur"}]
[null,null,null,null,null,null,null,null,null,null,null,null,null,null,"Faisceau Plateforme Multimodale",{"$f":"_xlfn.XLOOKUP(O632,'Liste des DT-EIC-SITES'!D:D,'Liste des DT-EIC-SITES'!C:C)","v":"EIC Bourgogne Franche Comté"}]
[null,null,null,null,null,null,null,null,null,null,null,null,null,null,"Faisceau Port Fluvial",{"$f":"_xlfn.XLOOKUP(O633,'Liste des DT-EIC-SITES'!D:D,'Liste des DT-EIC-SITES'!C:C)","v":"EIC Hauts de France"}]
[null,null,null,null,null,null,null,null,null,null,null,null,null,null,"Faisceau Quai Est",{"$f":"_xlfn.XLOOKUP(O634,'Liste des DT-EIC-SITES'!D:D,'Liste des DT-EIC-SITES'!C:C)","v":"EIC Hauts de France"}]
[null,null,null,null,null,null,null,null,null,null,null,null,null,null,"Faisceau SAE",{"$f":"_xlfn.XLOOKUP(O635,'Liste des DT-EIC-SITES'!D:D,'Liste des DT-EIC-SITES'!C:C)","v":"EIC Centre Limousin"}]
[null,null,null,null,null,null,null,null,null,null,null,null,null,null,"Faisceau Tarbes V62 à V90",{"$f":"_xlfn.XLOOKUP(O636,'Liste des DT-EIC-SITES'!D:D,'Liste des DT-EIC-SITES'!C:C)","v":"EIC Midi Pyrénées"}]
[null,null,null,null,null,null,null,null,null,null,null,null,null,null,"Faisceau Vestric",{"$f":"_xlfn.XLOOKUP(O637,'Liste des DT-EIC-SITES'!D:D,'Liste des DT-EIC-SITES'!C:C)","v":"EIC Languedoc Roussillon"}]
[null,null,null,null,null,null,null,null,null,null,null,null,null,null,"Faugères",{"$f":"_xlfn.XLOOKUP(O638,'Liste des DT-EIC-SITES'!D:D,'Liste des DT-EIC-SITES'!C:C)","v":"EIC Languedoc Roussillon"}]
[null,null,null,null,null,null,null,null,null,null,null,null,null,null,"Faulquemont",{"$f":"_xlfn.XLOOKUP(O639,'Liste des DT-EIC-SITES'!D:D,'Liste des DT-EIC-SITES'!C:C)","v":"EIC Lorraine Champagne Ardenne"}]
[null,null,null,null,null,null,null,null,null,null,null,null,null,null,"Fécamp",{"$f":"_xlfn.XLOOKUP(O640,'Liste des DT-EIC-SITES'!D:D,'Liste des DT-EIC-SITES'!C:C)","v":"EIC Normandie"}]
[null,null,null,null,null,null,null,null,null,null,null,null,null,null,"Felletin",{"$f":"_xlfn.XLOOKUP(O641,'Liste des DT-EIC-SITES'!D:D,'Liste des DT-EIC-SITES'!C:C)","v":"EIC Centre Limousin"}]
[null,null,null,null,null,null,null,null,null,null,null,null,null,null,"Fenouillet-St-Alban",{"$f":"_xlfn.XLOOKUP(O642,'Liste des DT-EIC-SITES'!D:D,'Liste des DT-EIC-SITES'!C:C)","v":"EIC Midi Pyrénées"}]
[null,null,null,null,null,null,null,null,null,null,null,null,null,null,"Fère-Champenoise",{"$f":"_xlfn.XLOOKUP(O643,'Liste des DT-EIC-SITES'!D:D,'Liste des DT-EIC-SITES'!C:C)","v":"EIC Lorraine Champagne Ardenne"}]
[null,null,null,null,null,null,null,null,null,null,null,null,null,null,"Fère-en-Tardenois",{"$f":"_xlfn.XLOOKUP(O644,'Liste des DT-EIC-SITES'!D:D,'Liste des DT-EIC-SITES'!C:C)","v":"EIC Lorraine Champagne Ardenne"}]
[null,null,null,null,null,null,null,null,null,null,null,null,null,null,"Ferrière-la-Grande",{"$f":"_xlfn.XLOOKUP(O645,'Liste des DT-EIC-SITES'!D:D,'Liste des DT-EIC-SITES'!C:C)","v":"EIC Hauts de France"}]
[null,null,null,null,null,null,null,null,null,null,null,null,null,null,"Feuquières-Broquiers",{"$f":"_xlfn.XLOOKUP(O646,'Liste des DT-EIC-SITES'!D:D,'Liste des DT-EIC-SITES'!C:C)","v":"EIC Hauts de France"}]
[null,null,null,null,null,null,null,null,null,null,null,null,null,null,"Fiac",{"$f":"_xlfn.XLOOKUP(O647,'Liste des DT-EIC-SITES'!D:D,'Liste des DT-EIC-SITES'!C:C)","v":"EIC Midi Pyrénées"}]
[null,null,null,null,null,null,null,null,null,null,null,null,null,null,"Figeac",{"$f":"_xlfn.XLOOKUP(O648,'Liste des DT-EIC-SITES'!D:D,'Liste des DT-EIC-SITES'!C:C)","v":"EIC Midi Pyrénées"}]
[null,null,null,null,null,null,null,null,null,null,null,null,null,null,"Firminy",{"$f":"_xlfn.XLOOKUP(O649,'Liste des DT-EIC-SITES'!D:D,'Liste des DT-EIC-SITES'!C:C)","v":"EIC Rhône Alpes Lyon"}]
[null,null,null,null,null,null,null,null,null,null,null,null,null,null,"Fismes",{"$f":"_xlfn.XLOOKUP(O650,'Liste des DT-EIC-SITES'!D:D,'Liste des DT-EIC-SITES'!C:C)","v":"EIC Lorraine Champagne Ardenne"}]
[null,null,null,null,null,null,null,null,null,null,null,null,null,null,"Flamboin-Gouaix",{"$f":"_xlfn.XLOOKUP(O651,'Liste des DT-EIC-SITES'!D:D,'Liste des DT-EIC-SITES'!C:C)","v":"EIC Paris Est Ouest Francilien"}]
[null,null,null,null,null,null,null,null,null,null,null,null,null,null,"Flavy-le-Martel",{"$f":"_xlfn.XLOOKUP(O652,'Liste des DT-EIC-SITES'!D:D,'Liste des DT-EIC-SITES'!C:C)","v":"EIC Hauts de France"}]
[null,null,null,null,null,null,null,null,null,null,null,null,null,null,"FLECHET",{"$f":"_xlfn.XLOOKUP(O653,'Liste des DT-EIC-SITES'!D:D,'Liste des DT-EIC-SITES'!C:C)","v":"EIC Rhône Alpes Lyon"}]
[null,null,null,null,null,null,null,null,null,null,null,null,null,null,"Flers",{"$f":"_xlfn.XLOOKUP(O654,'Liste des DT-EIC-SITES'!D:D,'Liste des DT-EIC-SITES'!C:C)","v":"EIC Normandie"}]
[null,null,null,null,null,null,null,null,null,null,null,null,null,null,"Fleurance",{"$f":"_xlfn.XLOOKUP(O655,'Liste des DT-EIC-SITES'!D:D,'Liste des DT-EIC-SITES'!C:C)","v":"EIC Aquitaine Poitou Charentes"}]
[null,null,null,null,null,null,null,null,null,null,null,null,null,null,"Fleurville-Pont-de-Vaux",{"$f":"_xlfn.XLOOKUP(O656,'Liste des DT-EIC-SITES'!D:D,'Liste des DT-EIC-SITES'!C:C)","v":"EIC Bourgogne Franche Comté"}]
[null,null,null,null,null,null,null,null,null,null,null,null,null,null,"Florange",{"$f":"_xlfn.XLOOKUP(O657,'Liste des DT-EIC-SITES'!D:D,'Liste des DT-EIC-SITES'!C:C)","v":"EIC Lorraine Champagne Ardenne"}]
[null,null,null,null,null,null,null,null,null,null,null,null,null,null,"Foix",{"$f":"_xlfn.XLOOKUP(O658,'Liste des DT-EIC-SITES'!D:D,'Liste des DT-EIC-SITES'!C:C)","v":"EIC Midi Pyrénées"}]
[null,null,null,null,null,null,null,null,null,null,null,null,null,null,"Folligny",{"$f":"_xlfn.XLOOKUP(O659,'Liste des DT-EIC-SITES'!D:D,'Liste des DT-EIC-SITES'!C:C)","v":"EIC Normandie"}]
[null,null,null,null,null,null,null,null,null,null,null,null,null,null,"Fontenoy-sur-Moselle",{"$f":"_xlfn.XLOOKUP(O660,'Liste des DT-EIC-SITES'!D:D,'Liste des DT-EIC-SITES'!C:C)","v":"EIC Lorraine Champagne Ardenne"}]
[null,null,null,null,null,null,null,null,null,null,null,null,null,null,"Fontpédrouse-St-Thomas-les-Bains",{"$f":"_xlfn.XLOOKUP(O661,'Liste des DT-EIC-SITES'!D:D,'Liste des DT-EIC-SITES'!C:C)","v":"EIC Languedoc Roussillon"}]
[null,null,null,null,null,null,null,null,null,null,null,null,null,null,"Font-Romeu-Odeillo-Via",{"$f":"_xlfn.XLOOKUP(O662,'Liste des DT-EIC-SITES'!D:D,'Liste des DT-EIC-SITES'!C:C)","v":"EIC Languedoc Roussillon"}]
[null,null,null,null,null,null,null,null,null,null,null,null,null,null,"Forbach",{"$f":"_xlfn.XLOOKUP(O663,'Liste des DT-EIC-SITES'!D:D,'Liste des DT-EIC-SITES'!C:C)","v":"EIC Lorraine Champagne Ardenne"}]
[null,null,null,null,null,null,null,null,null,null,null,null,null,null,"Forgevieille",{"$f":"_xlfn.XLOOKUP(O664,'Liste des DT-EIC-SITES'!D:D,'Liste des DT-EIC-SITES'!C:C)","v":"EIC Centre Limousin"}]
[null,null,null,null,null,null,null,null,null,null,null,null,null,null,"Fort-l'Écluse-Collonges",{"$f":"_xlfn.XLOOKUP(O665,'Liste des DT-EIC-SITES'!D:D,'Liste des DT-EIC-SITES'!C:C)","v":"EIC Alpes"}]
[null,null,null,null,null,null,null,null,null,null,null,null,null,null,"Fos-Coussoul",{"$f":"_xlfn.XLOOKUP(O666,'Liste des DT-EIC-SITES'!D:D,'Liste des DT-EIC-SITES'!C:C)","v":"EIC Provence Alpes Côte d'Azur"}]
[null,null,null,null,null,null,null,null,null,null,null,null,null,null,"Fossé-Marolles",{"$f":"_xlfn.XLOOKUP(O667,'Liste des DT-EIC-SITES'!D:D,'Liste des DT-EIC-SITES'!C:C)","v":"EIC Centre Limousin"}]
[null,null,null,null,null,null,null,null,null,null,null,null,null,null,"Foug",{"$f":"_xlfn.XLOOKUP(O668,'Liste des DT-EIC-SITES'!D:D,'Liste des DT-EIC-SITES'!C:C)","v":"EIC Lorraine Champagne Ardenne"}]
[null,null,null,null,null,null,null,null,null,null,null,null,null,null,"Fougerolles",{"$f":"_xlfn.XLOOKUP(O669,'Liste des DT-EIC-SITES'!D:D,'Liste des DT-EIC-SITES'!C:C)","v":"EIC Lorraine Champagne Ardenne"}]
[null,null,null,null,null,null,null,null,null,null,null,null,null,null,"Fourchambault",{"$f":"_xlfn.XLOOKUP(O670,'Liste des DT-EIC-SITES'!D:D,'Liste des DT-EIC-SITES'!C:C)","v":"EIC Auvergne Nivernais"}]
[null,null,null,null,null,null,null,null,null,null,null,null,null,null,"Fourmies",{"$f":"_xlfn.XLOOKUP(O671,'Liste des DT-EIC-SITES'!D:D,'Liste des DT-EIC-SITES'!C:C)","v":"EIC Hauts de France"}]
[null,null,null,null,null,null,null,null,null,null,null,null,null,null,"Franois",{"$f":"_xlfn.XLOOKUP(O672,'Liste des DT-EIC-SITES'!D:D,'Liste des DT-EIC-SITES'!C:C)","v":"EIC Bourgogne Franche Comté"}]
[null,null,null,null,null,null,null,null,null,null,null,null,null,null,"Frasne",{"$f":"_xlfn.XLOOKUP(O673,'Liste des DT-EIC-SITES'!D:D,'Liste des DT-EIC-SITES'!C:C)","v":"EIC Bourgogne Franche Comté"}]
[null,null,null,null,null,null,null,null,null,null,null,null,null,null,"Fresnoy-le-Grand",{"$f":"_xlfn.XLOOKUP(O674,'Liste des DT-EIC-SITES'!D:D,'Liste des DT-EIC-SITES'!C:C)","v":"EIC Hauts de France"}]
[null,null,null,null,null,null,null,null,null,null,null,null,null,null,"Frontenex",{"$f":"_xlfn.XLOOKUP(O675,'Liste des DT-EIC-SITES'!D:D,'Liste des DT-EIC-SITES'!C:C)","v":"EIC Alpes"}]
[null,null,null,null,null,null,null,null,null,null,null,null,null,null,"Frouard",{"$f":"_xlfn.XLOOKUP(O676,'Liste des DT-EIC-SITES'!D:D,'Liste des DT-EIC-SITES'!C:C)","v":"EIC Lorraine Champagne Ardenne"}]
[null,null,null,null,null,null,null,null,null,null,null,null,null,null,"Gaël",{"$f":"_xlfn.XLOOKUP(O677,'Liste des DT-EIC-SITES'!D:D,'Liste des DT-EIC-SITES'!C:C)","v":"EIC Bretagne Pays de la Loire"}]
[null,null,null,null,null,null,null,null,null,null,null,null,null,null,"Gagny",{"$f":"_xlfn.XLOOKUP(O678,'Liste des DT-EIC-SITES'!D:D,'Liste des DT-EIC-SITES'!C:C)","v":"EIC Paris Est Ouest Francilien"}]
[null,null,null,null,null,null,null,null,null,null,null,null,null,null,"Gaillac",{"$f":"_xlfn.XLOOKUP(O679,'Liste des DT-EIC-SITES'!D:D,'Liste des DT-EIC-SITES'!C:C)","v":"EIC Midi Pyrénées"}]
[null,null,null,null,null,null,null,null,null,null,null,null,null,null,"Gaillon-Aubevoye",{"$f":"_xlfn.XLOOKUP(O680,'Liste des DT-EIC-SITES'!D:D,'Liste des DT-EIC-SITES'!C:C)","v":"EIC Normandie"}]
[null,null,null,null,null,null,null,null,null,null,null,null,null,null,"Gandrange-Amnéville",{"$f":"_xlfn.XLOOKUP(O681,'Liste des DT-EIC-SITES'!D:D,'Liste des DT-EIC-SITES'!C:C)","v":"EIC Lorraine Champagne Ardenne"}]
[null,null,null,null,null,null,null,null,null,null,null,null,null,null,"Gannat",{"$f":"_xlfn.XLOOKUP(O682,'Liste des DT-EIC-SITES'!D:D,'Liste des DT-EIC-SITES'!C:C)","v":"EIC Auvergne Nivernais"}]
[null,null,null,null,null,null,null,null,null,null,null,null,null,null,"Gannes",{"$f":"_xlfn.XLOOKUP(O683,'Liste des DT-EIC-SITES'!D:D,'Liste des DT-EIC-SITES'!C:C)","v":"EIC Paris Nord"}]
[null,null,null,null,null,null,null,null,null,null,null,null,null,null,"Gap",{"$f":"_xlfn.XLOOKUP(O684,'Liste des DT-EIC-SITES'!D:D,'Liste des DT-EIC-SITES'!C:C)","v":"EIC Provence Alpes Côte d'Azur"}]
[null,null,null,null,null,null,null,null,null,null,null,null,null,null,"Garage Pair",{"$f":"_xlfn.XLOOKUP(O685,'Liste des DT-EIC-SITES'!D:D,'Liste des DT-EIC-SITES'!C:C)","v":"EIC Hauts de France"}]
[null,null,null,null,null,null,null,null,null,null,null,null,null,null,"Garches-Marnes-la-Coquette",{"$f":"_xlfn.XLOOKUP(O686,'Liste des DT-EIC-SITES'!D:D,'Liste des DT-EIC-SITES'!C:C)","v":"EIC Paris Est Ouest Francilien"}]
[null,null,null,null,null,null,null,null,null,null,null,null,null,null,"Gardanne",{"$f":"_xlfn.XLOOKUP(O687,'Liste des DT-EIC-SITES'!D:D,'Liste des DT-EIC-SITES'!C:C)","v":"EIC Provence Alpes Côte d'Azur"}]
[null,null,null,null,null,null,null,null,null,null,null,null,null,null,"Gargenville",{"$f":"_xlfn.XLOOKUP(O688,'Liste des DT-EIC-SITES'!D:D,'Liste des DT-EIC-SITES'!C:C)","v":"EIC Paris Est Ouest Francilien"}]
[null,null,null,null,null,null,null,null,null,null,null,null,null,null,"Garnay",{"$f":"_xlfn.XLOOKUP(O689,'Liste des DT-EIC-SITES'!D:D,'Liste des DT-EIC-SITES'!C:C)","v":"EIC Paris Sud Ouest"}]
[null,null,null,null,null,null,null,null,null,null,null,null,null,null,"Gazinet-Cestas",{"$f":"_xlfn.XLOOKUP(O690,'Liste des DT-EIC-SITES'!D:D,'Liste des DT-EIC-SITES'!C:C)","v":"EIC Aquitaine Poitou Charentes"}]
[null,null,null,null,null,null,null,null,null,null,null,null,null,null,"Génelard",{"$f":"_xlfn.XLOOKUP(O691,'Liste des DT-EIC-SITES'!D:D,'Liste des DT-EIC-SITES'!C:C)","v":"EIC Bourgogne Franche Comté"}]
[null,null,null,null,null,null,null,null,null,null,null,null,null,null,"Genlis",{"$f":"_xlfn.XLOOKUP(O692,'Liste des DT-EIC-SITES'!D:D,'Liste des DT-EIC-SITES'!C:C)","v":"EIC Bourgogne Franche Comté"}]
[null,null,null,null,null,null,null,null,null,null,null,null,null,null,"Gennes-Longuefuye",{"$f":"_xlfn.XLOOKUP(O693,'Liste des DT-EIC-SITES'!D:D,'Liste des DT-EIC-SITES'!C:C)","v":"EIC Bretagne Pays de la Loire"}]
[null,null,null,null,null,null,null,null,null,null,null,null,null,null,"Gennevilliers",{"$f":"_xlfn.XLOOKUP(O694,'Liste des DT-EIC-SITES'!D:D,'Liste des DT-EIC-SITES'!C:C)","v":"EIC Paris Sud Ouest"}]
[null,null,null,null,null,null,null,null,null,null,null,null,null,null,"Génolhac",{"$f":"_xlfn.XLOOKUP(O695,'Liste des DT-EIC-SITES'!D:D,'Liste des DT-EIC-SITES'!C:C)","v":"EIC Languedoc Roussillon"}]
[null,null,null,null,null,null,null,null,null,null,null,null,null,null,"Gérard",{"$f":"_xlfn.XLOOKUP(O696,'Liste des DT-EIC-SITES'!D:D,'Liste des DT-EIC-SITES'!C:C)","v":"EIC Bretagne Pays de la Loire"}]
[null,null,null,null,null,null,null,null,null,null,null,null,null,null,"Gergy",{"$f":"_xlfn.XLOOKUP(O697,'Liste des DT-EIC-SITES'!D:D,'Liste des DT-EIC-SITES'!C:C)","v":"EIC Bourgogne Franche Comté"}]
[null,null,null,null,null,null,null,null,null,null,null,null,null,null,"Gerzat",{"$f":"_xlfn.XLOOKUP(O698,'Liste des DT-EIC-SITES'!D:D,'Liste des DT-EIC-SITES'!C:C)","v":"EIC Auvergne Nivernais"}]
[null,null,null,null,null,null,null,null,null,null,null,null,null,null,"Gevrey-Chambertin",{"$f":"_xlfn.XLOOKUP(O699,'Liste des DT-EIC-SITES'!D:D,'Liste des DT-EIC-SITES'!C:C)","v":"EIC Bourgogne Franche Comté"}]
[null,null,null,null,null,null,null,null,null,null,null,null,null,null,"Gien",{"$f":"_xlfn.XLOOKUP(O700,'Liste des DT-EIC-SITES'!D:D,'Liste des DT-EIC-SITES'!C:C)","v":"EIC Paris Sud Est"}]
[null,null,null,null,null,null,null,null,null,null,null,null,null,null,"Gièvres",{"$f":"_xlfn.XLOOKUP(O701,'Liste des DT-EIC-SITES'!D:D,'Liste des DT-EIC-SITES'!C:C)","v":"EIC Centre Limousin"}]
[null,null,null,null,null,null,null,null,null,null,null,null,null,null,"Gignac-Cressensac",{"$f":"_xlfn.XLOOKUP(O702,'Liste des DT-EIC-SITES'!D:D,'Liste des DT-EIC-SITES'!C:C)","v":"EIC Centre Limousin"}]
[null,null,null,null,null,null,null,null,null,null,null,null,null,null,"Gigny-Brandonvillers",{"$f":"_xlfn.XLOOKUP(O703,'Liste des DT-EIC-SITES'!D:D,'Liste des DT-EIC-SITES'!C:C)","v":"EIC Lorraine Champagne Ardenne"}]
[null,null,null,null,null,null,null,null,null,null,null,null,null,null,"Gilly-sur-Loire",{"$f":"_xlfn.XLOOKUP(O704,'Liste des DT-EIC-SITES'!D:D,'Liste des DT-EIC-SITES'!C:C)","v":"EIC Bourgogne Franche Comté"}]
[null,null,null,null,null,null,null,null,null,null,null,null,null,null,"Giromagny",{"$f":"_xlfn.XLOOKUP(O705,'Liste des DT-EIC-SITES'!D:D,'Liste des DT-EIC-SITES'!C:C)","v":"EIC Alsace"}]
[null,null,null,null,null,null,null,null,null,null,null,null,null,null,"Gironcourt-Houécourt",{"$f":"_xlfn.XLOOKUP(O706,'Liste des DT-EIC-SITES'!D:D,'Liste des DT-EIC-SITES'!C:C)","v":"EIC Lorraine Champagne Ardenne"}]
[null,null,null,null,null,null,null,null,null,null,null,null,null,null,"Gisors",{"$f":"_xlfn.XLOOKUP(O707,'Liste des DT-EIC-SITES'!D:D,'Liste des DT-EIC-SITES'!C:C)","v":"EIC Paris Est Ouest Francilien"}]
[null,null,null,null,null,null,null,null,null,null,null,null,null,null,"Givet",{"$f":"_xlfn.XLOOKUP(O708,'Liste des DT-EIC-SITES'!D:D,'Liste des DT-EIC-SITES'!C:C)","v":"EIC Lorraine Champagne Ardenne"}]
[null,null,null,null,null,null,null,null,null,null,null,null,null,null,"Givors",{"$f":"_xlfn.XLOOKUP(O709,'Liste des DT-EIC-SITES'!D:D,'Liste des DT-EIC-SITES'!C:C)","v":"EIC Rhône Alpes Lyon"}]
[null,null,null,null,null,null,null,null,null,null,null,null,null,null,"Givors-Canal",{"$f":"_xlfn.XLOOKUP(O710,'Liste des DT-EIC-SITES'!D:D,'Liste des DT-EIC-SITES'!C:C)","v":"EIC Rhône Alpes Lyon"}]
[null,null,null,null,null,null,null,null,null,null,null,null,null,null,"Glos-Montfort",{"$f":"_xlfn.XLOOKUP(O711,'Liste des DT-EIC-SITES'!D:D,'Liste des DT-EIC-SITES'!C:C)","v":"EIC Normandie"}]
[null,null,null,null,null,null,null,null,null,null,null,null,null,null,"Gondrecourt-le-Château",{"$f":"_xlfn.XLOOKUP(O712,'Liste des DT-EIC-SITES'!D:D,'Liste des DT-EIC-SITES'!C:C)","v":"EIC Lorraine Champagne Ardenne"}]
[null,null,null,null,null,null,null,null,null,null,null,null,null,null,"Gourdon",{"$f":"_xlfn.XLOOKUP(O713,'Liste des DT-EIC-SITES'!D:D,'Liste des DT-EIC-SITES'!C:C)","v":"EIC Midi Pyrénées"}]
[null,null,null,null,null,null,null,null,null,null,null,null,null,null,"Goussainville",{"$f":"_xlfn.XLOOKUP(O714,'Liste des DT-EIC-SITES'!D:D,'Liste des DT-EIC-SITES'!C:C)","v":"EIC Paris Nord"}]
[null,null,null,null,null,null,null,null,null,null,null,null,null,null,"Graffenstaden",{"$f":"_xlfn.XLOOKUP(O715,'Liste des DT-EIC-SITES'!D:D,'Liste des DT-EIC-SITES'!C:C)","v":"EIC Alsace"}]
[null,null,null,null,null,null,null,null,null,null,null,null,null,null,"Gragnague",{"$f":"_xlfn.XLOOKUP(O716,'Liste des DT-EIC-SITES'!D:D,'Liste des DT-EIC-SITES'!C:C)","v":"EIC Midi Pyrénées"}]
[null,null,null,null,null,null,null,null,null,null,null,null,null,null,"Gramat",{"$f":"_xlfn.XLOOKUP(O717,'Liste des DT-EIC-SITES'!D:D,'Liste des DT-EIC-SITES'!C:C)","v":"EIC Midi Pyrénées"}]
[null,null,null,null,null,null,null,null,null,null,null,null,null,null,"Grand'Combe-La Pise",{"$f":"_xlfn.XLOOKUP(O718,'Liste des DT-EIC-SITES'!D:D,'Liste des DT-EIC-SITES'!C:C)","v":"EIC Languedoc Roussillon"}]
[null,null,null,null,null,null,null,null,null,null,null,null,null,null,"Grand-Croix",{"$f":"_xlfn.XLOOKUP(O719,'Liste des DT-EIC-SITES'!D:D,'Liste des DT-EIC-SITES'!C:C)","v":"EIC Rhône Alpes Lyon"}]
[null,null,null,null,null,null,null,null,null,null,null,null,null,null,"Grande-Synthe",{"$f":"_xlfn.XLOOKUP(O720,'Liste des DT-EIC-SITES'!D:D,'Liste des DT-EIC-SITES'!C:C)","v":"EIC Hauts de France"}]
[null,null,null,null,null,null,null,null,null,null,null,null,null,null,"Grand-Pont-Preuilly",{"$f":"_xlfn.XLOOKUP(O721,'Liste des DT-EIC-SITES'!D:D,'Liste des DT-EIC-SITES'!C:C)","v":"EIC Aquitaine Poitou Charentes"}]
[null,null,null,null,null,null,null,null,null,null,null,null,null,null,"Grandpuits",{"$f":"_xlfn.XLOOKUP(O722,'Liste des DT-EIC-SITES'!D:D,'Liste des DT-EIC-SITES'!C:C)","v":"EIC Paris Est Ouest Francilien"}]
[null,null,null,null,null,null,null,null,null,null,null,null,null,null,"Grandpuits-Bagneux",{"$f":"_xlfn.XLOOKUP(O723,'Liste des DT-EIC-SITES'!D:D,'Liste des DT-EIC-SITES'!C:C)","v":"EIC Paris Est Ouest Francilien"}]
[null,null,null,null,null,null,null,null,null,null,null,null,null,null,"Grandvilliers",{"$f":"_xlfn.XLOOKUP(O724,'Liste des DT-EIC-SITES'!D:D,'Liste des DT-EIC-SITES'!C:C)","v":"EIC Hauts de France"}]
[null,null,null,null,null,null,null,null,null,null,null,null,null,null,"Granville",{"$f":"_xlfn.XLOOKUP(O725,'Liste des DT-EIC-SITES'!D:D,'Liste des DT-EIC-SITES'!C:C)","v":"EIC Normandie"}]
[null,null,null,null,null,null,null,null,null,null,null,null,null,null,"Grasse",{"$f":"_xlfn.XLOOKUP(O726,'Liste des DT-EIC-SITES'!D:D,'Liste des DT-EIC-SITES'!C:C)","v":"EIC Provence Alpes Côte d'Azur"}]
[null,null,null,null,null,null,null,null,null,null,null,null,null,null,"Gravenchon-Port-Jérome",{"$f":"_xlfn.XLOOKUP(O727,'Liste des DT-EIC-SITES'!D:D,'Liste des DT-EIC-SITES'!C:C)","v":"EIC Normandie"}]
[null,null,null,null,null,null,null,null,null,null,null,null,null,null,"Gray",{"$f":"_xlfn.XLOOKUP(O728,'Liste des DT-EIC-SITES'!D:D,'Liste des DT-EIC-SITES'!C:C)","v":"EIC Bourgogne Franche Comté"}]
[null,null,null,null,null,null,null,null,null,null,null,null,null,null,"Grenoble",{"$f":"_xlfn.XLOOKUP(O729,'Liste des DT-EIC-SITES'!D:D,'Liste des DT-EIC-SITES'!C:C)","v":"EIC Alpes"}]
[null,null,null,null,null,null,null,null,null,null,null,null,null,null,"Grenoble-Université-Gières",{"$f":"_xlfn.XLOOKUP(O730,'Liste des DT-EIC-SITES'!D:D,'Liste des DT-EIC-SITES'!C:C)","v":"EIC Alpes"}]
[null,null,null,null,null,null,null,null,null,null,null,null,null,null,"Gresswiller",{"$f":"_xlfn.XLOOKUP(O731,'Liste des DT-EIC-SITES'!D:D,'Liste des DT-EIC-SITES'!C:C)","v":"EIC Alsace"}]
[null,null,null,null,null,null,null,null,null,null,null,null,null,null,"Grésy-sur-Aix",{"$f":"_xlfn.XLOOKUP(O732,'Liste des DT-EIC-SITES'!D:D,'Liste des DT-EIC-SITES'!C:C)","v":"EIC Alpes"}]
[null,null,null,null,null,null,null,null,null,null,null,null,null,null,"Grésy-sur-Isère",{"$f":"_xlfn.XLOOKUP(O733,'Liste des DT-EIC-SITES'!D:D,'Liste des DT-EIC-SITES'!C:C)","v":"EIC Alpes"}]
[null,null,null,null,null,null,null,null,null,null,null,null,null,null,"Gretz-Armainvilliers",{"$f":"_xlfn.XLOOKUP(O734,'Liste des DT-EIC-SITES'!D:D,'Liste des DT-EIC-SITES'!C:C)","v":"EIC Paris Est Ouest Francilien"}]
[null,null,null,null,null,null,null,null,null,null,null,null,null,null,"Grisolles",{"$f":"_xlfn.XLOOKUP(O735,'Liste des DT-EIC-SITES'!D:D,'Liste des DT-EIC-SITES'!C:C)","v":"EIC Midi Pyrénées"}]
[null,null,null,null,null,null,null,null,null,null,null,null,null,null,"Groisy-Thorens-la-Caille",{"$f":"_xlfn.XLOOKUP(O736,'Liste des DT-EIC-SITES'!D:D,'Liste des DT-EIC-SITES'!C:C)","v":"EIC Alpes"}]
[null,null,null,null,null,null,null,null,null,null,null,null,null,null,"Gudmont",{"$f":"_xlfn.XLOOKUP(O737,'Liste des DT-EIC-SITES'!D:D,'Liste des DT-EIC-SITES'!C:C)","v":"EIC Lorraine Champagne Ardenne"}]
[null,null,null,null,null,null,null,null,null,null,null,null,null,null,"Guéret",{"$f":"_xlfn.XLOOKUP(O738,'Liste des DT-EIC-SITES'!D:D,'Liste des DT-EIC-SITES'!C:C)","v":"EIC Centre Limousin"}]
[null,null,null,null,null,null,null,null,null,null,null,null,null,null,"Guignicourt",{"$f":"_xlfn.XLOOKUP(O739,'Liste des DT-EIC-SITES'!D:D,'Liste des DT-EIC-SITES'!C:C)","v":"EIC Lorraine Champagne Ardenne"}]
[null,null,null,null,null,null,null,null,null,null,null,null,null,null,"Guingamp",{"$f":"_xlfn.XLOOKUP(O740,'Liste des DT-EIC-SITES'!D:D,'Liste des DT-EIC-SITES'!C:C)","v":"EIC Bretagne Pays de la Loire"}]
[null,null,null,null,null,null,null,null,null,null,null,null,null,null,"Hagetmau",{"$f":"_xlfn.XLOOKUP(O741,'Liste des DT-EIC-SITES'!D:D,'Liste des DT-EIC-SITES'!C:C)","v":"EIC Aquitaine Poitou Charentes"}]
[null,null,null,null,null,null,null,null,null,null,null,null,null,null,"Hagondange",{"$f":"_xlfn.XLOOKUP(O742,'Liste des DT-EIC-SITES'!D:D,'Liste des DT-EIC-SITES'!C:C)","v":"EIC Lorraine Champagne Ardenne"}]
[null,null,null,null,null,null,null,null,null,null,null,null,null,null,"Haguenau",{"$f":"_xlfn.XLOOKUP(O743,'Liste des DT-EIC-SITES'!D:D,'Liste des DT-EIC-SITES'!C:C)","v":"EIC Alsace"}]
[null,null,null,null,null,null,null,null,null,null,null,null,null,null,"Ham",{"$f":"_xlfn.XLOOKUP(O744,'Liste des DT-EIC-SITES'!D:D,'Liste des DT-EIC-SITES'!C:C)","v":"EIC Hauts de France"}]
[null,null,null,null,null,null,null,null,null,null,null,null,null,null,"Hanvec",{"$f":"_xlfn.XLOOKUP(O745,'Liste des DT-EIC-SITES'!D:D,'Liste des DT-EIC-SITES'!C:C)","v":"EIC Bretagne Pays de la Loire"}]
[null,null,null,null,null,null,null,null,null,null,null,null,null,null,"Hargarten-Falck",{"$f":"_xlfn.XLOOKUP(O746,'Liste des DT-EIC-SITES'!D:D,'Liste des DT-EIC-SITES'!C:C)","v":"EIC Lorraine Champagne Ardenne"}]
[null,null,null,null,null,null,null,null,null,null,null,null,null,null,"Haubourdin",{"$f":"_xlfn.XLOOKUP(O747,'Liste des DT-EIC-SITES'!D:D,'Liste des DT-EIC-SITES'!C:C)","v":"EIC Hauts de France"}]
[null,null,null,null,null,null,null,null,null,null,null,null,null,null,"Hausbergen",{"$f":"_xlfn.XLOOKUP(O748,'Liste des DT-EIC-SITES'!D:D,'Liste des DT-EIC-SITES'!C:C)","v":"EIC Alsace"}]
[null,null,null,null,null,null,null,null,null,null,null,null,null,null,"Hautmont",{"$f":"_xlfn.XLOOKUP(O749,'Liste des DT-EIC-SITES'!D:D,'Liste des DT-EIC-SITES'!C:C)","v":"EIC Hauts de France"}]
[null,null,null,null,null,null,null,null,null,null,null,null,null,null,"Hayange",{"$f":"_xlfn.XLOOKUP(O750,'Liste des DT-EIC-SITES'!D:D,'Liste des DT-EIC-SITES'!C:C)","v":"EIC Lorraine Champagne Ardenne"}]
[null,null,null,null,null,null,null,null,null,null,null,null,null,null,"Hazebrouck",{"$f":"_xlfn.XLOOKUP(O751,'Liste des DT-EIC-SITES'!D:D,'Liste des DT-EIC-SITES'!C:C)","v":"EIC Hauts de France"}]
[null,null,null,null,null,null,null,null,null,null,null,null,null,null,"Héming",{"$f":"_xlfn.XLOOKUP(O752,'Liste des DT-EIC-SITES'!D:D,'Liste des DT-EIC-SITES'!C:C)","v":"EIC Alsace"}]
[null,null,null,null,null,null,null,null,null,null,null,null,null,null,"Hendaye",{"$f":"_xlfn.XLOOKUP(O753,'Liste des DT-EIC-SITES'!D:D,'Liste des DT-EIC-SITES'!C:C)","v":"EIC Aquitaine Poitou Charentes"}]
[null,null,null,null,null,null,null,null,null,null,null,null,null,null,"Hénin-Beaumont",{"$f":"_xlfn.XLOOKUP(O754,'Liste des DT-EIC-SITES'!D:D,'Liste des DT-EIC-SITES'!C:C)","v":"EIC Hauts de France"}]
[null,null,null,null,null,null,null,null,null,null,null,null,null,null,"Hennebont",{"$f":"_xlfn.XLOOKUP(O755,'Liste des DT-EIC-SITES'!D:D,'Liste des DT-EIC-SITES'!C:C)","v":"EIC Bretagne Pays de la Loire"}]
[null,null,null,null,null,null,null,null,null,null,null,null,null,null,"Héricourt",{"$f":"_xlfn.XLOOKUP(O756,'Liste des DT-EIC-SITES'!D:D,'Liste des DT-EIC-SITES'!C:C)","v":"EIC Alsace"}]
[null,null,null,null,null,null,null,null,null,null,null,null,null,null,"Héricy",{"$f":"_xlfn.XLOOKUP(O757,'Liste des DT-EIC-SITES'!D:D,'Liste des DT-EIC-SITES'!C:C)","v":"EIC Paris Sud Est"}]
[null,null,null,null,null,null,null,null,null,null,null,null,null,null,"Herrlisheim",{"$f":"_xlfn.XLOOKUP(O758,'Liste des DT-EIC-SITES'!D:D,'Liste des DT-EIC-SITES'!C:C)","v":"EIC Alsace"}]
[null,null,null,null,null,null,null,null,null,null,null,null,null,null,"Hesdin",{"$f":"_xlfn.XLOOKUP(O759,'Liste des DT-EIC-SITES'!D:D,'Liste des DT-EIC-SITES'!C:C)","v":"EIC Hauts de France"}]
[null,null,null,null,null,null,null,null,null,null,null,null,null,null,"Heyrieux",{"$f":"_xlfn.XLOOKUP(O760,'Liste des DT-EIC-SITES'!D:D,'Liste des DT-EIC-SITES'!C:C)","v":"EIC Rhône Alpes Lyon"}]
[null,null,null,null,null,null,null,null,null,null,null,null,null,null,"Hirson",{"$f":"_xlfn.XLOOKUP(O761,'Liste des DT-EIC-SITES'!D:D,'Liste des DT-EIC-SITES'!C:C)","v":"EIC Hauts de France"}]
[null,null,null,null,null,null,null,null,null,null,null,null,null,null,"Hochfelden",{"$f":"_xlfn.XLOOKUP(O762,'Liste des DT-EIC-SITES'!D:D,'Liste des DT-EIC-SITES'!C:C)","v":"EIC Alsace"}]
[null,null,null,null,null,null,null,null,null,null,null,null,null,null,"Honfleur",{"$f":"_xlfn.XLOOKUP(O763,'Liste des DT-EIC-SITES'!D:D,'Liste des DT-EIC-SITES'!C:C)","v":"EIC Normandie"}]
[null,null,null,null,null,null,null,null,null,null,null,null,null,null,"Huningue",{"$f":"_xlfn.XLOOKUP(O764,'Liste des DT-EIC-SITES'!D:D,'Liste des DT-EIC-SITES'!C:C)","v":"EIC Alsace"}]
[null,null,null,null,null,null,null,null,null,null,null,null,null,null,"Huriel",{"$f":"_xlfn.XLOOKUP(O765,'Liste des DT-EIC-SITES'!D:D,'Liste des DT-EIC-SITES'!C:C)","v":"EIC Auvergne Nivernais"}]
[null,null,null,null,null,null,null,null,null,null,null,null,null,null,"Hyères",{"$f":"_xlfn.XLOOKUP(O766,'Liste des DT-EIC-SITES'!D:D,'Liste des DT-EIC-SITES'!C:C)","v":"EIC Provence Alpes Côte d'Azur"}]
[null,null,null,null,null,null,null,null,null,null,null,null,null,null,"Île-Napoléon",{"$f":"_xlfn.XLOOKUP(O767,'Liste des DT-EIC-SITES'!D:D,'Liste des DT-EIC-SITES'!C:C)","v":"EIC Alsace"}]
[null,null,null,null,null,null,null,null,null,null,null,null,null,null,"Île-Napoléon-Garage",{"$f":"_xlfn.XLOOKUP(O768,'Liste des DT-EIC-SITES'!D:D,'Liste des DT-EIC-SITES'!C:C)","v":"EIC Alsace"}]
[null,null,null,null,null,null,null,null,null,null,null,null,null,null,"Ille-sur-Têt",{"$f":"_xlfn.XLOOKUP(O769,'Liste des DT-EIC-SITES'!D:D,'Liste des DT-EIC-SITES'!C:C)","v":"EIC Languedoc Roussillon"}]
[null,null,null,null,null,null,null,null,null,null,null,null,null,null,"Illiers-Combray",{"$f":"_xlfn.XLOOKUP(O770,'Liste des DT-EIC-SITES'!D:D,'Liste des DT-EIC-SITES'!C:C)","v":"EIC Centre Limousin"}]
[null,null,null,null,null,null,null,null,null,null,null,null,null,null,"Imphy",{"$f":"_xlfn.XLOOKUP(O771,'Liste des DT-EIC-SITES'!D:D,'Liste des DT-EIC-SITES'!C:C)","v":"EIC Auvergne Nivernais"}]
[null,null,null,null,null,null,null,null,null,null,null,null,null,null,"Incheville",{"$f":"_xlfn.XLOOKUP(O772,'Liste des DT-EIC-SITES'!D:D,'Liste des DT-EIC-SITES'!C:C)","v":"EIC Hauts de France"}]
[null,null,null,null,null,null,null,null,null,null,null,null,null,null,"Ingrandes-sur-Vienne",{"$f":"_xlfn.XLOOKUP(O773,'Liste des DT-EIC-SITES'!D:D,'Liste des DT-EIC-SITES'!C:C)","v":"EIC Aquitaine Poitou Charentes"}]
[null,null,null,null,null,null,null,null,null,null,null,null,null,null,"Isbergues",{"$f":"_xlfn.XLOOKUP(O774,'Liste des DT-EIC-SITES'!D:D,'Liste des DT-EIC-SITES'!C:C)","v":"EIC Hauts de France"}]
[null,null,null,null,null,null,null,null,null,null,null,null,null,null,"Isles-Armentières",{"$f":"_xlfn.XLOOKUP(O775,'Liste des DT-EIC-SITES'!D:D,'Liste des DT-EIC-SITES'!C:C)","v":"EIC Paris Est Ouest Francilien"}]
[null,null,null,null,null,null,null,null,null,null,null,null,null,null,"Issé",{"$f":"_xlfn.XLOOKUP(O776,'Liste des DT-EIC-SITES'!D:D,'Liste des DT-EIC-SITES'!C:C)","v":"EIC Bretagne Pays de la Loire"}]
[null,null,null,null,null,null,null,null,null,null,null,null,null,null,"Issoire",{"$f":"_xlfn.XLOOKUP(O777,'Liste des DT-EIC-SITES'!D:D,'Liste des DT-EIC-SITES'!C:C)","v":"EIC Auvergne Nivernais"}]
[null,null,null,null,null,null,null,null,null,null,null,null,null,null,"Issoudun",{"$f":"_xlfn.XLOOKUP(O778,'Liste des DT-EIC-SITES'!D:D,'Liste des DT-EIC-SITES'!C:C)","v":"EIC Centre Limousin"}]
[null,null,null,null,null,null,null,null,null,null,null,null,null,null,"Is-sur-Tille",{"$f":"_xlfn.XLOOKUP(O779,'Liste des DT-EIC-SITES'!D:D,'Liste des DT-EIC-SITES'!C:C)","v":"EIC Bourgogne Franche Comté"}]
[null,null,null,null,null,null,null,null,null,null,null,null,null,null,"Issy-Val-de-Seine",{"$f":"_xlfn.XLOOKUP(O780,'Liste des DT-EIC-SITES'!D:D,'Liste des DT-EIC-SITES'!C:C)","v":"EIC Paris Sud Ouest"}]
[null,null,null,null,null,null,null,null,null,null,null,null,null,null,"ITE 526,5",{"$f":"_xlfn.XLOOKUP(O781,'Liste des DT-EIC-SITES'!D:D,'Liste des DT-EIC-SITES'!C:C)","v":"EIC Alpes"}]
[null,null,null,null,null,null,null,null,null,null,null,null,null,null,"ITE Lambert Industrie",{"$f":"_xlfn.XLOOKUP(O782,'Liste des DT-EIC-SITES'!D:D,'Liste des DT-EIC-SITES'!C:C)","v":"EIC Bretagne Pays de la Loire"}]
[null,null,null,null,null,null,null,null,null,null,null,null,null,null,"ITE N°1",{"$f":"_xlfn.XLOOKUP(O783,'Liste des DT-EIC-SITES'!D:D,'Liste des DT-EIC-SITES'!C:C)","v":"EIC Alpes"}]
[null,null,null,null,null,null,null,null,null,null,null,null,null,null,"ITE Passenaud",{"$f":"_xlfn.XLOOKUP(O784,'Liste des DT-EIC-SITES'!D:D,'Liste des DT-EIC-SITES'!C:C)","v":"EIC Bretagne Pays de la Loire"}]
[null,null,null,null,null,null,null,null,null,null,null,null,null,null,"ITE Queguiner",{"$f":"_xlfn.XLOOKUP(O785,'Liste des DT-EIC-SITES'!D:D,'Liste des DT-EIC-SITES'!C:C)","v":"EIC Bretagne Pays de la Loire"}]
[null,null,null,null,null,null,null,null,null,null,null,null,null,null,"Ivry-sur-Seine",{"$f":"_xlfn.XLOOKUP(O786,'Liste des DT-EIC-SITES'!D:D,'Liste des DT-EIC-SITES'!C:C)","v":"EIC Paris Sud Ouest"}]
[null,null,null,null,null,null,null,null,null,null,null,null,null,null,"JABLINES LGV",{"$f":"_xlfn.XLOOKUP(O787,'Liste des DT-EIC-SITES'!D:D,'Liste des DT-EIC-SITES'!C:C)","v":"EIC Paris Nord"}]
[null,null,null,null,null,null,null,null,null,null,null,null,null,null,"Janville",{"$f":"_xlfn.XLOOKUP(O788,'Liste des DT-EIC-SITES'!D:D,'Liste des DT-EIC-SITES'!C:C)","v":"EIC Centre Limousin"}]
[null,null,null,null,null,null,null,null,null,null,null,null,null,null,"Janzé",{"$f":"_xlfn.XLOOKUP(O789,'Liste des DT-EIC-SITES'!D:D,'Liste des DT-EIC-SITES'!C:C)","v":"EIC Bretagne Pays de la Loire"}]
[null,null,null,null,null,null,null,null,null,null,null,null,null,null,"Jardres",{"$f":"_xlfn.XLOOKUP(O790,'Liste des DT-EIC-SITES'!D:D,'Liste des DT-EIC-SITES'!C:C)","v":"EIC Aquitaine Poitou Charentes"}]
[null,null,null,null,null,null,null,null,null,null,null,null,null,null,"Jarrie-Vizille",{"$f":"_xlfn.XLOOKUP(O791,'Liste des DT-EIC-SITES'!D:D,'Liste des DT-EIC-SITES'!C:C)","v":"EIC Alpes"}]
[null,null,null,null,null,null,null,null,null,null,null,null,null,null,"Jarville-la-Malgrange",{"$f":"_xlfn.XLOOKUP(O792,'Liste des DT-EIC-SITES'!D:D,'Liste des DT-EIC-SITES'!C:C)","v":"EIC Lorraine Champagne Ardenne"}]
[null,null,null,null,null,null,null,null,null,null,null,null,null,null,"Jessains",{"$f":"_xlfn.XLOOKUP(O793,'Liste des DT-EIC-SITES'!D:D,'Liste des DT-EIC-SITES'!C:C)","v":"EIC Lorraine Champagne Ardenne"}]
[null,null,null,null,null,null,null,null,null,null,null,null,null,null,"Jeumont",{"$f":"_xlfn.XLOOKUP(O794,'Liste des DT-EIC-SITES'!D:D,'Liste des DT-EIC-SITES'!C:C)","v":"EIC Hauts de France"}]
[null,null,null,null,null,null,null,null,null,null,null,null,null,null,"Joigny",{"$f":"_xlfn.XLOOKUP(O795,'Liste des DT-EIC-SITES'!D:D,'Liste des DT-EIC-SITES'!C:C)","v":"EIC Paris Sud Est"}]
[null,null,null,null,null,null,null,null,null,null,null,null,null,null,"Joinville",{"$f":"_xlfn.XLOOKUP(O796,'Liste des DT-EIC-SITES'!D:D,'Liste des DT-EIC-SITES'!C:C)","v":"EIC Lorraine Champagne Ardenne"}]
[null,null,null,null,null,null,null,null,null,null,null,null,null,null,"Jonzac",{"$f":"_xlfn.XLOOKUP(O797,'Liste des DT-EIC-SITES'!D:D,'Liste des DT-EIC-SITES'!C:C)","v":"EIC Aquitaine Poitou Charentes"}]
[null,null,null,null,null,null,null,null,null,null,null,null,null,null,"Joué-lès-Tours",{"$f":"_xlfn.XLOOKUP(O798,'Liste des DT-EIC-SITES'!D:D,'Liste des DT-EIC-SITES'!C:C)","v":"EIC Centre Limousin"}]
[null,null,null,null,null,null,null,null,null,null,null,null,null,null,"Jussey",{"$f":"_xlfn.XLOOKUP(O799,'Liste des DT-EIC-SITES'!D:D,'Liste des DT-EIC-SITES'!C:C)","v":"EIC Bourgogne Franche Comté"}]
[null,null,null,null,null,null,null,null,null,null,null,null,null,null,"Juvisy",{"$f":"_xlfn.XLOOKUP(O800,'Liste des DT-EIC-SITES'!D:D,'Liste des DT-EIC-SITES'!C:C)","v":"EIC Paris Sud Ouest"}]
[null,null,null,null,null,null,null,null,null,null,null,null,null,null,"Kalhausen",{"$f":"_xlfn.XLOOKUP(O801,'Liste des DT-EIC-SITES'!D:D,'Liste des DT-EIC-SITES'!C:C)","v":"EIC Lorraine Champagne Ardenne"}]
[null,null,null,null,null,null,null,null,null,null,null,null,null,null,"Kédange",{"$f":"_xlfn.XLOOKUP(O802,'Liste des DT-EIC-SITES'!D:D,'Liste des DT-EIC-SITES'!C:C)","v":"EIC Lorraine Champagne Ardenne"}]
[null,null,null,null,null,null,null,null,null,null,null,null,null,null,"Kerhuon",{"$f":"_xlfn.XLOOKUP(O803,'Liste des DT-EIC-SITES'!D:D,'Liste des DT-EIC-SITES'!C:C)","v":"EIC Bretagne Pays de la Loire"}]
[null,null,null,null,null,null,null,null,null,null,null,null,null,null,"Kuntzig",{"$f":"_xlfn.XLOOKUP(O804,'Liste des DT-EIC-SITES'!D:D,'Liste des DT-EIC-SITES'!C:C)","v":"EIC Lorraine Champagne Ardenne"}]
[null,null,null,null,null,null,null,null,null,null,null,null,null,null,"La Barque-Fuveau",{"$f":"_xlfn.XLOOKUP(O805,'Liste des DT-EIC-SITES'!D:D,'Liste des DT-EIC-SITES'!C:C)","v":"EIC Provence Alpes Côte d'Azur"}]
[null,null,null,null,null,null,null,null,null,null,null,null,null,null,"La Basse-Indre-St-Herblain",{"$f":"_xlfn.XLOOKUP(O806,'Liste des DT-EIC-SITES'!D:D,'Liste des DT-EIC-SITES'!C:C)","v":"EIC Bretagne Pays de la Loire"}]
[null,null,null,null,null,null,null,null,null,null,null,null,null,null,"La Bastide-St-Laurent-les-Bains",{"$f":"_xlfn.XLOOKUP(O807,'Liste des DT-EIC-SITES'!D:D,'Liste des DT-EIC-SITES'!C:C)","v":"EIC Languedoc Roussillon"}]
[null,null,null,null,null,null,null,null,null,null,null,null,null,null,"La Bâthie",{"$f":"_xlfn.XLOOKUP(O808,'Liste des DT-EIC-SITES'!D:D,'Liste des DT-EIC-SITES'!C:C)","v":"EIC Alpes"}]
[null,null,null,null,null,null,null,null,null,null,null,null,null,null,"La Baule-Escoublac",{"$f":"_xlfn.XLOOKUP(O809,'Liste des DT-EIC-SITES'!D:D,'Liste des DT-EIC-SITES'!C:C)","v":"EIC Bretagne Pays de la Loire"}]
[null,null,null,null,null,null,null,null,null,null,null,null,null,null,"La Bourboule",{"$f":"_xlfn.XLOOKUP(O810,'Liste des DT-EIC-SITES'!D:D,'Liste des DT-EIC-SITES'!C:C)","v":"EIC Auvergne Nivernais"}]
[null,null,null,null,null,null,null,null,null,null,null,null,null,null,"La Brillanne-Oraison",{"$f":"_xlfn.XLOOKUP(O811,'Liste des DT-EIC-SITES'!D:D,'Liste des DT-EIC-SITES'!C:C)","v":"EIC Provence Alpes Côte d'Azur"}]
[null,null,null,null,null,null,null,null,null,null,null,null,null,null,"La Brohinière",{"$f":"_xlfn.XLOOKUP(O812,'Liste des DT-EIC-SITES'!D:D,'Liste des DT-EIC-SITES'!C:C)","v":"EIC Bretagne Pays de la Loire"}]
[null,null,null,null,null,null,null,null,null,null,null,null,null,null,"La Chaize-le-Vicomte",{"$f":"_xlfn.XLOOKUP(O813,'Liste des DT-EIC-SITES'!D:D,'Liste des DT-EIC-SITES'!C:C)","v":"EIC Bretagne Pays de la Loire"}]
[null,null,null,null,null,null,null,null,null,null,null,null,null,null,"La Chapelle-Anthenaise",{"$f":"_xlfn.XLOOKUP(O814,'Liste des DT-EIC-SITES'!D:D,'Liste des DT-EIC-SITES'!C:C)","v":"EIC Bretagne Pays de la Loire"}]
[null,null,null,null,null,null,null,null,null,null,null,null,null,null,"La Chapelle-la-Reine",{"$f":"_xlfn.XLOOKUP(O815,'Liste des DT-EIC-SITES'!D:D,'Liste des DT-EIC-SITES'!C:C)","v":"EIC Paris Sud Est"}]
[null,null,null,null,null,null,null,null,null,null,null,null,null,null,"La Chapelle-St-Ursin-Morthomiers",{"$f":"_xlfn.XLOOKUP(O816,'Liste des DT-EIC-SITES'!D:D,'Liste des DT-EIC-SITES'!C:C)","v":"EIC Centre Limousin"}]
[null,null,null,null,null,null,null,null,null,null,null,null,null,null,"La Chapelle-Vendômoise",{"$f":"_xlfn.XLOOKUP(O817,'Liste des DT-EIC-SITES'!D:D,'Liste des DT-EIC-SITES'!C:C)","v":"EIC Centre Limousin"}]
[null,null,null,null,null,null,null,null,null,null,null,null,null,null,"La Charité-sur-Loire",{"$f":"_xlfn.XLOOKUP(O818,'Liste des DT-EIC-SITES'!D:D,'Liste des DT-EIC-SITES'!C:C)","v":"EIC Auvergne Nivernais"}]
[null,null,null,null,null,null,null,null,null,null,null,null,null,null,"La Chartre-sur-le-Loir",{"$f":"_xlfn.XLOOKUP(O819,'Liste des DT-EIC-SITES'!D:D,'Liste des DT-EIC-SITES'!C:C)","v":"EIC Bretagne Pays de la Loire"}]
[null,null,null,null,null,null,null,null,null,null,null,null,null,null,"La Ciotat",{"$f":"_xlfn.XLOOKUP(O820,'Liste des DT-EIC-SITES'!D:D,'Liste des DT-EIC-SITES'!C:C)","v":"EIC Provence Alpes Côte d'Azur"}]
[null,null,null,null,null,null,null,null,null,null,null,null,null,null,"La Clayette-Baudemont",{"$f":"_xlfn.XLOOKUP(O821,'Liste des DT-EIC-SITES'!D:D,'Liste des DT-EIC-SITES'!C:C)","v":"EIC Bourgogne Franche Comté"}]
[null,null,null,null,null,null,null,null,null,null,null,null,null,null,"La Coquille",{"$f":"_xlfn.XLOOKUP(O822,'Liste des DT-EIC-SITES'!D:D,'Liste des DT-EIC-SITES'!C:C)","v":"EIC Aquitaine Poitou Charentes"}]
[null,null,null,null,null,null,null,null,null,null,null,null,null,null,"La Couronne",{"$f":"_xlfn.XLOOKUP(O823,'Liste des DT-EIC-SITES'!D:D,'Liste des DT-EIC-SITES'!C:C)","v":"EIC Aquitaine Poitou Charentes"}]
[null,null,null,null,null,null,null,null,null,null,null,null,null,null,"La Crèche",{"$f":"_xlfn.XLOOKUP(O824,'Liste des DT-EIC-SITES'!D:D,'Liste des DT-EIC-SITES'!C:C)","v":"EIC Aquitaine Poitou Charentes"}]
[null,null,null,null,null,null,null,null,null,null,null,null,null,null,"La Défense",{"$f":"_xlfn.XLOOKUP(O825,'Liste des DT-EIC-SITES'!D:D,'Liste des DT-EIC-SITES'!C:C)","v":"EIC Paris Est Ouest Francilien"}]
[null,null,null,null,null,null,null,null,null,null,null,null,null,null,"La Ferté-Alais",{"$f":"_xlfn.XLOOKUP(O826,'Liste des DT-EIC-SITES'!D:D,'Liste des DT-EIC-SITES'!C:C)","v":"EIC Paris Sud Est"}]
[null,null,null,null,null,null,null,null,null,null,null,null,null,null,"La Ferté-Bernard",{"$f":"_xlfn.XLOOKUP(O827,'Liste des DT-EIC-SITES'!D:D,'Liste des DT-EIC-SITES'!C:C)","v":"EIC Bretagne Pays de la Loire"}]
[null,null,null,null,null,null,null,null,null,null,null,null,null,null,"La Ferté-Gaucher",{"$f":"_xlfn.XLOOKUP(O828,'Liste des DT-EIC-SITES'!D:D,'Liste des DT-EIC-SITES'!C:C)","v":"EIC Paris Est Ouest Francilien"}]
[null,null,null,null,null,null,null,null,null,null,null,null,null,null,"La Ferté-Hauterive",{"$f":"_xlfn.XLOOKUP(O829,'Liste des DT-EIC-SITES'!D:D,'Liste des DT-EIC-SITES'!C:C)","v":"EIC Auvergne Nivernais"}]
[null,null,null,null,null,null,null,null,null,null,null,null,null,null,"La Ferté-Milon",{"$f":"_xlfn.XLOOKUP(O830,'Liste des DT-EIC-SITES'!D:D,'Liste des DT-EIC-SITES'!C:C)","v":"EIC Paris Est Ouest Francilien"}]
[null,null,null,null,null,null,null,null,null,null,null,null,null,null,"La Ferté-sous-Jouarre",{"$f":"_xlfn.XLOOKUP(O831,'Liste des DT-EIC-SITES'!D:D,'Liste des DT-EIC-SITES'!C:C)","v":"EIC Paris Est Ouest Francilien"}]
[null,null,null,null,null,null,null,null,null,null,null,null,null,null,"La Ferté-St-Aubin",{"$f":"_xlfn.XLOOKUP(O832,'Liste des DT-EIC-SITES'!D:D,'Liste des DT-EIC-SITES'!C:C)","v":"EIC Centre Limousin"}]
[null,null,null,null,null,null,null,null,null,null,null,null,null,null,"La Fouillouse",{"$f":"_xlfn.XLOOKUP(O833,'Liste des DT-EIC-SITES'!D:D,'Liste des DT-EIC-SITES'!C:C)","v":"EIC Rhône Alpes Lyon"}]
[null,null,null,null,null,null,null,null,null,null,null,null,null,null,"La Foulonnerie",{"$f":"_xlfn.XLOOKUP(O834,'Liste des DT-EIC-SITES'!D:D,'Liste des DT-EIC-SITES'!C:C)","v":"EIC Centre Limousin"}]
[null,null,null,null,null,null,null,null,null,null,null,null,null,null,"La Freissinouse",{"$f":"_xlfn.XLOOKUP(O835,'Liste des DT-EIC-SITES'!D:D,'Liste des DT-EIC-SITES'!C:C)","v":"EIC Provence Alpes Côte d'Azur"}]
[null,null,null,null,null,null,null,null,null,null,null,null,null,null,"La Garenne-Colombes",{"$f":"_xlfn.XLOOKUP(O836,'Liste des DT-EIC-SITES'!D:D,'Liste des DT-EIC-SITES'!C:C)","v":"EIC Paris Est Ouest Francilien"}]
[null,null,null,null,null,null,null,null,null,null,null,null,null,null,"La Gélie",{"$f":"_xlfn.XLOOKUP(O837,'Liste des DT-EIC-SITES'!D:D,'Liste des DT-EIC-SITES'!C:C)","v":"EIC Aquitaine Poitou Charentes"}]
[null,null,null,null,null,null,null,null,null,null,null,null,null,null,"La Gravoine",{"$f":"_xlfn.XLOOKUP(O838,'Liste des DT-EIC-SITES'!D:D,'Liste des DT-EIC-SITES'!C:C)","v":"EIC Bourgogne Franche Comté"}]
[null,null,null,null,null,null,null,null,null,null,null,null,null,null,"La Guerche-sur-l'Aubois",{"$f":"_xlfn.XLOOKUP(O839,'Liste des DT-EIC-SITES'!D:D,'Liste des DT-EIC-SITES'!C:C)","v":"EIC Centre Limousin"}]
[null,null,null,null,null,null,null,null,null,null,null,null,null,null,"La Haye-Descartes",{"$f":"_xlfn.XLOOKUP(O840,'Liste des DT-EIC-SITES'!D:D,'Liste des DT-EIC-SITES'!C:C)","v":"EIC Centre Limousin"}]
[null,null,null,null,null,null,null,null,null,null,null,null,null,null,"La Hutte-Coulombiers",{"$f":"_xlfn.XLOOKUP(O841,'Liste des DT-EIC-SITES'!D:D,'Liste des DT-EIC-SITES'!C:C)","v":"EIC Bretagne Pays de la Loire"}]
[null,null,null,null,null,null,null,null,null,null,null,null,null,null,"La Loupe",{"$f":"_xlfn.XLOOKUP(O842,'Liste des DT-EIC-SITES'!D:D,'Liste des DT-EIC-SITES'!C:C)","v":"EIC Centre Limousin"}]
[null,null,null,null,null,null,null,null,null,null,null,null,null,null,"La Madeleine",{"$f":"_xlfn.XLOOKUP(O843,'Liste des DT-EIC-SITES'!D:D,'Liste des DT-EIC-SITES'!C:C)","v":"EIC Hauts de France"}]
[null,null,null,null,null,null,null,null,null,null,null,null,null,null,"La Meilleraie (Vendée)",{"$f":"_xlfn.XLOOKUP(O844,'Liste des DT-EIC-SITES'!D:D,'Liste des DT-EIC-SITES'!C:C)","v":"EIC Bretagne Pays de la Loire"}]
[null,null,null,null,null,null,null,null,null,null,null,null,null,null,"La Ménitré",{"$f":"_xlfn.XLOOKUP(O845,'Liste des DT-EIC-SITES'!D:D,'Liste des DT-EIC-SITES'!C:C)","v":"EIC Bretagne Pays de la Loire"}]
[null,null,null,null,null,null,null,null,null,null,null,null,null,null,"La Miouze-Rochefort",{"$f":"_xlfn.XLOOKUP(O846,'Liste des DT-EIC-SITES'!D:D,'Liste des DT-EIC-SITES'!C:C)","v":"EIC Auvergne Nivernais"}]
[null,null,null,null,null,null,null,null,null,null,null,null,null,null,"La Mothe-Achard",{"$f":"_xlfn.XLOOKUP(O847,'Liste des DT-EIC-SITES'!D:D,'Liste des DT-EIC-SITES'!C:C)","v":"EIC Bretagne Pays de la Loire"}]
[null,null,null,null,null,null,null,null,null,null,null,null,null,null,"La Mothe-St-Héray",{"$f":"_xlfn.XLOOKUP(O848,'Liste des DT-EIC-SITES'!D:D,'Liste des DT-EIC-SITES'!C:C)","v":"EIC Aquitaine Poitou Charentes"}]
[null,null,null,null,null,null,null,null,null,null,null,null,null,null,"La Motte-Ste-Rosseline",{"$f":"_xlfn.XLOOKUP(O849,'Liste des DT-EIC-SITES'!D:D,'Liste des DT-EIC-SITES'!C:C)","v":"EIC Provence Alpes Côte d'Azur"}]
[null,null,null,null,null,null,null,null,null,null,null,null,null,null,"La Pauline-Hyères",{"$f":"_xlfn.XLOOKUP(O850,'Liste des DT-EIC-SITES'!D:D,'Liste des DT-EIC-SITES'!C:C)","v":"EIC Provence Alpes Côte d'Azur"}]
[null,null,null,null,null,null,null,null,null,null,null,null,null,null,"La Pointe-Bouchemaine",{"$f":"_xlfn.XLOOKUP(O851,'Liste des DT-EIC-SITES'!D:D,'Liste des DT-EIC-SITES'!C:C)","v":"EIC Bretagne Pays de la Loire"}]
[null,null,null,null,null,null,null,null,null,null,null,null,null,null,"La Possonnière",{"$f":"_xlfn.XLOOKUP(O852,'Liste des DT-EIC-SITES'!D:D,'Liste des DT-EIC-SITES'!C:C)","v":"EIC Bretagne Pays de la Loire"}]
[null,null,null,null,null,null,null,null,null,null,null,null,null,null,"La Réole",{"$f":"_xlfn.XLOOKUP(O853,'Liste des DT-EIC-SITES'!D:D,'Liste des DT-EIC-SITES'!C:C)","v":"EIC Aquitaine Poitou Charentes"}]
[null,null,null,null,null,null,null,null,null,null,null,null,null,null,"La Rochefoucauld",{"$f":"_xlfn.XLOOKUP(O854,'Liste des DT-EIC-SITES'!D:D,'Liste des DT-EIC-SITES'!C:C)","v":"EIC Aquitaine Poitou Charentes"}]
[null,null,null,null,null,null,null,null,null,null,null,null,null,null,"La Rochelle-Ville",{"$f":"_xlfn.XLOOKUP(O855,'Liste des DT-EIC-SITES'!D:D,'Liste des DT-EIC-SITES'!C:C)","v":"EIC Aquitaine Poitou Charentes"}]
[null,null,null,null,null,null,null,null,null,null,null,null,null,null,"La Roche-sur-Foron",{"$f":"_xlfn.XLOOKUP(O856,'Liste des DT-EIC-SITES'!D:D,'Liste des DT-EIC-SITES'!C:C)","v":"EIC Alpes"}]
[null,null,null,null,null,null,null,null,null,null,null,null,null,null,"La Roche-sur-Yon",{"$f":"_xlfn.XLOOKUP(O857,'Liste des DT-EIC-SITES'!D:D,'Liste des DT-EIC-SITES'!C:C)","v":"EIC Bretagne Pays de la Loire"}]
[null,null,null,null,null,null,null,null,null,null,null,null,null,null,"La Roubinarie",{"$f":"_xlfn.XLOOKUP(O858,'Liste des DT-EIC-SITES'!D:D,'Liste des DT-EIC-SITES'!C:C)","v":"EIC Midi Pyrénées"}]
[null,null,null,null,null,null,null,null,null,null,null,null,null,null,"La Selle-en-Luitré",{"$f":"_xlfn.XLOOKUP(O859,'Liste des DT-EIC-SITES'!D:D,'Liste des DT-EIC-SITES'!C:C)","v":"EIC Bretagne Pays de la Loire"}]
[null,null,null,null,null,null,null,null,null,null,null,null,null,null,"La Seyne-Six-Fours",{"$f":"_xlfn.XLOOKUP(O860,'Liste des DT-EIC-SITES'!D:D,'Liste des DT-EIC-SITES'!C:C)","v":"EIC Provence Alpes Côte d'Azur"}]
[null,null,null,null,null,null,null,null,null,null,null,null,null,null,"La Souterraine",{"$f":"_xlfn.XLOOKUP(O861,'Liste des DT-EIC-SITES'!D:D,'Liste des DT-EIC-SITES'!C:C)","v":"EIC Centre Limousin"}]
[null,null,null,null,null,null,null,null,null,null,null,null,null,null,"La Suze",{"$f":"_xlfn.XLOOKUP(O862,'Liste des DT-EIC-SITES'!D:D,'Liste des DT-EIC-SITES'!C:C)","v":"EIC Bretagne Pays de la Loire"}]
[null,null,null,null,null,null,null,null,null,null,null,null,null,null,"La Taye",{"$f":"_xlfn.XLOOKUP(O863,'Liste des DT-EIC-SITES'!D:D,'Liste des DT-EIC-SITES'!C:C)","v":"EIC Centre Limousin"}]
[null,null,null,null,null,null,null,null,null,null,null,null,null,null,"La Teste",{"$f":"_xlfn.XLOOKUP(O864,'Liste des DT-EIC-SITES'!D:D,'Liste des DT-EIC-SITES'!C:C)","v":"EIC Aquitaine Poitou Charentes"}]
[null,null,null,null,null,null,null,null,null,null,null,null,null,null,"La Tricherie",{"$f":"_xlfn.XLOOKUP(O865,'Liste des DT-EIC-SITES'!D:D,'Liste des DT-EIC-SITES'!C:C)","v":"EIC Aquitaine Poitou Charentes"}]
[null,null,null,null,null,null,null,null,null,null,null,null,null,null,"la vache bonnaous",{"$f":"_xlfn.XLOOKUP(O866,'Liste des DT-EIC-SITES'!D:D,'Liste des DT-EIC-SITES'!C:C)","v":"EIC Aquitaine Poitou Charentes"}]
[null,null,null,null,null,null,null,null,null,null,null,null,null,null,"La Valbonne",{"$f":"_xlfn.XLOOKUP(O867,'Liste des DT-EIC-SITES'!D:D,'Liste des DT-EIC-SITES'!C:C)","v":"EIC Rhône Alpes Lyon"}]
[null,null,null,null,null,null,null,null,null,null,null,null,null,null,"La Vancelle",{"$f":"_xlfn.XLOOKUP(O868,'Liste des DT-EIC-SITES'!D:D,'Liste des DT-EIC-SITES'!C:C)","v":"EIC Alsace"}]
[null,null,null,null,null,null,null,null,null,null,null,null,null,null,"La Voulte-sur-Rhône",{"$f":"_xlfn.XLOOKUP(O869,'Liste des DT-EIC-SITES'!D:D,'Liste des DT-EIC-SITES'!C:C)","v":"EIC Rhône Alpes Lyon"}]
[null,null,null,null,null,null,null,null,null,null,null,null,null,null,"La Wantzenau",{"$f":"_xlfn.XLOOKUP(O870,'Liste des DT-EIC-SITES'!D:D,'Liste des DT-EIC-SITES'!C:C)","v":"EIC Alsace"}]
[null,null,null,null,null,null,null,null,null,null,null,null,null,null,"Labarthe-Avezac",{"$f":"_xlfn.XLOOKUP(O871,'Liste des DT-EIC-SITES'!D:D,'Liste des DT-EIC-SITES'!C:C)","v":"EIC Midi Pyrénées"}]
[null,null,null,null,null,null,null,null,null,null,null,null,null,null,"Labège-Village",{"$f":"_xlfn.XLOOKUP(O872,'Liste des DT-EIC-SITES'!D:D,'Liste des DT-EIC-SITES'!C:C)","v":"EIC Midi Pyrénées"}]
[null,null,null,null,null,null,null,null,null,null,null,null,null,null,"Labouheyre",{"$f":"_xlfn.XLOOKUP(O873,'Liste des DT-EIC-SITES'!D:D,'Liste des DT-EIC-SITES'!C:C)","v":"EIC Aquitaine Poitou Charentes"}]
[null,null,null,null,null,null,null,null,null,null,null,null,null,null,"Labruguière",{"$f":"_xlfn.XLOOKUP(O874,'Liste des DT-EIC-SITES'!D:D,'Liste des DT-EIC-SITES'!C:C)","v":"EIC Midi Pyrénées"}]
[null,null,null,null,null,null,null,null,null,null,null,null,null,null,"LACOUR D ARCENAY Faisceau pair 6 à 22",{"$f":"_xlfn.XLOOKUP(O875,'Liste des DT-EIC-SITES'!D:D,'Liste des DT-EIC-SITES'!C:C)","v":"EIC Paris Est Ouest Francilien"}]
[null,null,null,null,null,null,null,null,null,null,null,null,null,null,"Lacourtensourt",{"$f":"_xlfn.XLOOKUP(O876,'Liste des DT-EIC-SITES'!D:D,'Liste des DT-EIC-SITES'!C:C)","v":"EIC Midi Pyrénées"}]
[null,null,null,null,null,null,null,null,null,null,null,null,null,null,"Lacq",{"$f":"_xlfn.XLOOKUP(O877,'Liste des DT-EIC-SITES'!D:D,'Liste des DT-EIC-SITES'!C:C)","v":"EIC Aquitaine Poitou Charentes"}]
[null,null,null,null,null,null,null,null,null,null,null,null,null,null,"Laferté-sur-Amance",{"$f":"_xlfn.XLOOKUP(O878,'Liste des DT-EIC-SITES'!D:D,'Liste des DT-EIC-SITES'!C:C)","v":"EIC Lorraine Champagne Ardenne"}]
[null,null,null,null,null,null,null,null,null,null,null,null,null,null,"Lagnieu",{"$f":"_xlfn.XLOOKUP(O879,'Liste des DT-EIC-SITES'!D:D,'Liste des DT-EIC-SITES'!C:C)","v":"EIC Alpes"}]
[null,null,null,null,null,null,null,null,null,null,null,null,null,null,"Lagny-Thorigny",{"$f":"_xlfn.XLOOKUP(O880,'Liste des DT-EIC-SITES'!D:D,'Liste des DT-EIC-SITES'!C:C)","v":"EIC Paris Est Ouest Francilien"}]
[null,null,null,null,null,null,null,null,null,null,null,null,null,null,"Laguépie",{"$f":"_xlfn.XLOOKUP(O881,'Liste des DT-EIC-SITES'!D:D,'Liste des DT-EIC-SITES'!C:C)","v":"EIC Midi Pyrénées"}]
[null,null,null,null,null,null,null,null,null,null,null,null,null,null,"L'Aigle",{"$f":"_xlfn.XLOOKUP(O882,'Liste des DT-EIC-SITES'!D:D,'Liste des DT-EIC-SITES'!C:C)","v":"EIC Normandie"}]
[null,null,null,null,null,null,null,null,null,null,null,null,null,null,"Laignes",{"$f":"_xlfn.XLOOKUP(O883,'Liste des DT-EIC-SITES'!D:D,'Liste des DT-EIC-SITES'!C:C)","v":"EIC Bourgogne Franche Comté"}]
[null,null,null,null,null,null,null,null,null,null,null,null,null,null,"Laissey",{"$f":"_xlfn.XLOOKUP(O884,'Liste des DT-EIC-SITES'!D:D,'Liste des DT-EIC-SITES'!C:C)","v":"EIC Bourgogne Franche Comté"}]
[null,null,null,null,null,null,null,null,null,null,null,null,null,null,"Lalande-Église",{"$f":"_xlfn.XLOOKUP(O885,'Liste des DT-EIC-SITES'!D:D,'Liste des DT-EIC-SITES'!C:C)","v":"EIC Midi Pyrénées"}]
[null,null,null,null,null,null,null,null,null,null,null,null,null,null,"Lalbenque-Fontanes",{"$f":"_xlfn.XLOOKUP(O886,'Liste des DT-EIC-SITES'!D:D,'Liste des DT-EIC-SITES'!C:C)","v":"EIC Midi Pyrénées"}]
[null,null,null,null,null,null,null,null,null,null,null,null,null,null,"Lalinde",{"$f":"_xlfn.XLOOKUP(O887,'Liste des DT-EIC-SITES'!D:D,'Liste des DT-EIC-SITES'!C:C)","v":"EIC Aquitaine Poitou Charentes"}]
[null,null,null,null,null,null,null,null,null,null,null,null,null,null,"Laluque",{"$f":"_xlfn.XLOOKUP(O888,'Liste des DT-EIC-SITES'!D:D,'Liste des DT-EIC-SITES'!C:C)","v":"EIC Aquitaine Poitou Charentes"}]
[null,null,null,null,null,null,null,null,null,null,null,null,null,null,"Lamarche",{"$f":"_xlfn.XLOOKUP(O889,'Liste des DT-EIC-SITES'!D:D,'Liste des DT-EIC-SITES'!C:C)","v":"EIC Lorraine Champagne Ardenne"}]
[null,null,null,null,null,null,null,null,null,null,null,null,null,null,"Lamarche-sur-Saône",{"$f":"_xlfn.XLOOKUP(O890,'Liste des DT-EIC-SITES'!D:D,'Liste des DT-EIC-SITES'!C:C)","v":"EIC Bourgogne Franche Comté"}]
[null,null,null,null,null,null,null,null,null,null,null,null,null,null,"Lamativie",{"$f":"_xlfn.XLOOKUP(O891,'Liste des DT-EIC-SITES'!D:D,'Liste des DT-EIC-SITES'!C:C)","v":"EIC Auvergne Nivernais"}]
[null,null,null,null,null,null,null,null,null,null,null,null,null,null,"Lamballe",{"$f":"_xlfn.XLOOKUP(O892,'Liste des DT-EIC-SITES'!D:D,'Liste des DT-EIC-SITES'!C:C)","v":"EIC Bretagne Pays de la Loire"}]
[null,null,null,null,null,null,null,null,null,null,null,null,null,null,"LAMBESC LGV",{"$f":"_xlfn.XLOOKUP(O893,'Liste des DT-EIC-SITES'!D:D,'Liste des DT-EIC-SITES'!C:C)","v":"EIC Provence Alpes Côte d'Azur"}]
[null,null,null,null,null,null,null,null,null,null,null,null,null,null,"Lamothe-Fénelon",{"$f":"_xlfn.XLOOKUP(O894,'Liste des DT-EIC-SITES'!D:D,'Liste des DT-EIC-SITES'!C:C)","v":"EIC Midi Pyrénées"}]
[null,null,null,null,null,null,null,null,null,null,null,null,null,null,"Lamotte-Beuvron",{"$f":"_xlfn.XLOOKUP(O895,'Liste des DT-EIC-SITES'!D:D,'Liste des DT-EIC-SITES'!C:C)","v":"EIC Centre Limousin"}]
[null,null,null,null,null,null,null,null,null,null,null,null,null,null,"Lamotte-Breuil",{"$f":"_xlfn.XLOOKUP(O896,'Liste des DT-EIC-SITES'!D:D,'Liste des DT-EIC-SITES'!C:C)","v":"EIC Paris Nord"}]
[null,null,null,null,null,null,null,null,null,null,null,null,null,null,"Lamure-sur-Azergues",{"$f":"_xlfn.XLOOKUP(O897,'Liste des DT-EIC-SITES'!D:D,'Liste des DT-EIC-SITES'!C:C)","v":"EIC Rhône Alpes Lyon"}]
[null,null,null,null,null,null,null,null,null,null,null,null,null,null,"Landerneau",{"$f":"_xlfn.XLOOKUP(O898,'Liste des DT-EIC-SITES'!D:D,'Liste des DT-EIC-SITES'!C:C)","v":"EIC Bretagne Pays de la Loire"}]
[null,null,null,null,null,null,null,null,null,null,null,null,null,null,"Landivisiau",{"$f":"_xlfn.XLOOKUP(O899,'Liste des DT-EIC-SITES'!D:D,'Liste des DT-EIC-SITES'!C:C)","v":"EIC Bretagne Pays de la Loire"}]
[null,null,null,null,null,null,null,null,null,null,null,null,null,null,"Landrecies",{"$f":"_xlfn.XLOOKUP(O900,'Liste des DT-EIC-SITES'!D:D,'Liste des DT-EIC-SITES'!C:C)","v":"EIC Hauts de France"}]
[null,null,null,null,null,null,null,null,null,null,null,null,null,null,"Langeac",{"$f":"_xlfn.XLOOKUP(O901,'Liste des DT-EIC-SITES'!D:D,'Liste des DT-EIC-SITES'!C:C)","v":"EIC Auvergne Nivernais"}]
[null,null,null,null,null,null,null,null,null,null,null,null,null,null,"Langeais",{"$f":"_xlfn.XLOOKUP(O902,'Liste des DT-EIC-SITES'!D:D,'Liste des DT-EIC-SITES'!C:C)","v":"EIC Centre Limousin"}]
[null,null,null,null,null,null,null,null,null,null,null,null,null,null,"Langogne",{"$f":"_xlfn.XLOOKUP(O903,'Liste des DT-EIC-SITES'!D:D,'Liste des DT-EIC-SITES'!C:C)","v":"EIC Languedoc Roussillon"}]
[null,null,null,null,null,null,null,null,null,null,null,null,null,null,"Langon",{"$f":"_xlfn.XLOOKUP(O904,'Liste des DT-EIC-SITES'!D:D,'Liste des DT-EIC-SITES'!C:C)","v":"EIC Aquitaine Poitou Charentes"}]
[null,null,null,null,null,null,null,null,null,null,null,null,null,null,"Langres",{"$f":"_xlfn.XLOOKUP(O905,'Liste des DT-EIC-SITES'!D:D,'Liste des DT-EIC-SITES'!C:C)","v":"EIC Lorraine Champagne Ardenne"}]
[null,null,null,null,null,null,null,null,null,null,null,null,null,null,"Lannemezan",{"$f":"_xlfn.XLOOKUP(O906,'Liste des DT-EIC-SITES'!D:D,'Liste des DT-EIC-SITES'!C:C)","v":"EIC Midi Pyrénées"}]
[null,null,null,null,null,null,null,null,null,null,null,null,null,null,"Lannion",{"$f":"_xlfn.XLOOKUP(O907,'Liste des DT-EIC-SITES'!D:D,'Liste des DT-EIC-SITES'!C:C)","v":"EIC Bretagne Pays de la Loire"}]
[null,null,null,null,null,null,null,null,null,null,null,null,null,null,"Laon",{"$f":"_xlfn.XLOOKUP(O908,'Liste des DT-EIC-SITES'!D:D,'Liste des DT-EIC-SITES'!C:C)","v":"EIC Hauts de France"}]
[null,null,null,null,null,null,null,null,null,null,null,null,null,null,"Lapalisse-St-Prix",{"$f":"_xlfn.XLOOKUP(O909,'Liste des DT-EIC-SITES'!D:D,'Liste des DT-EIC-SITES'!C:C)","v":"EIC Auvergne Nivernais"}]
[null,null,null,null,null,null,null,null,null,null,null,null,null,null,"LAPALUD LGV",{"$f":"_xlfn.XLOOKUP(O910,'Liste des DT-EIC-SITES'!D:D,'Liste des DT-EIC-SITES'!C:C)","v":"EIC Rhône Alpes Lyon"}]
[null,null,null,null,null,null,null,null,null,null,null,null,null,null,"Lapeyrouse",{"$f":"_xlfn.XLOOKUP(O911,'Liste des DT-EIC-SITES'!D:D,'Liste des DT-EIC-SITES'!C:C)","v":"EIC Auvergne Nivernais"}]
[null,null,null,null,null,null,null,null,null,null,null,null,null,null,"LAPEYROUSE MORNAY",{"$f":"_xlfn.XLOOKUP(O912,'Liste des DT-EIC-SITES'!D:D,'Liste des DT-EIC-SITES'!C:C)","v":"EIC Rhône Alpes Lyon"}]
[null,null,null,null,null,null,null,null,null,null,null,null,null,null,"Laqueuille",{"$f":"_xlfn.XLOOKUP(O913,'Liste des DT-EIC-SITES'!D:D,'Liste des DT-EIC-SITES'!C:C)","v":"EIC Auvergne Nivernais"}]
[null,null,null,null,null,null,null,null,null,null,null,null,null,null,"Laragne",{"$f":"_xlfn.XLOOKUP(O914,'Liste des DT-EIC-SITES'!D:D,'Liste des DT-EIC-SITES'!C:C)","v":"EIC Provence Alpes Côte d'Azur"}]
[null,null,null,null,null,null,null,null,null,null,null,null,null,null,"L'Ardoise",{"$f":"_xlfn.XLOOKUP(O915,'Liste des DT-EIC-SITES'!D:D,'Liste des DT-EIC-SITES'!C:C)","v":"EIC Languedoc Roussillon"}]
[null,null,null,null,null,null,null,null,null,null,null,null,null,null,"L'Argentière-les-Écrins",{"$f":"_xlfn.XLOOKUP(O916,'Liste des DT-EIC-SITES'!D:D,'Liste des DT-EIC-SITES'!C:C)","v":"EIC Provence Alpes Côte d'Azur"}]
[null,null,null,null,null,null,null,null,null,null,null,null,null,null,"Laroche-Migennes",{"$f":"_xlfn.XLOOKUP(O917,'Liste des DT-EIC-SITES'!D:D,'Liste des DT-EIC-SITES'!C:C)","v":"EIC Paris Sud Est"}]
[null,null,null,null,null,null,null,null,null,null,null,null,null,null,"Laroquebrou",{"$f":"_xlfn.XLOOKUP(O918,'Liste des DT-EIC-SITES'!D:D,'Liste des DT-EIC-SITES'!C:C)","v":"EIC Auvergne Nivernais"}]
[null,null,null,null,null,null,null,null,null,null,null,null,null,null,"Larrazet",{"$f":"_xlfn.XLOOKUP(O919,'Liste des DT-EIC-SITES'!D:D,'Liste des DT-EIC-SITES'!C:C)","v":"EIC Midi Pyrénées"}]
[null,null,null,null,null,null,null,null,null,null,null,null,null,null,"Lasserre",{"$f":"_xlfn.XLOOKUP(O920,'Liste des DT-EIC-SITES'!D:D,'Liste des DT-EIC-SITES'!C:C)","v":"EIC Aquitaine Poitou Charentes"}]
[null,null,null,null,null,null,null,null,null,null,null,null,null,null,"Latour-de-Carol-Enveitg",{"$f":"_xlfn.XLOOKUP(O921,'Liste des DT-EIC-SITES'!D:D,'Liste des DT-EIC-SITES'!C:C)","v":"EIC Midi Pyrénées"}]
[null,null,null,null,null,null,null,null,null,null,null,null,null,null,"Laurens",{"$f":"_xlfn.XLOOKUP(O922,'Liste des DT-EIC-SITES'!D:D,'Liste des DT-EIC-SITES'!C:C)","v":"EIC Languedoc Roussillon"}]
[null,null,null,null,null,null,null,null,null,null,null,null,null,null,"LAURENT",{"$f":"_xlfn.XLOOKUP(O923,'Liste des DT-EIC-SITES'!D:D,'Liste des DT-EIC-SITES'!C:C)","v":"EIC Bourgogne Franche Comté"}]
[null,null,null,null,null,null,null,null,null,null,null,null,null,null,"Lauterbourg",{"$f":"_xlfn.XLOOKUP(O924,'Liste des DT-EIC-SITES'!D:D,'Liste des DT-EIC-SITES'!C:C)","v":"EIC Alsace"}]
[null,null,null,null,null,null,null,null,null,null,null,null,null,null,"Laval",{"$f":"_xlfn.XLOOKUP(O925,'Liste des DT-EIC-SITES'!D:D,'Liste des DT-EIC-SITES'!C:C)","v":"EIC Bretagne Pays de la Loire"}]
[null,null,null,null,null,null,null,null,null,null,null,null,null,null,"Laval-de-Cère",{"$f":"_xlfn.XLOOKUP(O926,'Liste des DT-EIC-SITES'!D:D,'Liste des DT-EIC-SITES'!C:C)","v":"EIC Centre Limousin"}]
[null,null,null,null,null,null,null,null,null,null,null,null,null,null,"Lavardac",{"$f":"_xlfn.XLOOKUP(O927,'Liste des DT-EIC-SITES'!D:D,'Liste des DT-EIC-SITES'!C:C)","v":"EIC Aquitaine Poitou Charentes"}]
[null,null,null,null,null,null,null,null,null,null,null,null,null,null,"Lavaufranche",{"$f":"_xlfn.XLOOKUP(O928,'Liste des DT-EIC-SITES'!D:D,'Liste des DT-EIC-SITES'!C:C)","v":"EIC Centre Limousin"}]
[null,null,null,null,null,null,null,null,null,null,null,null,null,null,"Lavaur",{"$f":"_xlfn.XLOOKUP(O929,'Liste des DT-EIC-SITES'!D:D,'Liste des DT-EIC-SITES'!C:C)","v":"EIC Midi Pyrénées"}]
[null,null,null,null,null,null,null,null,null,null,null,null,null,null,"Lavilledieu",{"$f":"_xlfn.XLOOKUP(O930,'Liste des DT-EIC-SITES'!D:D,'Liste des DT-EIC-SITES'!C:C)","v":"EIC Midi Pyrénées"}]
[null,null,null,null,null,null,null,null,null,null,null,null,null,null,"Layrac",{"$f":"_xlfn.XLOOKUP(O931,'Liste des DT-EIC-SITES'!D:D,'Liste des DT-EIC-SITES'!C:C)","v":"EIC Aquitaine Poitou Charentes"}]
[null,null,null,null,null,null,null,null,null,null,null,null,null,null,"Le Boucau",{"$f":"_xlfn.XLOOKUP(O932,'Liste des DT-EIC-SITES'!D:D,'Liste des DT-EIC-SITES'!C:C)","v":"EIC Aquitaine Poitou Charentes"}]
[null,null,null,null,null,null,null,null,null,null,null,null,null,null,"Le Boulou-Perthus",{"$f":"_xlfn.XLOOKUP(O933,'Liste des DT-EIC-SITES'!D:D,'Liste des DT-EIC-SITES'!C:C)","v":"EIC Languedoc Roussillon"}]
[null,null,null,null,null,null,null,null,null,null,null,null,null,null,"Le Bourget",{"$f":"_xlfn.XLOOKUP(O934,'Liste des DT-EIC-SITES'!D:D,'Liste des DT-EIC-SITES'!C:C)","v":"EIC Paris Nord"}]
[null,null,null,null,null,null,null,null,null,null,null,null,null,null,"Le Bousquet-d'Orb",{"$f":"_xlfn.XLOOKUP(O935,'Liste des DT-EIC-SITES'!D:D,'Liste des DT-EIC-SITES'!C:C)","v":"EIC Languedoc Roussillon"}]
[null,null,null,null,null,null,null,null,null,null,null,null,null,null,"Le Bugue",{"$f":"_xlfn.XLOOKUP(O936,'Liste des DT-EIC-SITES'!D:D,'Liste des DT-EIC-SITES'!C:C)","v":"EIC Aquitaine Poitou Charentes"}]
[null,null,null,null,null,null,null,null,null,null,null,null,null,null,"Le Buisson",{"$f":"_xlfn.XLOOKUP(O937,'Liste des DT-EIC-SITES'!D:D,'Liste des DT-EIC-SITES'!C:C)","v":"EIC Aquitaine Poitou Charentes"}]
[null,null,null,null,null,null,null,null,null,null,null,null,null,null,"Le Cateau",{"$f":"_xlfn.XLOOKUP(O938,'Liste des DT-EIC-SITES'!D:D,'Liste des DT-EIC-SITES'!C:C)","v":"EIC Hauts de France"}]
[null,null,null,null,null,null,null,null,null,null,null,null,null,null,"Le Cheylas-La Buissière",{"$f":"_xlfn.XLOOKUP(O939,'Liste des DT-EIC-SITES'!D:D,'Liste des DT-EIC-SITES'!C:C)","v":"EIC Alpes"}]
[null,null,null,null,null,null,null,null,null,null,null,null,null,null,"Le Coteau",{"$f":"_xlfn.XLOOKUP(O940,'Liste des DT-EIC-SITES'!D:D,'Liste des DT-EIC-SITES'!C:C)","v":"EIC Rhône Alpes Lyon"}]
[null,null,null,null,null,null,null,null,null,null,null,null,null,null,"Le Creusot",{"$f":"_xlfn.XLOOKUP(O941,'Liste des DT-EIC-SITES'!D:D,'Liste des DT-EIC-SITES'!C:C)","v":"EIC Bourgogne Franche Comté"}]
[null,null,null,null,null,null,null,null,null,null,null,null,null,null,"Le Creusot-Montceau-Montchanin",{"$f":"_xlfn.XLOOKUP(O942,'Liste des DT-EIC-SITES'!D:D,'Liste des DT-EIC-SITES'!C:C)","v":"EIC Bourgogne Franche Comté"}]
[null,null,null,null,null,null,null,null,null,null,null,null,null,null,"Le Croisic",{"$f":"_xlfn.XLOOKUP(O943,'Liste des DT-EIC-SITES'!D:D,'Liste des DT-EIC-SITES'!C:C)","v":"EIC Bretagne Pays de la Loire"}]
[null,null,null,null,null,null,null,null,null,null,null,null,null,null,"Le Dorat",{"$f":"_xlfn.XLOOKUP(O944,'Liste des DT-EIC-SITES'!D:D,'Liste des DT-EIC-SITES'!C:C)","v":"EIC Centre Limousin"}]
[null,null,null,null,null,null,null,null,null,null,null,null,null,null,"Le Douhet-Écoyeux",{"$f":"_xlfn.XLOOKUP(O945,'Liste des DT-EIC-SITES'!D:D,'Liste des DT-EIC-SITES'!C:C)","v":"EIC Aquitaine Poitou Charentes"}]
[null,null,null,null,null,null,null,null,null,null,null,null,null,null,"Le Got",{"$f":"_xlfn.XLOOKUP(O946,'Liste des DT-EIC-SITES'!D:D,'Liste des DT-EIC-SITES'!C:C)","v":"EIC Aquitaine Poitou Charentes"}]
[null,null,null,null,null,null,null,null,null,null,null,null,null,null,"Le Havre",{"$f":"_xlfn.XLOOKUP(O947,'Liste des DT-EIC-SITES'!D:D,'Liste des DT-EIC-SITES'!C:C)","v":"EIC Normandie"}]
[null,null,null,null,null,null,null,null,null,null,null,null,null,null,"Le Havre-Graville",{"$f":"_xlfn.XLOOKUP(O948,'Liste des DT-EIC-SITES'!D:D,'Liste des DT-EIC-SITES'!C:C)","v":"EIC Normandie"}]
[null,null,null,null,null,null,null,null,null,null,null,null,null,null,"Le Havre-Maritime",{"$f":"_xlfn.XLOOKUP(O949,'Liste des DT-EIC-SITES'!D:D,'Liste des DT-EIC-SITES'!C:C)","v":"EIC Normandie"}]
[null,null,null,null,null,null,null,null,null,null,null,null,null,null,"Le Légué",{"$f":"_xlfn.XLOOKUP(O950,'Liste des DT-EIC-SITES'!D:D,'Liste des DT-EIC-SITES'!C:C)","v":"EIC Bretagne Pays de la Loire"}]
[null,null,null,null,null,null,null,null,null,null,null,null,null,null,"Le Lioran",{"$f":"_xlfn.XLOOKUP(O951,'Liste des DT-EIC-SITES'!D:D,'Liste des DT-EIC-SITES'!C:C)","v":"EIC Auvergne Nivernais"}]
[null,null,null,null,null,null,null,null,null,null,null,null,null,null,"Le Luc-et-Le Cannet",{"$f":"_xlfn.XLOOKUP(O952,'Liste des DT-EIC-SITES'!D:D,'Liste des DT-EIC-SITES'!C:C)","v":"EIC Provence Alpes Côte d'Azur"}]
[null,null,null,null,null,null,null,null,null,null,null,null,null,null,"Le Mans",{"$f":"_xlfn.XLOOKUP(O953,'Liste des DT-EIC-SITES'!D:D,'Liste des DT-EIC-SITES'!C:C)","v":"EIC Bretagne Pays de la Loire"}]
[null,null,null,null,null,null,null,null,null,null,null,null,null,null,"Le Monastier",{"$f":"_xlfn.XLOOKUP(O954,'Liste des DT-EIC-SITES'!D:D,'Liste des DT-EIC-SITES'!C:C)","v":"EIC Languedoc Roussillon"}]
[null,null,null,null,null,null,null,null,null,null,null,null,null,null,"Le Petit-Thérain",{"$f":"_xlfn.XLOOKUP(O955,'Liste des DT-EIC-SITES'!D:D,'Liste des DT-EIC-SITES'!C:C)","v":"EIC Paris Nord"}]
[null,null,null,null,null,null,null,null,null,null,null,null,null,null,"Le Plessis faisceau LGV",{"$f":"_xlfn.XLOOKUP(O956,'Liste des DT-EIC-SITES'!D:D,'Liste des DT-EIC-SITES'!C:C)","v":"EIC Paris Sud Ouest"}]
[null,null,null,null,null,null,null,null,null,null,null,null,null,null,"Le Plessis-Belleville",{"$f":"_xlfn.XLOOKUP(O957,'Liste des DT-EIC-SITES'!D:D,'Liste des DT-EIC-SITES'!C:C)","v":"EIC Paris Nord"}]
[null,null,null,null,null,null,null,null,null,null,null,null,null,null,"Le Pontet",{"$f":"_xlfn.XLOOKUP(O958,'Liste des DT-EIC-SITES'!D:D,'Liste des DT-EIC-SITES'!C:C)","v":"EIC Provence Alpes Côte d'Azur"}]
[null,null,null,null,null,null,null,null,null,null,null,null,null,null,"Le Pouzin",{"$f":"_xlfn.XLOOKUP(O959,'Liste des DT-EIC-SITES'!D:D,'Liste des DT-EIC-SITES'!C:C)","v":"EIC Rhône Alpes Lyon"}]
[null,null,null,null,null,null,null,null,null,null,null,null,null,null,"Le Priory",{"$f":"_xlfn.XLOOKUP(O960,'Liste des DT-EIC-SITES'!D:D,'Liste des DT-EIC-SITES'!C:C)","v":"EIC Bretagne Pays de la Loire"}]
[null,null,null,null,null,null,null,null,null,null,null,null,null,null,"Le Puy-en-Velay",{"$f":"_xlfn.XLOOKUP(O961,'Liste des DT-EIC-SITES'!D:D,'Liste des DT-EIC-SITES'!C:C)","v":"EIC Auvergne Nivernais"}]
[null,null,null,null,null,null,null,null,null,null,null,null,null,null,"Le Quesnoy",{"$f":"_xlfn.XLOOKUP(O962,'Liste des DT-EIC-SITES'!D:D,'Liste des DT-EIC-SITES'!C:C)","v":"EIC Hauts de France"}]
[null,null,null,null,null,null,null,null,null,null,null,null,null,null,"Le Raincy-Villemomble-Montfermeil",{"$f":"_xlfn.XLOOKUP(O963,'Liste des DT-EIC-SITES'!D:D,'Liste des DT-EIC-SITES'!C:C)","v":"EIC Paris Nord"}]
[null,null,null,null,null,null,null,null,null,null,null,null,null,null,"Le Rody",{"$f":"_xlfn.XLOOKUP(O964,'Liste des DT-EIC-SITES'!D:D,'Liste des DT-EIC-SITES'!C:C)","v":"EIC Bretagne Pays de la Loire"}]
[null,null,null,null,null,null,null,null,null,null,null,null,null,null,"Le Teil",{"$f":"_xlfn.XLOOKUP(O965,'Liste des DT-EIC-SITES'!D:D,'Liste des DT-EIC-SITES'!C:C)","v":"EIC Rhône Alpes Lyon"}]
[null,null,null,null,null,null,null,null,null,null,null,null,null,null,"Le Theil-La Rouge",{"$f":"_xlfn.XLOOKUP(O966,'Liste des DT-EIC-SITES'!D:D,'Liste des DT-EIC-SITES'!C:C)","v":"EIC Centre Limousin"}]
[null,null,null,null,null,null,null,null,null,null,null,null,null,null,"Le Tréport-Mers",{"$f":"_xlfn.XLOOKUP(O967,'Liste des DT-EIC-SITES'!D:D,'Liste des DT-EIC-SITES'!C:C)","v":"EIC Hauts de France"}]
[null,null,null,null,null,null,null,null,null,null,null,null,null,null,"Le Valdahon",{"$f":"_xlfn.XLOOKUP(O968,'Liste des DT-EIC-SITES'!D:D,'Liste des DT-EIC-SITES'!C:C)","v":"EIC Bourgogne Franche Comté"}]
[null,null,null,null,null,null,null,null,null,null,null,null,null,null,"Le Verdon",{"$f":"_xlfn.XLOOKUP(O969,'Liste des DT-EIC-SITES'!D:D,'Liste des DT-EIC-SITES'!C:C)","v":"EIC Aquitaine Poitou Charentes"}]
[null,null,null,null,null,null,null,null,null,null,null,null,null,null,"Le Vert-de-Maisons",{"$f":"_xlfn.XLOOKUP(O970,'Liste des DT-EIC-SITES'!D:D,'Liste des DT-EIC-SITES'!C:C)","v":"EIC Paris Sud Est"}]
[null,null,null,null,null,null,null,null,null,null,null,null,null,null,"Léchelle (Seine-et-Marne)",{"$f":"_xlfn.XLOOKUP(O971,'Liste des DT-EIC-SITES'!D:D,'Liste des DT-EIC-SITES'!C:C)","v":"EIC Paris Est Ouest Francilien"}]
[null,null,null,null,null,null,null,null,null,null,null,null,null,null,"Lectoure",{"$f":"_xlfn.XLOOKUP(O972,'Liste des DT-EIC-SITES'!D:D,'Liste des DT-EIC-SITES'!C:C)","v":"EIC Aquitaine Poitou Charentes"}]
[null,null,null,null,null,null,null,null,null,null,null,null,null,null,"Leffrinckoucke",{"$f":"_xlfn.XLOOKUP(O973,'Liste des DT-EIC-SITES'!D:D,'Liste des DT-EIC-SITES'!C:C)","v":"EIC Hauts de France"}]
[null,null,null,null,null,null,null,null,null,null,null,null,null,null,"Lempdes (Haute-Loire)",{"$f":"_xlfn.XLOOKUP(O974,'Liste des DT-EIC-SITES'!D:D,'Liste des DT-EIC-SITES'!C:C)","v":"EIC Auvergne Nivernais"}]
[null,null,null,null,null,null,null,null,null,null,null,null,null,null,"Lens",{"$f":"_xlfn.XLOOKUP(O975,'Liste des DT-EIC-SITES'!D:D,'Liste des DT-EIC-SITES'!C:C)","v":"EIC Hauts de France"}]
[null,null,null,null,null,null,null,null,null,null,null,null,null,null,"Lérouville",{"$f":"_xlfn.XLOOKUP(O976,'Liste des DT-EIC-SITES'!D:D,'Liste des DT-EIC-SITES'!C:C)","v":"EIC Lorraine Champagne Ardenne"}]
[null,null,null,null,null,null,null,null,null,null,null,null,null,null,"Les Ancizes-St-Georges",{"$f":"_xlfn.XLOOKUP(O977,'Liste des DT-EIC-SITES'!D:D,'Liste des DT-EIC-SITES'!C:C)","v":"EIC Auvergne Nivernais"}]
[null,null,null,null,null,null,null,null,null,null,null,null,null,null,"Les Arcs-Draguignan",{"$f":"_xlfn.XLOOKUP(O978,'Liste des DT-EIC-SITES'!D:D,'Liste des DT-EIC-SITES'!C:C)","v":"EIC Provence Alpes Côte d'Azur"}]
[null,null,null,null,null,null,null,null,null,null,null,null,null,null,"Les Aubrais-Orléans",{"$f":"_xlfn.XLOOKUP(O979,'Liste des DT-EIC-SITES'!D:D,'Liste des DT-EIC-SITES'!C:C)","v":"EIC Centre Limousin"}]
[null,null,null,null,null,null,null,null,null,null,null,null,null,null,"Les Bordes",{"$f":"_xlfn.XLOOKUP(O980,'Liste des DT-EIC-SITES'!D:D,'Liste des DT-EIC-SITES'!C:C)","v":"EIC Centre Limousin"}]
[null,null,null,null,null,null,null,null,null,null,null,null,null,null,"Les Eyzies",{"$f":"_xlfn.XLOOKUP(O981,'Liste des DT-EIC-SITES'!D:D,'Liste des DT-EIC-SITES'!C:C)","v":"EIC Aquitaine Poitou Charentes"}]
[null,null,null,null,null,null,null,null,null,null,null,null,null,null,"Les Houches",{"$f":"_xlfn.XLOOKUP(O982,'Liste des DT-EIC-SITES'!D:D,'Liste des DT-EIC-SITES'!C:C)","v":"EIC Alpes"}]
[null,null,null,null,null,null,null,null,null,null,null,null,null,null,"Les Ifs",{"$f":"_xlfn.XLOOKUP(O983,'Liste des DT-EIC-SITES'!D:D,'Liste des DT-EIC-SITES'!C:C)","v":"EIC Normandie"}]
[null,null,null,null,null,null,null,null,null,null,null,null,null,null,"Les Lacs",{"$f":"_xlfn.XLOOKUP(O984,'Liste des DT-EIC-SITES'!D:D,'Liste des DT-EIC-SITES'!C:C)","v":"EIC Bretagne Pays de la Loire"}]
[null,null,null,null,null,null,null,null,null,null,null,null,null,null,"Les Laumes-Alésia",{"$f":"_xlfn.XLOOKUP(O985,'Liste des DT-EIC-SITES'!D:D,'Liste des DT-EIC-SITES'!C:C)","v":"EIC Bourgogne Franche Comté"}]
[null,null,null,null,null,null,null,null,null,null,null,null,null,null,"Les Longevilles-Rochejean",{"$f":"_xlfn.XLOOKUP(O986,'Liste des DT-EIC-SITES'!D:D,'Liste des DT-EIC-SITES'!C:C)","v":"EIC Bourgogne Franche Comté"}]
[null,null,null,null,null,null,null,null,null,null,null,null,null,null,"Les Mureaux",{"$f":"_xlfn.XLOOKUP(O987,'Liste des DT-EIC-SITES'!D:D,'Liste des DT-EIC-SITES'!C:C)","v":"EIC Paris Est Ouest Francilien"}]
[null,null,null,null,null,null,null,null,null,null,null,null,null,null,"Les Ormes-sur-Vienne",{"$f":"_xlfn.XLOOKUP(O988,'Liste des DT-EIC-SITES'!D:D,'Liste des DT-EIC-SITES'!C:C)","v":"EIC Aquitaine Poitou Charentes"}]
[null,null,null,null,null,null,null,null,null,null,null,null,null,null,"Les Portes de St-Cyr",{"$f":"_xlfn.XLOOKUP(O989,'Liste des DT-EIC-SITES'!D:D,'Liste des DT-EIC-SITES'!C:C)","v":"EIC Paris Est Ouest Francilien"}]
[null,null,null,null,null,null,null,null,null,null,null,null,null,null,"Les Sables-d'Olonne",{"$f":"_xlfn.XLOOKUP(O990,'Liste des DT-EIC-SITES'!D:D,'Liste des DT-EIC-SITES'!C:C)","v":"EIC Bretagne Pays de la Loire"}]
[null,null,null,null,null,null,null,null,null,null,null,null,null,null,"Lescar",{"$f":"_xlfn.XLOOKUP(O991,'Liste des DT-EIC-SITES'!D:D,'Liste des DT-EIC-SITES'!C:C)","v":"EIC Aquitaine Poitou Charentes"}]
[null,null,null,null,null,null,null,null,null,null,null,null,null,null,"L'Escarène",{"$f":"_xlfn.XLOOKUP(O992,'Liste des DT-EIC-SITES'!D:D,'Liste des DT-EIC-SITES'!C:C)","v":"EIC Provence Alpes Côte d'Azur"}]
[null,null,null,null,null,null,null,null,null,null,null,null,null,null,"Lesparre",{"$f":"_xlfn.XLOOKUP(O993,'Liste des DT-EIC-SITES'!D:D,'Liste des DT-EIC-SITES'!C:C)","v":"EIC Aquitaine Poitou Charentes"}]
[null,null,null,null,null,null,null,null,null,null,null,null,null,null,"Lesquin",{"$f":"_xlfn.XLOOKUP(O994,'Liste des DT-EIC-SITES'!D:D,'Liste des DT-EIC-SITES'!C:C)","v":"EIC Hauts de France"}]
[null,null,null,null,null,null,null,null,null,null,null,null,null,null,"L'Estaque",{"$f":"_xlfn.XLOOKUP(O995,'Liste des DT-EIC-SITES'!D:D,'Liste des DT-EIC-SITES'!C:C)","v":"EIC Provence Alpes Côte d'Azur"}]
[null,null,null,null,null,null,null,null,null,null,null,null,null,null,"Létrade",{"$f":"_xlfn.XLOOKUP(O996,'Liste des DT-EIC-SITES'!D:D,'Liste des DT-EIC-SITES'!C:C)","v":"EIC Auvergne Nivernais"}]
[null,null,null,null,null,null,null,null,null,null,null,null,null,null,"Leuglay-Voulaines",{"$f":"_xlfn.XLOOKUP(O997,'Liste des DT-EIC-SITES'!D:D,'Liste des DT-EIC-SITES'!C:C)","v":"EIC Paris Sud Est"}]
[null,null,null,null,null,null,null,null,null,null,null,null,null,null,"Lexos",{"$f":"_xlfn.XLOOKUP(O998,'Liste des DT-EIC-SITES'!D:D,'Liste des DT-EIC-SITES'!C:C)","v":"EIC Midi Pyrénées"}]
[null,null,null,null,null,null,null,null,null,null,null,null,null,null,"Leyment",{"$f":"_xlfn.XLOOKUP(O999,'Liste des DT-EIC-SITES'!D:D,'Liste des DT-EIC-SITES'!C:C)","v":"EIC Alpes"}]
[null,null,null,null,null,null,null,null,null,null,null,null,null,null,"Lézignan (Aude)",{"$f":"_xlfn.XLOOKUP(O1000,'Liste des DT-EIC-SITES'!D:D,'Liste des DT-EIC-SITES'!C:C)","v":"EIC Languedoc Roussillon"}]
[null,null,null,null,null,null,null,null,null,null,null,null,null,null,"Lézinnes",{"$f":"_xlfn.XLOOKUP(O1001,'Liste des DT-EIC-SITES'!D:D,'Liste des DT-EIC-SITES'!C:C)","v":"EIC Paris Sud Est"}]
[null,null,null,null,null,null,null,null,null,null,null,null,null,null,"Lezoux",{"$f":"_xlfn.XLOOKUP(O1002,'Liste des DT-EIC-SITES'!D:D,'Liste des DT-EIC-SITES'!C:C)","v":"EIC Auvergne Nivernais"}]
[null,null,null,null,null,null,null,null,null,null,null,null,null,null,"L'Herbergement-Les Brouzils",{"$f":"_xlfn.XLOOKUP(O1003,'Liste des DT-EIC-SITES'!D:D,'Liste des DT-EIC-SITES'!C:C)","v":"EIC Bretagne Pays de la Loire"}]
[null,null,null,null,null,null,null,null,null,null,null,null,null,null,"L'Hermitage-Mordelles",{"$f":"_xlfn.XLOOKUP(O1004,'Liste des DT-EIC-SITES'!D:D,'Liste des DT-EIC-SITES'!C:C)","v":"EIC Bretagne Pays de la Loire"}]
[null,null,null,null,null,null,null,null,null,null,null,null,null,null,"L'Hôpital-du-Grosbois",{"$f":"_xlfn.XLOOKUP(O1005,'Liste des DT-EIC-SITES'!D:D,'Liste des DT-EIC-SITES'!C:C)","v":"EIC Bourgogne Franche Comté"}]
[null,null,null,null,null,null,null,null,null,null,null,null,null,null,"L'Hospitalet-près-l'Andorre",{"$f":"_xlfn.XLOOKUP(O1006,'Liste des DT-EIC-SITES'!D:D,'Liste des DT-EIC-SITES'!C:C)","v":"EIC Midi Pyrénées"}]
[null,null,null,null,null,null,null,null,null,null,null,null,null,null,"Liancourt-Rantigny",{"$f":"_xlfn.XLOOKUP(O1007,'Liste des DT-EIC-SITES'!D:D,'Liste des DT-EIC-SITES'!C:C)","v":"EIC Paris Nord"}]
[null,null,null,null,null,null,null,null,null,null,null,null,null,null,"Liart",{"$f":"_xlfn.XLOOKUP(O1008,'Liste des DT-EIC-SITES'!D:D,'Liste des DT-EIC-SITES'!C:C)","v":"EIC Lorraine Champagne Ardenne"}]
[null,null,null,null,null,null,null,null,null,null,null,null,null,null,"Libercourt",{"$f":"_xlfn.XLOOKUP(O1009,'Liste des DT-EIC-SITES'!D:D,'Liste des DT-EIC-SITES'!C:C)","v":"EIC Hauts de France"}]
[null,null,null,null,null,null,null,null,null,null,null,null,null,null,"Libourne",{"$f":"_xlfn.XLOOKUP(O1010,'Liste des DT-EIC-SITES'!D:D,'Liste des DT-EIC-SITES'!C:C)","v":"EIC Aquitaine Poitou Charentes"}]
[null,null,null,null,null,null,null,null,null,null,null,null,null,null,"Liernais",{"$f":"_xlfn.XLOOKUP(O1011,'Liste des DT-EIC-SITES'!D:D,'Liste des DT-EIC-SITES'!C:C)","v":"EIC Bourgogne Franche Comté"}]
[null,null,null,null,null,null,null,null,null,null,null,null,null,null,"Liesse-Gizy",{"$f":"_xlfn.XLOOKUP(O1012,'Liste des DT-EIC-SITES'!D:D,'Liste des DT-EIC-SITES'!C:C)","v":"EIC Hauts de France"}]
[null,null,null,null,null,null,null,null,null,null,null,null,null,null,"Lieusaint-Moissy",{"$f":"_xlfn.XLOOKUP(O1013,'Liste des DT-EIC-SITES'!D:D,'Liste des DT-EIC-SITES'!C:C)","v":"EIC Paris Sud Est"}]
[null,null,null,null,null,null,null,null,null,null,null,null,null,null,"Liffol-le-Grand",{"$f":"_xlfn.XLOOKUP(O1014,'Liste des DT-EIC-SITES'!D:D,'Liste des DT-EIC-SITES'!C:C)","v":"EIC Lorraine Champagne Ardenne"}]
[null,null,null,null,null,null,null,null,null,null,null,null,null,null,"Ligny",{"$f":"_xlfn.XLOOKUP(O1015,'Liste des DT-EIC-SITES'!D:D,'Liste des DT-EIC-SITES'!C:C)","v":"EIC Lorraine Champagne Ardenne"}]
[null,null,null,null,null,null,null,null,null,null,null,null,null,null,"Lille-Champ-de-Mars",{"$f":"_xlfn.XLOOKUP(O1016,'Liste des DT-EIC-SITES'!D:D,'Liste des DT-EIC-SITES'!C:C)","v":"EIC Hauts de France"}]
[null,null,null,null,null,null,null,null,null,null,null,null,null,null,"Lille-Délivrance",{"$f":"_xlfn.XLOOKUP(O1017,'Liste des DT-EIC-SITES'!D:D,'Liste des DT-EIC-SITES'!C:C)","v":"EIC Hauts de France"}]
[null,null,null,null,null,null,null,null,null,null,null,null,null,null,"Lille-Flandres",{"$f":"_xlfn.XLOOKUP(O1018,'Liste des DT-EIC-SITES'!D:D,'Liste des DT-EIC-SITES'!C:C)","v":"EIC Hauts de France"}]
[null,null,null,null,null,null,null,null,null,null,null,null,null,null,"Lillers",{"$f":"_xlfn.XLOOKUP(O1019,'Liste des DT-EIC-SITES'!D:D,'Liste des DT-EIC-SITES'!C:C)","v":"EIC Hauts de France"}]
[null,null,null,null,null,null,null,null,null,null,null,null,null,null,"Lille-St-Sauveur",{"$f":"_xlfn.XLOOKUP(O1020,'Liste des DT-EIC-SITES'!D:D,'Liste des DT-EIC-SITES'!C:C)","v":"EIC Hauts de France"}]
[null,null,null,null,null,null,null,null,null,null,null,null,null,null,"Limay",{"$f":"_xlfn.XLOOKUP(O1021,'Liste des DT-EIC-SITES'!D:D,'Liste des DT-EIC-SITES'!C:C)","v":"EIC Paris Est Ouest Francilien"}]
[null,null,null,null,null,null,null,null,null,null,null,null,null,null,"Limoges-Bénédictins",{"$f":"_xlfn.XLOOKUP(O1022,'Liste des DT-EIC-SITES'!D:D,'Liste des DT-EIC-SITES'!C:C)","v":"EIC Centre Limousin"}]
[null,null,null,null,null,null,null,null,null,null,null,null,null,null,"Limoges-Montjovis",{"$f":"_xlfn.XLOOKUP(O1023,'Liste des DT-EIC-SITES'!D:D,'Liste des DT-EIC-SITES'!C:C)","v":"EIC Centre Limousin"}]
[null,null,null,null,null,null,null,null,null,null,null,null,null,null,"Limoges-Puy-Imbert",{"$f":"_xlfn.XLOOKUP(O1024,'Liste des DT-EIC-SITES'!D:D,'Liste des DT-EIC-SITES'!C:C)","v":"EIC Centre Limousin"}]
[null,null,null,null,null,null,null,null,null,null,null,null,null,null,"Limoux",{"$f":"_xlfn.XLOOKUP(O1025,'Liste des DT-EIC-SITES'!D:D,'Liste des DT-EIC-SITES'!C:C)","v":"EIC Languedoc Roussillon"}]
[null,null,null,null,null,null,null,null,null,null,null,null,null,null,"Lisieux",{"$f":"_xlfn.XLOOKUP(O1026,'Liste des DT-EIC-SITES'!D:D,'Liste des DT-EIC-SITES'!C:C)","v":"EIC Normandie"}]
[null,null,null,null,null,null,null,null,null,null,null,null,null,null,"L'Isle-Fontaine-de-Vaucluse",{"$f":"_xlfn.XLOOKUP(O1027,'Liste des DT-EIC-SITES'!D:D,'Liste des DT-EIC-SITES'!C:C)","v":"EIC Provence Alpes Côte d'Azur"}]
[null,null,null,null,null,null,null,null,null,null,null,null,null,null,"L'Isle-Jourdain",{"$f":"_xlfn.XLOOKUP(O1028,'Liste des DT-EIC-SITES'!D:D,'Liste des DT-EIC-SITES'!C:C)","v":"EIC Midi Pyrénées"}]
[null,null,null,null,null,null,null,null,null,null,null,null,null,null,"L'Isle-sur-le-Doubs",{"$f":"_xlfn.XLOOKUP(O1029,'Liste des DT-EIC-SITES'!D:D,'Liste des DT-EIC-SITES'!C:C)","v":"EIC Alsace"}]
[null,null,null,null,null,null,null,null,null,null,null,null,null,null,"Lison",{"$f":"_xlfn.XLOOKUP(O1030,'Liste des DT-EIC-SITES'!D:D,'Liste des DT-EIC-SITES'!C:C)","v":"EIC Normandie"}]
[null,null,null,null,null,null,null,null,null,null,null,null,null,null,"Livron",{"$f":"_xlfn.XLOOKUP(O1031,'Liste des DT-EIC-SITES'!D:D,'Liste des DT-EIC-SITES'!C:C)","v":"EIC Rhône Alpes Lyon"}]
[null,null,null,null,null,null,null,null,null,null,null,null,null,null,"Lizy-sur-Ourcq",{"$f":"_xlfn.XLOOKUP(O1032,'Liste des DT-EIC-SITES'!D:D,'Liste des DT-EIC-SITES'!C:C)","v":"EIC Paris Est Ouest Francilien"}]
[null,null,null,null,null,null,null,null,null,null,null,null,null,null,"Loches",{"$f":"_xlfn.XLOOKUP(O1033,'Liste des DT-EIC-SITES'!D:D,'Liste des DT-EIC-SITES'!C:C)","v":"EIC Centre Limousin"}]
[null,null,null,null,null,null,null,null,null,null,null,null,null,null,"Loire",{"$f":"_xlfn.XLOOKUP(O1034,'Liste des DT-EIC-SITES'!D:D,'Liste des DT-EIC-SITES'!C:C)","v":"EIC Rhône Alpes Lyon"}]
[null,null,null,null,null,null,null,null,null,null,null,null,null,null,"Loison-sous-Lens",{"$f":"_xlfn.XLOOKUP(O1035,'Liste des DT-EIC-SITES'!D:D,'Liste des DT-EIC-SITES'!C:C)","v":"EIC Hauts de France"}]
[null,null,null,null,null,null,null,null,null,null,null,null,null,null,"Lomme",{"$f":"_xlfn.XLOOKUP(O1036,'Liste des DT-EIC-SITES'!D:D,'Liste des DT-EIC-SITES'!C:C)","v":"EIC Hauts de France"}]
[null,null,null,null,null,null,null,null,null,null,null,null,null,null,"Longeray-Léaz",{"$f":"_xlfn.XLOOKUP(O1037,'Liste des DT-EIC-SITES'!D:D,'Liste des DT-EIC-SITES'!C:C)","v":"EIC Alpes"}]
[null,null,null,null,null,null,null,null,null,null,null,null,null,null,"Longjumeau",{"$f":"_xlfn.XLOOKUP(O1038,'Liste des DT-EIC-SITES'!D:D,'Liste des DT-EIC-SITES'!C:C)","v":"EIC Paris Sud Ouest"}]
[null,null,null,null,null,null,null,null,null,null,null,null,null,null,"Longué",{"$f":"_xlfn.XLOOKUP(O1039,'Liste des DT-EIC-SITES'!D:D,'Liste des DT-EIC-SITES'!C:C)","v":"EIC Bretagne Pays de la Loire"}]
[null,null,null,null,null,null,null,null,null,null,null,null,null,null,"Longueau",{"$f":"_xlfn.XLOOKUP(O1040,'Liste des DT-EIC-SITES'!D:D,'Liste des DT-EIC-SITES'!C:C)","v":"EIC Hauts de France"}]
[null,null,null,null,null,null,null,null,null,null,null,null,null,null,"Longueil-Ste-Marie",{"$f":"_xlfn.XLOOKUP(O1041,'Liste des DT-EIC-SITES'!D:D,'Liste des DT-EIC-SITES'!C:C)","v":"EIC Paris Nord"}]
[null,null,null,null,null,null,null,null,null,null,null,null,null,null,"Longueville",{"$f":"_xlfn.XLOOKUP(O1042,'Liste des DT-EIC-SITES'!D:D,'Liste des DT-EIC-SITES'!C:C)","v":"EIC Paris Est Ouest Francilien"}]
[null,null,null,null,null,null,null,null,null,null,null,null,null,null,"Longuyon",{"$f":"_xlfn.XLOOKUP(O1043,'Liste des DT-EIC-SITES'!D:D,'Liste des DT-EIC-SITES'!C:C)","v":"EIC Lorraine Champagne Ardenne"}]
[null,null,null,null,null,null,null,null,null,null,null,null,null,null,"Longwy",{"$f":"_xlfn.XLOOKUP(O1044,'Liste des DT-EIC-SITES'!D:D,'Liste des DT-EIC-SITES'!C:C)","v":"EIC Lorraine Champagne Ardenne"}]
[null,null,null,null,null,null,null,null,null,null,null,null,null,null,"Lons-le-Saunier",{"$f":"_xlfn.XLOOKUP(O1045,'Liste des DT-EIC-SITES'!D:D,'Liste des DT-EIC-SITES'!C:C)","v":"EIC Bourgogne Franche Comté"}]
[null,null,null,null,null,null,null,null,null,null,null,null,null,null,"Lorient",{"$f":"_xlfn.XLOOKUP(O1046,'Liste des DT-EIC-SITES'!D:D,'Liste des DT-EIC-SITES'!C:C)","v":"EIC Bretagne Pays de la Loire"}]
[null,null,null,null,null,null,null,null,null,null,null,null,null,null,"L'Orme-St-Pantaléon",{"$f":"_xlfn.XLOOKUP(O1047,'Liste des DT-EIC-SITES'!D:D,'Liste des DT-EIC-SITES'!C:C)","v":"EIC Bourgogne Franche Comté"}]
[null,null,null,null,null,null,null,null,null,null,null,null,null,null,"Lothiers",{"$f":"_xlfn.XLOOKUP(O1048,'Liste des DT-EIC-SITES'!D:D,'Liste des DT-EIC-SITES'!C:C)","v":"EIC Centre Limousin"}]
[null,null,null,null,null,null,null,null,null,null,null,null,null,null,"Loubaresse",{"$f":"_xlfn.XLOOKUP(O1049,'Liste des DT-EIC-SITES'!D:D,'Liste des DT-EIC-SITES'!C:C)","v":"EIC Auvergne Nivernais"}]
[null,null,null,null,null,null,null,null,null,null,null,null,null,null,"Loudéac",{"$f":"_xlfn.XLOOKUP(O1050,'Liste des DT-EIC-SITES'!D:D,'Liste des DT-EIC-SITES'!C:C)","v":"EIC Bretagne Pays de la Loire"}]
[null,null,null,null,null,null,null,null,null,null,null,null,null,null,"Loudrefing",{"$f":"_xlfn.XLOOKUP(O1051,'Liste des DT-EIC-SITES'!D:D,'Liste des DT-EIC-SITES'!C:C)","v":"EIC Alsace"}]
[null,null,null,null,null,null,null,null,null,null,null,null,null,null,"Loudun",{"$f":"_xlfn.XLOOKUP(O1052,'Liste des DT-EIC-SITES'!D:D,'Liste des DT-EIC-SITES'!C:C)","v":"EIC Bretagne Pays de la Loire"}]
[null,null,null,null,null,null,null,null,null,null,null,null,null,null,"Louhans",{"$f":"_xlfn.XLOOKUP(O1053,'Liste des DT-EIC-SITES'!D:D,'Liste des DT-EIC-SITES'!C:C)","v":"EIC Bourgogne Franche Comté"}]
[null,null,null,null,null,null,null,null,null,null,null,null,null,null,"Lourches",{"$f":"_xlfn.XLOOKUP(O1054,'Liste des DT-EIC-SITES'!D:D,'Liste des DT-EIC-SITES'!C:C)","v":"EIC Hauts de France"}]
[null,null,null,null,null,null,null,null,null,null,null,null,null,null,"Lourdes",{"$f":"_xlfn.XLOOKUP(O1055,'Liste des DT-EIC-SITES'!D:D,'Liste des DT-EIC-SITES'!C:C)","v":"EIC Midi Pyrénées"}]
[null,null,null,null,null,null,null,null,null,null,null,null,null,null,"Louviers",{"$f":"_xlfn.XLOOKUP(O1056,'Liste des DT-EIC-SITES'!D:D,'Liste des DT-EIC-SITES'!C:C)","v":"EIC Normandie"}]
[null,null,null,null,null,null,null,null,null,null,null,null,null,null,"Lozanne",{"$f":"_xlfn.XLOOKUP(O1057,'Liste des DT-EIC-SITES'!D:D,'Liste des DT-EIC-SITES'!C:C)","v":"EIC Rhône Alpes Lyon"}]
[null,null,null,null,null,null,null,null,null,null,null,null,null,null,"Lucé",{"$f":"_xlfn.XLOOKUP(O1058,'Liste des DT-EIC-SITES'!D:D,'Liste des DT-EIC-SITES'!C:C)","v":"EIC Centre Limousin"}]
[null,null,null,null,null,null,null,null,null,null,null,null,null,null,"Luc-en-Diois",{"$f":"_xlfn.XLOOKUP(O1059,'Liste des DT-EIC-SITES'!D:D,'Liste des DT-EIC-SITES'!C:C)","v":"EIC Rhône Alpes Lyon"}]
[null,null,null,null,null,null,null,null,null,null,null,null,null,null,"Luché",{"$f":"_xlfn.XLOOKUP(O1060,'Liste des DT-EIC-SITES'!D:D,'Liste des DT-EIC-SITES'!C:C)","v":"EIC Bretagne Pays de la Loire"}]
[null,null,null,null,null,null,null,null,null,null,null,null,null,null,"Luchon",{"$f":"_xlfn.XLOOKUP(O1061,'Liste des DT-EIC-SITES'!D:D,'Liste des DT-EIC-SITES'!C:C)","v":"EIC Midi Pyrénées"}]
[null,null,null,null,null,null,null,null,null,null,null,null,null,null,"Luçon",{"$f":"_xlfn.XLOOKUP(O1062,'Liste des DT-EIC-SITES'!D:D,'Liste des DT-EIC-SITES'!C:C)","v":"EIC Bretagne Pays de la Loire"}]
[null,null,null,null,null,null,null,null,null,null,null,null,null,null,"Luc-Primaube",{"$f":"_xlfn.XLOOKUP(O1063,'Liste des DT-EIC-SITES'!D:D,'Liste des DT-EIC-SITES'!C:C)","v":"EIC Midi Pyrénées"}]
[null,null,null,null,null,null,null,null,null,null,null,null,null,null,"Lumbres",{"$f":"_xlfn.XLOOKUP(O1064,'Liste des DT-EIC-SITES'!D:D,'Liste des DT-EIC-SITES'!C:C)","v":"EIC Hauts de France"}]
[null,null,null,null,null,null,null,null,null,null,null,null,null,null,"Lumes",{"$f":"_xlfn.XLOOKUP(O1065,'Liste des DT-EIC-SITES'!D:D,'Liste des DT-EIC-SITES'!C:C)","v":"EIC Lorraine Champagne Ardenne"}]
[null,null,null,null,null,null,null,null,null,null,null,null,null,null,"Lunel",{"$f":"_xlfn.XLOOKUP(O1066,'Liste des DT-EIC-SITES'!D:D,'Liste des DT-EIC-SITES'!C:C)","v":"EIC Languedoc Roussillon"}]
[null,null,null,null,null,null,null,null,null,null,null,null,null,null,"Lunery",{"$f":"_xlfn.XLOOKUP(O1067,'Liste des DT-EIC-SITES'!D:D,'Liste des DT-EIC-SITES'!C:C)","v":"EIC Centre Limousin"}]
[null,null,null,null,null,null,null,null,null,null,null,null,null,null,"Lunéville",{"$f":"_xlfn.XLOOKUP(O1068,'Liste des DT-EIC-SITES'!D:D,'Liste des DT-EIC-SITES'!C:C)","v":"EIC Lorraine Champagne Ardenne"}]
[null,null,null,null,null,null,null,null,null,null,null,null,null,null,"Lure",{"$f":"_xlfn.XLOOKUP(O1069,'Liste des DT-EIC-SITES'!D:D,'Liste des DT-EIC-SITES'!C:C)","v":"EIC Bourgogne Franche Comté"}]
[null,null,null,null,null,null,null,null,null,null,null,null,null,null,"Lusignan",{"$f":"_xlfn.XLOOKUP(O1070,'Liste des DT-EIC-SITES'!D:D,'Liste des DT-EIC-SITES'!C:C)","v":"EIC Aquitaine Poitou Charentes"}]
[null,null,null,null,null,null,null,null,null,null,null,null,null,null,"Lus-la-Croix-Haute",{"$f":"_xlfn.XLOOKUP(O1071,'Liste des DT-EIC-SITES'!D:D,'Liste des DT-EIC-SITES'!C:C)","v":"EIC Alpes"}]
[null,null,null,null,null,null,null,null,null,null,null,null,null,null,"Lussac-les-Châteaux",{"$f":"_xlfn.XLOOKUP(O1072,'Liste des DT-EIC-SITES'!D:D,'Liste des DT-EIC-SITES'!C:C)","v":"EIC Aquitaine Poitou Charentes"}]
[null,null,null,null,null,null,null,null,null,null,null,null,null,null,"Lutzelbourg",{"$f":"_xlfn.XLOOKUP(O1073,'Liste des DT-EIC-SITES'!D:D,'Liste des DT-EIC-SITES'!C:C)","v":"EIC Alsace"}]
[null,null,null,null,null,null,null,null,null,null,null,null,null,null,"Lux",{"$f":"_xlfn.XLOOKUP(O1074,'Liste des DT-EIC-SITES'!D:D,'Liste des DT-EIC-SITES'!C:C)","v":"EIC Paris Sud Est"}]
[null,null,null,null,null,null,null,null,null,null,null,null,null,null,"Luxé",{"$f":"_xlfn.XLOOKUP(O1075,'Liste des DT-EIC-SITES'!D:D,'Liste des DT-EIC-SITES'!C:C)","v":"EIC Aquitaine Poitou Charentes"}]
[null,null,null,null,null,null,null,null,null,null,null,null,null,null,"Luxeuil-les-Bains",{"$f":"_xlfn.XLOOKUP(O1076,'Liste des DT-EIC-SITES'!D:D,'Liste des DT-EIC-SITES'!C:C)","v":"EIC Bourgogne Franche Comté"}]
[null,null,null,null,null,null,null,null,null,null,null,null,null,null,"Luzenac-Garanou",{"$f":"_xlfn.XLOOKUP(O1077,'Liste des DT-EIC-SITES'!D:D,'Liste des DT-EIC-SITES'!C:C)","v":"EIC Midi Pyrénées"}]
[null,null,null,null,null,null,null,null,null,null,null,null,null,null,"Luzy",{"$f":"_xlfn.XLOOKUP(O1078,'Liste des DT-EIC-SITES'!D:D,'Liste des DT-EIC-SITES'!C:C)","v":"EIC Auvergne Nivernais"}]
[null,null,null,null,null,null,null,null,null,null,null,null,null,null,"Lyon-Gorge-de-Loup",{"$f":"_xlfn.XLOOKUP(O1079,'Liste des DT-EIC-SITES'!D:D,'Liste des DT-EIC-SITES'!C:C)","v":"EIC Rhône Alpes Lyon"}]
[null,null,null,null,null,null,null,null,null,null,null,null,null,null,"Lyon-Guillotière",{"$f":"_xlfn.XLOOKUP(O1080,'Liste des DT-EIC-SITES'!D:D,'Liste des DT-EIC-SITES'!C:C)","v":"EIC Rhône Alpes Lyon"}]
[null,null,null,null,null,null,null,null,null,null,null,null,null,null,"Lyon-Guillotière (Scaronne)",{"$f":"_xlfn.XLOOKUP(O1081,'Liste des DT-EIC-SITES'!D:D,'Liste des DT-EIC-SITES'!C:C)","v":"EIC Rhône Alpes Lyon"}]
[null,null,null,null,null,null,null,null,null,null,null,null,null,null,"Lyon-Part-Dieu",{"$f":"_xlfn.XLOOKUP(O1082,'Liste des DT-EIC-SITES'!D:D,'Liste des DT-EIC-SITES'!C:C)","v":"EIC Rhône Alpes Lyon"}]
[null,null,null,null,null,null,null,null,null,null,null,null,null,null,"Lyon-Perrache",{"$f":"_xlfn.XLOOKUP(O1083,'Liste des DT-EIC-SITES'!D:D,'Liste des DT-EIC-SITES'!C:C)","v":"EIC Rhône Alpes Lyon"}]
[null,null,null,null,null,null,null,null,null,null,null,null,null,null,"Lyon-Perrache-Marchandises",{"$f":"_xlfn.XLOOKUP(O1084,'Liste des DT-EIC-SITES'!D:D,'Liste des DT-EIC-SITES'!C:C)","v":"EIC Rhône Alpes Lyon"}]
[null,null,null,null,null,null,null,null,null,null,null,null,null,null,"Lyon-St-Clair",{"$f":"_xlfn.XLOOKUP(O1085,'Liste des DT-EIC-SITES'!D:D,'Liste des DT-EIC-SITES'!C:C)","v":"EIC Rhône Alpes Lyon"}]
[null,null,null,null,null,null,null,null,null,null,null,null,null,null,"Lyon-St-Exupéry-TGV",{"$f":"_xlfn.XLOOKUP(O1086,'Liste des DT-EIC-SITES'!D:D,'Liste des DT-EIC-SITES'!C:C)","v":"EIC Rhône Alpes Lyon"}]
[null,null,null,null,null,null,null,null,null,null,null,null,null,null,"Lyon-Vaise",{"$f":"_xlfn.XLOOKUP(O1087,'Liste des DT-EIC-SITES'!D:D,'Liste des DT-EIC-SITES'!C:C)","v":"EIC Rhône Alpes Lyon"}]
[null,null,null,null,null,null,null,null,null,null,null,null,null,null,"Mâcon-Ville",{"$f":"_xlfn.XLOOKUP(O1088,'Liste des DT-EIC-SITES'!D:D,'Liste des DT-EIC-SITES'!C:C)","v":"EIC Bourgogne Franche Comté"}]
[null,null,null,null,null,null,null,null,null,null,null,null,null,null,"Magalas",{"$f":"_xlfn.XLOOKUP(O1089,'Liste des DT-EIC-SITES'!D:D,'Liste des DT-EIC-SITES'!C:C)","v":"EIC Languedoc Roussillon"}]
[null,null,null,null,null,null,null,null,null,null,null,null,null,null,"Magland",{"$f":"_xlfn.XLOOKUP(O1090,'Liste des DT-EIC-SITES'!D:D,'Liste des DT-EIC-SITES'!C:C)","v":"EIC Alpes"}]
[null,null,null,null,null,null,null,null,null,null,null,null,null,null,"Mailly-le-Camp",{"$f":"_xlfn.XLOOKUP(O1091,'Liste des DT-EIC-SITES'!D:D,'Liste des DT-EIC-SITES'!C:C)","v":"EIC Lorraine Champagne Ardenne"}]
[null,null,null,null,null,null,null,null,null,null,null,null,null,null,"Maintenon",{"$f":"_xlfn.XLOOKUP(O1092,'Liste des DT-EIC-SITES'!D:D,'Liste des DT-EIC-SITES'!C:C)","v":"EIC Centre Limousin"}]
[null,null,null,null,null,null,null,null,null,null,null,null,null,null,"Maison-Rouge-en-Brie",{"$f":"_xlfn.XLOOKUP(O1093,'Liste des DT-EIC-SITES'!D:D,'Liste des DT-EIC-SITES'!C:C)","v":"EIC Paris Est Ouest Francilien"}]
[null,null,null,null,null,null,null,null,null,null,null,null,null,null,"Maisse",{"$f":"_xlfn.XLOOKUP(O1094,'Liste des DT-EIC-SITES'!D:D,'Liste des DT-EIC-SITES'!C:C)","v":"EIC Paris Sud Est"}]
[null,null,null,null,null,null,null,null,null,null,null,null,null,null,"Mâlain",{"$f":"_xlfn.XLOOKUP(O1095,'Liste des DT-EIC-SITES'!D:D,'Liste des DT-EIC-SITES'!C:C)","v":"EIC Bourgogne Franche Comté"}]
[null,null,null,null,null,null,null,null,null,null,null,null,null,null,"Malaunay-Le Houlme",{"$f":"_xlfn.XLOOKUP(O1096,'Liste des DT-EIC-SITES'!D:D,'Liste des DT-EIC-SITES'!C:C)","v":"EIC Normandie"}]
[null,null,null,null,null,null,null,null,null,null,null,null,null,null,"Malause",{"$f":"_xlfn.XLOOKUP(O1097,'Liste des DT-EIC-SITES'!D:D,'Liste des DT-EIC-SITES'!C:C)","v":"EIC Midi Pyrénées"}]
[null,null,null,null,null,null,null,null,null,null,null,null,null,null,"Malesherbes",{"$f":"_xlfn.XLOOKUP(O1098,'Liste des DT-EIC-SITES'!D:D,'Liste des DT-EIC-SITES'!C:C)","v":"EIC Paris Sud Est"}]
[null,null,null,null,null,null,null,null,null,null,null,null,null,null,"Manlay",{"$f":"_xlfn.XLOOKUP(O1099,'Liste des DT-EIC-SITES'!D:D,'Liste des DT-EIC-SITES'!C:C)","v":"EIC Bourgogne Franche Comté"}]
[null,null,null,null,null,null,null,null,null,null,null,null,null,null,"Manoeuvres Marseille St Charles",{"$f":"_xlfn.XLOOKUP(O1100,'Liste des DT-EIC-SITES'!D:D,'Liste des DT-EIC-SITES'!C:C)","v":"EIC Provence Alpes Côte d'Azur"}]
[null,null,null,null,null,null,null,null,null,null,null,null,null,null,"Manois",{"$f":"_xlfn.XLOOKUP(O1101,'Liste des DT-EIC-SITES'!D:D,'Liste des DT-EIC-SITES'!C:C)","v":"EIC Lorraine Champagne Ardenne"}]
[null,null,null,null,null,null,null,null,null,null,null,null,null,null,"Manosque-Gréoux-les-Bains",{"$f":"_xlfn.XLOOKUP(O1102,'Liste des DT-EIC-SITES'!D:D,'Liste des DT-EIC-SITES'!C:C)","v":"EIC Provence Alpes Côte d'Azur"}]
[null,null,null,null,null,null,null,null,null,null,null,null,null,null,"Mantes-la-Jolie",{"$f":"_xlfn.XLOOKUP(O1103,'Liste des DT-EIC-SITES'!D:D,'Liste des DT-EIC-SITES'!C:C)","v":"EIC Paris Est Ouest Francilien"}]
[null,null,null,null,null,null,null,null,null,null,null,null,null,null,"Manthes-Lapeyrouse",{"$f":"_xlfn.XLOOKUP(O1104,'Liste des DT-EIC-SITES'!D:D,'Liste des DT-EIC-SITES'!C:C)","v":"EIC Auvergne Nivernais"}]
[null,null,null,null,null,null,null,null,null,null,null,null,null,null,"Marais-de-Lomme",{"$f":"_xlfn.XLOOKUP(O1105,'Liste des DT-EIC-SITES'!D:D,'Liste des DT-EIC-SITES'!C:C)","v":"EIC Hauts de France"}]
[null,null,null,null,null,null,null,null,null,null,null,null,null,null,"Marans",{"$f":"_xlfn.XLOOKUP(O1106,'Liste des DT-EIC-SITES'!D:D,'Liste des DT-EIC-SITES'!C:C)","v":"EIC Aquitaine Poitou Charentes"}]
[null,null,null,null,null,null,null,null,null,null,null,null,null,null,"Marcellaz-Hauteville",{"$f":"_xlfn.XLOOKUP(O1107,'Liste des DT-EIC-SITES'!D:D,'Liste des DT-EIC-SITES'!C:C)","v":"EIC Alpes"}]
[null,null,null,null,null,null,null,null,null,null,null,null,null,null,"Marcheprime",{"$f":"_xlfn.XLOOKUP(O1108,'Liste des DT-EIC-SITES'!D:D,'Liste des DT-EIC-SITES'!C:C)","v":"EIC Aquitaine Poitou Charentes"}]
[null,null,null,null,null,null,null,null,null,null,null,null,null,null,"Marck",{"$f":"_xlfn.XLOOKUP(O1109,'Liste des DT-EIC-SITES'!D:D,'Liste des DT-EIC-SITES'!C:C)","v":"EIC Hauts de France"}]
[null,null,null,null,null,null,null,null,null,null,null,null,null,null,"Margaux",{"$f":"_xlfn.XLOOKUP(O1110,'Liste des DT-EIC-SITES'!D:D,'Liste des DT-EIC-SITES'!C:C)","v":"EIC Aquitaine Poitou Charentes"}]
[null,null,null,null,null,null,null,null,null,null,null,null,null,null,"Margut-Fromy",{"$f":"_xlfn.XLOOKUP(O1111,'Liste des DT-EIC-SITES'!D:D,'Liste des DT-EIC-SITES'!C:C)","v":"EIC Lorraine Champagne Ardenne"}]
[null,null,null,null,null,null,null,null,null,null,null,null,null,null,"Marignac-St-Béat",{"$f":"_xlfn.XLOOKUP(O1112,'Liste des DT-EIC-SITES'!D:D,'Liste des DT-EIC-SITES'!C:C)","v":"EIC Midi Pyrénées"}]
[null,null,null,null,null,null,null,null,null,null,null,null,null,null,"Marignier",{"$f":"_xlfn.XLOOKUP(O1113,'Liste des DT-EIC-SITES'!D:D,'Liste des DT-EIC-SITES'!C:C)","v":"EIC Alpes"}]
[null,null,null,null,null,null,null,null,null,null,null,null,null,null,"Marles-en-Brie",{"$f":"_xlfn.XLOOKUP(O1114,'Liste des DT-EIC-SITES'!D:D,'Liste des DT-EIC-SITES'!C:C)","v":"EIC Paris Est Ouest Francilien"}]
[null,null,null,null,null,null,null,null,null,null,null,null,null,null,"Marle-sur-Serre",{"$f":"_xlfn.XLOOKUP(O1115,'Liste des DT-EIC-SITES'!D:D,'Liste des DT-EIC-SITES'!C:C)","v":"EIC Hauts de France"}]
[null,null,null,null,null,null,null,null,null,null,null,null,null,null,"Marly-le-Roi",{"$f":"_xlfn.XLOOKUP(O1116,'Liste des DT-EIC-SITES'!D:D,'Liste des DT-EIC-SITES'!C:C)","v":"EIC Paris Est Ouest Francilien"}]
[null,null,null,null,null,null,null,null,null,null,null,null,null,null,"Marmande",{"$f":"_xlfn.XLOOKUP(O1117,'Liste des DT-EIC-SITES'!D:D,'Liste des DT-EIC-SITES'!C:C)","v":"EIC Aquitaine Poitou Charentes"}]
[null,null,null,null,null,null,null,null,null,null,null,null,null,null,"Marne-la-Vallée-Chessy",{"$f":"_xlfn.XLOOKUP(O1118,'Liste des DT-EIC-SITES'!D:D,'Liste des DT-EIC-SITES'!C:C)","v":"EIC Paris Sud Est"}]
[null,null,null,null,null,null,null,null,null,null,null,null,null,null,"MAROLLES Faisceau Impair V13 à V15",{"$f":"_xlfn.XLOOKUP(O1119,'Liste des DT-EIC-SITES'!D:D,'Liste des DT-EIC-SITES'!C:C)","v":"EIC Paris Sud Est"}]
[null,null,null,null,null,null,null,null,null,null,null,null,null,null,"MAROLLES Faisceau Impair V5 à V9",{"$f":"_xlfn.XLOOKUP(O1120,'Liste des DT-EIC-SITES'!D:D,'Liste des DT-EIC-SITES'!C:C)","v":"EIC Paris Sud Est"}]
[null,null,null,null,null,null,null,null,null,null,null,null,null,null,"Marolles-en-Hurepoix",{"$f":"_xlfn.XLOOKUP(O1121,'Liste des DT-EIC-SITES'!D:D,'Liste des DT-EIC-SITES'!C:C)","v":"EIC Paris Sud Ouest"}]
[null,null,null,null,null,null,null,null,null,null,null,null,null,null,"Maromme",{"$f":"_xlfn.XLOOKUP(O1122,'Liste des DT-EIC-SITES'!D:D,'Liste des DT-EIC-SITES'!C:C)","v":"EIC Normandie"}]
[null,null,null,null,null,null,null,null,null,null,null,null,null,null,"Marquise-Rinxent",{"$f":"_xlfn.XLOOKUP(O1123,'Liste des DT-EIC-SITES'!D:D,'Liste des DT-EIC-SITES'!C:C)","v":"EIC Hauts de France"}]
[null,null,null,null,null,null,null,null,null,null,null,null,null,null,"Marracq",{"$f":"_xlfn.XLOOKUP(O1124,'Liste des DT-EIC-SITES'!D:D,'Liste des DT-EIC-SITES'!C:C)","v":"EIC Aquitaine Poitou Charentes"}]
[null,null,null,null,null,null,null,null,null,null,null,null,null,null,"Marseille-Blancarde",{"$f":"_xlfn.XLOOKUP(O1125,'Liste des DT-EIC-SITES'!D:D,'Liste des DT-EIC-SITES'!C:C)","v":"EIC Provence Alpes Côte d'Azur"}]
[null,null,null,null,null,null,null,null,null,null,null,null,null,null,"Marseille-Maritime-Arenc",{"$f":"_xlfn.XLOOKUP(O1126,'Liste des DT-EIC-SITES'!D:D,'Liste des DT-EIC-SITES'!C:C)","v":"EIC Provence Alpes Côte d'Azur"}]
[null,null,null,null,null,null,null,null,null,null,null,null,null,null,"Marseille-Maritime-Canet",{"$f":"_xlfn.XLOOKUP(O1127,'Liste des DT-EIC-SITES'!D:D,'Liste des DT-EIC-SITES'!C:C)","v":"EIC Provence Alpes Côte d'Azur"}]
[null,null,null,null,null,null,null,null,null,null,null,null,null,null,"Marseille-Prado",{"$f":"_xlfn.XLOOKUP(O1128,'Liste des DT-EIC-SITES'!D:D,'Liste des DT-EIC-SITES'!C:C)","v":"EIC Provence Alpes Côte d'Azur"}]
[null,null,null,null,null,null,null,null,null,null,null,null,null,null,"Marseilles-lès-Aubigny",{"$f":"_xlfn.XLOOKUP(O1129,'Liste des DT-EIC-SITES'!D:D,'Liste des DT-EIC-SITES'!C:C)","v":"EIC Centre Limousin"}]
[null,null,null,null,null,null,null,null,null,null,null,null,null,null,"Marseille-St-Charles",{"$f":"_xlfn.XLOOKUP(O1130,'Liste des DT-EIC-SITES'!D:D,'Liste des DT-EIC-SITES'!C:C)","v":"EIC Provence Alpes Côte d'Azur"}]
[null,null,null,null,null,null,null,null,null,null,null,null,null,null,"Martigues",{"$f":"_xlfn.XLOOKUP(O1131,'Liste des DT-EIC-SITES'!D:D,'Liste des DT-EIC-SITES'!C:C)","v":"EIC Provence Alpes Côte d'Azur"}]
[null,null,null,null,null,null,null,null,null,null,null,null,null,null,"Marvejols",{"$f":"_xlfn.XLOOKUP(O1132,'Liste des DT-EIC-SITES'!D:D,'Liste des DT-EIC-SITES'!C:C)","v":"EIC Languedoc Roussillon"}]
[null,null,null,null,null,null,null,null,null,null,null,null,null,null,"Masseret",{"$f":"_xlfn.XLOOKUP(O1133,'Liste des DT-EIC-SITES'!D:D,'Liste des DT-EIC-SITES'!C:C)","v":"EIC Centre Limousin"}]
[null,null,null,null,null,null,null,null,null,null,null,null,null,null,"Massiac",{"$f":"_xlfn.XLOOKUP(O1134,'Liste des DT-EIC-SITES'!D:D,'Liste des DT-EIC-SITES'!C:C)","v":"EIC Auvergne Nivernais"}]
[null,null,null,null,null,null,null,null,null,null,null,null,null,null,"Massy-Palaiseau",{"$f":"_xlfn.XLOOKUP(O1135,'Liste des DT-EIC-SITES'!D:D,'Liste des DT-EIC-SITES'!C:C)","v":"EIC Paris Sud Ouest"}]
[null,null,null,null,null,null,null,null,null,null,null,null,null,null,"Maubeuge",{"$f":"_xlfn.XLOOKUP(O1136,'Liste des DT-EIC-SITES'!D:D,'Liste des DT-EIC-SITES'!C:C)","v":"EIC Hauts de France"}]
[null,null,null,null,null,null,null,null,null,null,null,null,null,null,"Maubourguet",{"$f":"_xlfn.XLOOKUP(O1137,'Liste des DT-EIC-SITES'!D:D,'Liste des DT-EIC-SITES'!C:C)","v":"EIC Midi Pyrénées"}]
[null,null,null,null,null,null,null,null,null,null,null,null,null,null,"Maulde-Mortagne",{"$f":"_xlfn.XLOOKUP(O1138,'Liste des DT-EIC-SITES'!D:D,'Liste des DT-EIC-SITES'!C:C)","v":"EIC Hauts de France"}]
[null,null,null,null,null,null,null,null,null,null,null,null,null,null,"Mauron",{"$f":"_xlfn.XLOOKUP(O1139,'Liste des DT-EIC-SITES'!D:D,'Liste des DT-EIC-SITES'!C:C)","v":"EIC Bretagne Pays de la Loire"}]
[null,null,null,null,null,null,null,null,null,null,null,null,null,null,"Maurs",{"$f":"_xlfn.XLOOKUP(O1140,'Liste des DT-EIC-SITES'!D:D,'Liste des DT-EIC-SITES'!C:C)","v":"EIC Auvergne Nivernais"}]
[null,null,null,null,null,null,null,null,null,null,null,null,null,null,"Mauzé",{"$f":"_xlfn.XLOOKUP(O1141,'Liste des DT-EIC-SITES'!D:D,'Liste des DT-EIC-SITES'!C:C)","v":"EIC Aquitaine Poitou Charentes"}]
[null,null,null,null,null,null,null,null,null,null,null,null,null,null,"Maxilly-sur-Saône",{"$f":"_xlfn.XLOOKUP(O1142,'Liste des DT-EIC-SITES'!D:D,'Liste des DT-EIC-SITES'!C:C)","v":"EIC Bourgogne Franche Comté"}]
[null,null,null,null,null,null,null,null,null,null,null,null,null,null,"Mazamet",{"$f":"_xlfn.XLOOKUP(O1143,'Liste des DT-EIC-SITES'!D:D,'Liste des DT-EIC-SITES'!C:C)","v":"EIC Midi Pyrénées"}]
[null,null,null,null,null,null,null,null,null,null,null,null,null,null,"Mazières-Verruyes",{"$f":"_xlfn.XLOOKUP(O1144,'Liste des DT-EIC-SITES'!D:D,'Liste des DT-EIC-SITES'!C:C)","v":"EIC Aquitaine Poitou Charentes"}]
[null,null,null,null,null,null,null,null,null,null,null,null,null,null,"Meaux",{"$f":"_xlfn.XLOOKUP(O1145,'Liste des DT-EIC-SITES'!D:D,'Liste des DT-EIC-SITES'!C:C)","v":"EIC Paris Est Ouest Francilien"}]
[null,null,null,null,null,null,null,null,null,null,null,null,null,null,"Melun",{"$f":"_xlfn.XLOOKUP(O1146,'Liste des DT-EIC-SITES'!D:D,'Liste des DT-EIC-SITES'!C:C)","v":"EIC Paris Sud Est"}]
[null,null,null,null,null,null,null,null,null,null,null,null,null,null,"Menaucourt",{"$f":"_xlfn.XLOOKUP(O1147,'Liste des DT-EIC-SITES'!D:D,'Liste des DT-EIC-SITES'!C:C)","v":"EIC Lorraine Champagne Ardenne"}]
[null,null,null,null,null,null,null,null,null,null,null,null,null,null,"Mende",{"$f":"_xlfn.XLOOKUP(O1148,'Liste des DT-EIC-SITES'!D:D,'Liste des DT-EIC-SITES'!C:C)","v":"EIC Languedoc Roussillon"}]
[null,null,null,null,null,null,null,null,null,null,null,null,null,null,"Mennetons",{"$f":"_xlfn.XLOOKUP(O1149,'Liste des DT-EIC-SITES'!D:D,'Liste des DT-EIC-SITES'!C:C)","v":"EIC Centre Limousin"}]
[null,null,null,null,null,null,null,null,null,null,null,null,null,null,"Menton",{"$f":"_xlfn.XLOOKUP(O1150,'Liste des DT-EIC-SITES'!D:D,'Liste des DT-EIC-SITES'!C:C)","v":"EIC Provence Alpes Côte d'Azur"}]
[null,null,null,null,null,null,null,null,null,null,null,null,null,null,"Mer",{"$f":"_xlfn.XLOOKUP(O1151,'Liste des DT-EIC-SITES'!D:D,'Liste des DT-EIC-SITES'!C:C)","v":"EIC Centre Limousin"}]
[null,null,null,null,null,null,null,null,null,null,null,null,null,null,"Merrey",{"$f":"_xlfn.XLOOKUP(O1152,'Liste des DT-EIC-SITES'!D:D,'Liste des DT-EIC-SITES'!C:C)","v":"EIC Lorraine Champagne Ardenne"}]
[null,null,null,null,null,null,null,null,null,null,null,null,null,null,"Méru",{"$f":"_xlfn.XLOOKUP(O1153,'Liste des DT-EIC-SITES'!D:D,'Liste des DT-EIC-SITES'!C:C)","v":"EIC Paris Nord"}]
[null,null,null,null,null,null,null,null,null,null,null,null,null,null,"Mervans",{"$f":"_xlfn.XLOOKUP(O1154,'Liste des DT-EIC-SITES'!D:D,'Liste des DT-EIC-SITES'!C:C)","v":"EIC Bourgogne Franche Comté"}]
[null,null,null,null,null,null,null,null,null,null,null,null,null,null,"Mesnay-Arbois",{"$f":"_xlfn.XLOOKUP(O1155,'Liste des DT-EIC-SITES'!D:D,'Liste des DT-EIC-SITES'!C:C)","v":"EIC Bourgogne Franche Comté"}]
[null,null,null,null,null,null,null,null,null,null,null,null,null,null,"Messac-Guipry",{"$f":"_xlfn.XLOOKUP(O1156,'Liste des DT-EIC-SITES'!D:D,'Liste des DT-EIC-SITES'!C:C)","v":"EIC Bretagne Pays de la Loire"}]
[null,null,null,null,null,null,null,null,null,null,null,null,null,null,"Metz-devant-les-Ponts",{"$f":"_xlfn.XLOOKUP(O1157,'Liste des DT-EIC-SITES'!D:D,'Liste des DT-EIC-SITES'!C:C)","v":"EIC Lorraine Champagne Ardenne"}]
[null,null,null,null,null,null,null,null,null,null,null,null,null,null,"Metzeral",{"$f":"_xlfn.XLOOKUP(O1158,'Liste des DT-EIC-SITES'!D:D,'Liste des DT-EIC-SITES'!C:C)","v":"EIC Alsace"}]
[null,null,null,null,null,null,null,null,null,null,null,null,null,null,"Metz-Nord",{"$f":"_xlfn.XLOOKUP(O1159,'Liste des DT-EIC-SITES'!D:D,'Liste des DT-EIC-SITES'!C:C)","v":"EIC Lorraine Champagne Ardenne"}]
[null,null,null,null,null,null,null,null,null,null,null,null,null,null,"Metz-Sablon",{"$f":"_xlfn.XLOOKUP(O1160,'Liste des DT-EIC-SITES'!D:D,'Liste des DT-EIC-SITES'!C:C)","v":"EIC Lorraine Champagne Ardenne"}]
[null,null,null,null,null,null,null,null,null,null,null,null,null,null,"Metz-Ville",{"$f":"_xlfn.XLOOKUP(O1161,'Liste des DT-EIC-SITES'!D:D,'Liste des DT-EIC-SITES'!C:C)","v":"EIC Lorraine Champagne Ardenne"}]
[null,null,null,null,null,null,null,null,null,null,null,null,null,null,"Meulan-Hardricourt",{"$f":"_xlfn.XLOOKUP(O1162,'Liste des DT-EIC-SITES'!D:D,'Liste des DT-EIC-SITES'!C:C)","v":"EIC Paris Est Ouest Francilien"}]
[null,null,null,null,null,null,null,null,null,null,null,null,null,null,"Meung-sur-Loire",{"$f":"_xlfn.XLOOKUP(O1163,'Liste des DT-EIC-SITES'!D:D,'Liste des DT-EIC-SITES'!C:C)","v":"EIC Centre Limousin"}]
[null,null,null,null,null,null,null,null,null,null,null,null,null,null,"Meximieux-Pérouges",{"$f":"_xlfn.XLOOKUP(O1164,'Liste des DT-EIC-SITES'!D:D,'Liste des DT-EIC-SITES'!C:C)","v":"EIC Rhône Alpes Lyon"}]
[null,null,null,null,null,null,null,null,null,null,null,null,null,null,"Meymac",{"$f":"_xlfn.XLOOKUP(O1165,'Liste des DT-EIC-SITES'!D:D,'Liste des DT-EIC-SITES'!C:C)","v":"EIC Centre Limousin"}]
[null,null,null,null,null,null,null,null,null,null,null,null,null,null,"Meyrargues",{"$f":"_xlfn.XLOOKUP(O1166,'Liste des DT-EIC-SITES'!D:D,'Liste des DT-EIC-SITES'!C:C)","v":"EIC Provence Alpes Côte d'Azur"}]
[null,null,null,null,null,null,null,null,null,null,null,null,null,null,"Mézidon",{"$f":"_xlfn.XLOOKUP(O1167,'Liste des DT-EIC-SITES'!D:D,'Liste des DT-EIC-SITES'!C:C)","v":"EIC Normandie"}]
[null,null,null,null,null,null,null,null,null,null,null,null,null,null,"Mézy",{"$f":"_xlfn.XLOOKUP(O1168,'Liste des DT-EIC-SITES'!D:D,'Liste des DT-EIC-SITES'!C:C)","v":"EIC Lorraine Champagne Ardenne"}]
[null,null,null,null,null,null,null,null,null,null,null,null,null,null,"Mignaloux-Nouaillé",{"$f":"_xlfn.XLOOKUP(O1169,'Liste des DT-EIC-SITES'!D:D,'Liste des DT-EIC-SITES'!C:C)","v":"EIC Aquitaine Poitou Charentes"}]
[null,null,null,null,null,null,null,null,null,null,null,null,null,null,"Millau",{"$f":"_xlfn.XLOOKUP(O1170,'Liste des DT-EIC-SITES'!D:D,'Liste des DT-EIC-SITES'!C:C)","v":"EIC Languedoc Roussillon"}]
[null,null,null,null,null,null,null,null,null,null,null,null,null,null,"Milly-sur-Thérain",{"$f":"_xlfn.XLOOKUP(O1171,'Liste des DT-EIC-SITES'!D:D,'Liste des DT-EIC-SITES'!C:C)","v":"EIC Hauts de France"}]
[null,null,null,null,null,null,null,null,null,null,null,null,null,null,"Mirabeau",{"$f":"_xlfn.XLOOKUP(O1172,'Liste des DT-EIC-SITES'!D:D,'Liste des DT-EIC-SITES'!C:C)","v":"EIC Provence Alpes Côte d'Azur"}]
[null,null,null,null,null,null,null,null,null,null,null,null,null,null,"Miramas",{"$f":"_xlfn.XLOOKUP(O1173,'Liste des DT-EIC-SITES'!D:D,'Liste des DT-EIC-SITES'!C:C)","v":"EIC Provence Alpes Côte d'Azur"}]
[null,null,null,null,null,null,null,null,null,null,null,null,null,null,"Mirebeau-sur-Bèze",{"$f":"_xlfn.XLOOKUP(O1174,'Liste des DT-EIC-SITES'!D:D,'Liste des DT-EIC-SITES'!C:C)","v":"EIC Paris Sud Est"}]
[null,null,null,null,null,null,null,null,null,null,null,null,null,null,"Mirecourt",{"$f":"_xlfn.XLOOKUP(O1175,'Liste des DT-EIC-SITES'!D:D,'Liste des DT-EIC-SITES'!C:C)","v":"EIC Lorraine Champagne Ardenne"}]
[null,null,null,null,null,null,null,null,null,null,null,null,null,null,"Mirepeisset-Argeliers",{"$f":"_xlfn.XLOOKUP(O1176,'Liste des DT-EIC-SITES'!D:D,'Liste des DT-EIC-SITES'!C:C)","v":"EIC Languedoc Roussillon"}]
[null,null,null,null,null,null,null,null,null,null,null,null,null,null,"MIRIBEL LGV",{"$f":"_xlfn.XLOOKUP(O1177,'Liste des DT-EIC-SITES'!D:D,'Liste des DT-EIC-SITES'!C:C)","v":"EIC Rhône Alpes Lyon"}]
[null,null,null,null,null,null,null,null,null,null,null,null,null,null,"Miserey-Salines",{"$f":"_xlfn.XLOOKUP(O1178,'Liste des DT-EIC-SITES'!D:D,'Liste des DT-EIC-SITES'!C:C)","v":"EIC Bourgogne Franche Comté"}]
[null,null,null,null,null,null,null,null,null,null,null,null,null,null,"Mison",{"$f":"_xlfn.XLOOKUP(O1179,'Liste des DT-EIC-SITES'!D:D,'Liste des DT-EIC-SITES'!C:C)","v":"EIC Provence Alpes Côte d'Azur"}]
[null,null,null,null,null,null,null,null,null,null,null,null,null,null,"Mitry-Claye",{"$f":"_xlfn.XLOOKUP(O1180,'Liste des DT-EIC-SITES'!D:D,'Liste des DT-EIC-SITES'!C:C)","v":"EIC Paris Nord"}]
[null,null,null,null,null,null,null,null,null,null,null,null,null,null,"Modane",{"$f":"_xlfn.XLOOKUP(O1181,'Liste des DT-EIC-SITES'!D:D,'Liste des DT-EIC-SITES'!C:C)","v":"EIC Alpes"}]
[null,null,null,null,null,null,null,null,null,null,null,null,null,null,"Mohon",{"$f":"_xlfn.XLOOKUP(O1182,'Liste des DT-EIC-SITES'!D:D,'Liste des DT-EIC-SITES'!C:C)","v":"EIC Lorraine Champagne Ardenne"}]
[null,null,null,null,null,null,null,null,null,null,null,null,null,null,"Moissac",{"$f":"_xlfn.XLOOKUP(O1183,'Liste des DT-EIC-SITES'!D:D,'Liste des DT-EIC-SITES'!C:C)","v":"EIC Midi Pyrénées"}]
[null,null,null,null,null,null,null,null,null,null,null,null,null,null,"Molsheim",{"$f":"_xlfn.XLOOKUP(O1184,'Liste des DT-EIC-SITES'!D:D,'Liste des DT-EIC-SITES'!C:C)","v":"EIC Alsace"}]
[null,null,null,null,null,null,null,null,null,null,null,null,null,null,"Mommenheim",{"$f":"_xlfn.XLOOKUP(O1185,'Liste des DT-EIC-SITES'!D:D,'Liste des DT-EIC-SITES'!C:C)","v":"EIC Alsace"}]
[null,null,null,null,null,null,null,null,null,null,null,null,null,null,"Monestier-de-Clermont",{"$f":"_xlfn.XLOOKUP(O1186,'Liste des DT-EIC-SITES'!D:D,'Liste des DT-EIC-SITES'!C:C)","v":"EIC Alpes"}]
[null,null,null,null,null,null,null,null,null,null,null,null,null,null,"Monistrol-d'Allier",{"$f":"_xlfn.XLOOKUP(O1187,'Liste des DT-EIC-SITES'!D:D,'Liste des DT-EIC-SITES'!C:C)","v":"EIC Auvergne Nivernais"}]
[null,null,null,null,null,null,null,null,null,null,null,null,null,null,"Monnaie",{"$f":"_xlfn.XLOOKUP(O1188,'Liste des DT-EIC-SITES'!D:D,'Liste des DT-EIC-SITES'!C:C)","v":"EIC Centre Limousin"}]
[null,null,null,null,null,null,null,null,null,null,null,null,null,null,"Monsempron-Libos",{"$f":"_xlfn.XLOOKUP(O1189,'Liste des DT-EIC-SITES'!D:D,'Liste des DT-EIC-SITES'!C:C)","v":"EIC Aquitaine Poitou Charentes"}]
[null,null,null,null,null,null,null,null,null,null,null,null,null,null,"Montaigu-Vendée",{"$f":"_xlfn.XLOOKUP(O1190,'Liste des DT-EIC-SITES'!D:D,'Liste des DT-EIC-SITES'!C:C)","v":"EIC Bretagne Pays de la Loire"}]
[null,null,null,null,null,null,null,null,null,null,null,null,null,null,"Montargis",{"$f":"_xlfn.XLOOKUP(O1191,'Liste des DT-EIC-SITES'!D:D,'Liste des DT-EIC-SITES'!C:C)","v":"EIC Paris Sud Est"}]
[null,null,null,null,null,null,null,null,null,null,null,null,null,null,"Montastruc-la-Conseillère",{"$f":"_xlfn.XLOOKUP(O1192,'Liste des DT-EIC-SITES'!D:D,'Liste des DT-EIC-SITES'!C:C)","v":"EIC Midi Pyrénées"}]
[null,null,null,null,null,null,null,null,null,null,null,null,null,null,"Montauban-de-Bretagne",{"$f":"_xlfn.XLOOKUP(O1193,'Liste des DT-EIC-SITES'!D:D,'Liste des DT-EIC-SITES'!C:C)","v":"EIC Bretagne Pays de la Loire"}]
[null,null,null,null,null,null,null,null,null,null,null,null,null,null,"Montauban-Ville-Bourbon",{"$f":"_xlfn.XLOOKUP(O1194,'Liste des DT-EIC-SITES'!D:D,'Liste des DT-EIC-SITES'!C:C)","v":"EIC Midi Pyrénées"}]
[null,null,null,null,null,null,null,null,null,null,null,null,null,null,"Montbard",{"$f":"_xlfn.XLOOKUP(O1195,'Liste des DT-EIC-SITES'!D:D,'Liste des DT-EIC-SITES'!C:C)","v":"EIC Bourgogne Franche Comté"}]
[null,null,null,null,null,null,null,null,null,null,null,null,null,null,"Montbartier",{"$f":"_xlfn.XLOOKUP(O1196,'Liste des DT-EIC-SITES'!D:D,'Liste des DT-EIC-SITES'!C:C)","v":"EIC Midi Pyrénées"}]
[null,null,null,null,null,null,null,null,null,null,null,null,null,null,"Montbéliard",{"$f":"_xlfn.XLOOKUP(O1197,'Liste des DT-EIC-SITES'!D:D,'Liste des DT-EIC-SITES'!C:C)","v":"EIC Alsace"}]
[null,null,null,null,null,null,null,null,null,null,null,null,null,null,"Montbrison",{"$f":"_xlfn.XLOOKUP(O1198,'Liste des DT-EIC-SITES'!D:D,'Liste des DT-EIC-SITES'!C:C)","v":"EIC Rhône Alpes Lyon"}]
[null,null,null,null,null,null,null,null,null,null,null,null,null,null,"Montceau-les-Mines",{"$f":"_xlfn.XLOOKUP(O1199,'Liste des DT-EIC-SITES'!D:D,'Liste des DT-EIC-SITES'!C:C)","v":"EIC Bourgogne Franche Comté"}]
[null,null,null,null,null,null,null,null,null,null,null,null,null,null,"Montchanin",{"$f":"_xlfn.XLOOKUP(O1200,'Liste des DT-EIC-SITES'!D:D,'Liste des DT-EIC-SITES'!C:C)","v":"EIC Bourgogne Franche Comté"}]
[null,null,null,null,null,null,null,null,null,null,null,null,null,null,"MONTCHANIN LGV",{"$f":"_xlfn.XLOOKUP(O1201,'Liste des DT-EIC-SITES'!D:D,'Liste des DT-EIC-SITES'!C:C)","v":"EIC Bourgogne Franche Comté"}]
[null,null,null,null,null,null,null,null,null,null,null,null,null,null,"Montcornet",{"$f":"_xlfn.XLOOKUP(O1202,'Liste des DT-EIC-SITES'!D:D,'Liste des DT-EIC-SITES'!C:C)","v":"EIC Hauts de France"}]
[null,null,null,null,null,null,null,null,null,null,null,null,null,null,"Montdauphin-Guillestre",{"$f":"_xlfn.XLOOKUP(O1203,'Liste des DT-EIC-SITES'!D:D,'Liste des DT-EIC-SITES'!C:C)","v":"EIC Provence Alpes Côte d'Azur"}]
[null,null,null,null,null,null,null,null,null,null,null,null,null,null,"Mont-de-Marsan",{"$f":"_xlfn.XLOOKUP(O1204,'Liste des DT-EIC-SITES'!D:D,'Liste des DT-EIC-SITES'!C:C)","v":"EIC Aquitaine Poitou Charentes"}]
[null,null,null,null,null,null,null,null,null,null,null,null,null,null,"Montdidier",{"$f":"_xlfn.XLOOKUP(O1205,'Liste des DT-EIC-SITES'!D:D,'Liste des DT-EIC-SITES'!C:C)","v":"EIC Hauts de France"}]
[null,null,null,null,null,null,null,null,null,null,null,null,null,null,"Mont-Dore",{"$f":"_xlfn.XLOOKUP(O1206,'Liste des DT-EIC-SITES'!D:D,'Liste des DT-EIC-SITES'!C:C)","v":"EIC Auvergne Nivernais"}]
[null,null,null,null,null,null,null,null,null,null,null,null,null,null,"Montélimar",{"$f":"_xlfn.XLOOKUP(O1207,'Liste des DT-EIC-SITES'!D:D,'Liste des DT-EIC-SITES'!C:C)","v":"EIC Rhône Alpes Lyon"}]
[null,null,null,null,null,null,null,null,null,null,null,null,null,null,"Montendre",{"$f":"_xlfn.XLOOKUP(O1208,'Liste des DT-EIC-SITES'!D:D,'Liste des DT-EIC-SITES'!C:C)","v":"EIC Aquitaine Poitou Charentes"}]
[null,null,null,null,null,null,null,null,null,null,null,null,null,null,"Montereau",{"$f":"_xlfn.XLOOKUP(O1209,'Liste des DT-EIC-SITES'!D:D,'Liste des DT-EIC-SITES'!C:C)","v":"EIC Paris Sud Est"}]
[null,null,null,null,null,null,null,null,null,null,null,null,null,null,"Montérolier-Buchy",{"$f":"_xlfn.XLOOKUP(O1210,'Liste des DT-EIC-SITES'!D:D,'Liste des DT-EIC-SITES'!C:C)","v":"EIC Normandie"}]
[null,null,null,null,null,null,null,null,null,null,null,null,null,null,"Montescourt",{"$f":"_xlfn.XLOOKUP(O1211,'Liste des DT-EIC-SITES'!D:D,'Liste des DT-EIC-SITES'!C:C)","v":"EIC Hauts de France"}]
[null,null,null,null,null,null,null,null,null,null,null,null,null,null,"Montfort-l'Amaury-Mère",{"$f":"_xlfn.XLOOKUP(O1212,'Liste des DT-EIC-SITES'!D:D,'Liste des DT-EIC-SITES'!C:C)","v":"EIC Paris Sud Ouest"}]
[null,null,null,null,null,null,null,null,null,null,null,null,null,null,"Montfort-le-Gesnois",{"$f":"_xlfn.XLOOKUP(O1213,'Liste des DT-EIC-SITES'!D:D,'Liste des DT-EIC-SITES'!C:C)","v":"EIC Bretagne Pays de la Loire"}]
[null,null,null,null,null,null,null,null,null,null,null,null,null,null,"Monthermé",{"$f":"_xlfn.XLOOKUP(O1214,'Liste des DT-EIC-SITES'!D:D,'Liste des DT-EIC-SITES'!C:C)","v":"EIC Lorraine Champagne Ardenne"}]
[null,null,null,null,null,null,null,null,null,null,null,null,null,null,"Montiéramey",{"$f":"_xlfn.XLOOKUP(O1215,'Liste des DT-EIC-SITES'!D:D,'Liste des DT-EIC-SITES'!C:C)","v":"EIC Lorraine Champagne Ardenne"}]
[null,null,null,null,null,null,null,null,null,null,null,null,null,null,"Montierchaume",{"$f":"_xlfn.XLOOKUP(O1216,'Liste des DT-EIC-SITES'!D:D,'Liste des DT-EIC-SITES'!C:C)","v":"EIC Centre Limousin"}]
[null,null,null,null,null,null,null,null,null,null,null,null,null,null,"Montières",{"$f":"_xlfn.XLOOKUP(O1217,'Liste des DT-EIC-SITES'!D:D,'Liste des DT-EIC-SITES'!C:C)","v":"EIC Hauts de France"}]
[null,null,null,null,null,null,null,null,null,null,null,null,null,null,"Montigny-Beauchamp",{"$f":"_xlfn.XLOOKUP(O1218,'Liste des DT-EIC-SITES'!D:D,'Liste des DT-EIC-SITES'!C:C)","v":"EIC Paris Nord"}]
[null,null,null,null,null,null,null,null,null,null,null,null,null,null,"Mont-Louis-La Cabanasse",{"$f":"_xlfn.XLOOKUP(O1219,'Liste des DT-EIC-SITES'!D:D,'Liste des DT-EIC-SITES'!C:C)","v":"EIC Languedoc Roussillon"}]
[null,null,null,null,null,null,null,null,null,null,null,null,null,null,"Montluçon-Eau",{"$f":"_xlfn.XLOOKUP(O1220,'Liste des DT-EIC-SITES'!D:D,'Liste des DT-EIC-SITES'!C:C)","v":"EIC Auvergne Nivernais"}]
[null,null,null,null,null,null,null,null,null,null,null,null,null,null,"Montluçon-Ville",{"$f":"_xlfn.XLOOKUP(O1221,'Liste des DT-EIC-SITES'!D:D,'Liste des DT-EIC-SITES'!C:C)","v":"EIC Auvergne Nivernais"}]
[null,null,null,null,null,null,null,null,null,null,null,null,null,null,"Montluel",{"$f":"_xlfn.XLOOKUP(O1222,'Liste des DT-EIC-SITES'!D:D,'Liste des DT-EIC-SITES'!C:C)","v":"EIC Rhône Alpes Lyon"}]
[null,null,null,null,null,null,null,null,null,null,null,null,null,null,"Montmédy",{"$f":"_xlfn.XLOOKUP(O1223,'Liste des DT-EIC-SITES'!D:D,'Liste des DT-EIC-SITES'!C:C)","v":"EIC Lorraine Champagne Ardenne"}]
[null,null,null,null,null,null,null,null,null,null,null,null,null,null,"Montmélian",{"$f":"_xlfn.XLOOKUP(O1224,'Liste des DT-EIC-SITES'!D:D,'Liste des DT-EIC-SITES'!C:C)","v":"EIC Alpes"}]
[null,null,null,null,null,null,null,null,null,null,null,null,null,null,"Montmoreau",{"$f":"_xlfn.XLOOKUP(O1225,'Liste des DT-EIC-SITES'!D:D,'Liste des DT-EIC-SITES'!C:C)","v":"EIC Aquitaine Poitou Charentes"}]
[null,null,null,null,null,null,null,null,null,null,null,null,null,null,"Montmorillon",{"$f":"_xlfn.XLOOKUP(O1226,'Liste des DT-EIC-SITES'!D:D,'Liste des DT-EIC-SITES'!C:C)","v":"EIC Aquitaine Poitou Charentes"}]
[null,null,null,null,null,null,null,null,null,null,null,null,null,null,"Mont-Notre-Dame",{"$f":"_xlfn.XLOOKUP(O1227,'Liste des DT-EIC-SITES'!D:D,'Liste des DT-EIC-SITES'!C:C)","v":"EIC Lorraine Champagne Ardenne"}]
[null,null,null,null,null,null,null,null,null,null,null,null,null,null,"Montoir-de-Bretagne",{"$f":"_xlfn.XLOOKUP(O1228,'Liste des DT-EIC-SITES'!D:D,'Liste des DT-EIC-SITES'!C:C)","v":"EIC Bretagne Pays de la Loire"}]
[null,null,null,null,null,null,null,null,null,null,null,null,null,null,"Montoire-sur-le-Loir",{"$f":"_xlfn.XLOOKUP(O1229,'Liste des DT-EIC-SITES'!D:D,'Liste des DT-EIC-SITES'!C:C)","v":"EIC Centre Limousin"}]
[null,null,null,null,null,null,null,null,null,null,null,null,null,null,"Montpaon",{"$f":"_xlfn.XLOOKUP(O1230,'Liste des DT-EIC-SITES'!D:D,'Liste des DT-EIC-SITES'!C:C)","v":"EIC Languedoc Roussillon"}]
[null,null,null,null,null,null,null,null,null,null,null,null,null,null,"Montpellier-les-Prés-d'Arènes",{"$f":"_xlfn.XLOOKUP(O1231,'Liste des DT-EIC-SITES'!D:D,'Liste des DT-EIC-SITES'!C:C)","v":"EIC Languedoc Roussillon"}]
[null,null,null,null,null,null,null,null,null,null,null,null,null,null,"Montpellier-St-Roch",{"$f":"_xlfn.XLOOKUP(O1232,'Liste des DT-EIC-SITES'!D:D,'Liste des DT-EIC-SITES'!C:C)","v":"EIC Languedoc Roussillon"}]
[null,null,null,null,null,null,null,null,null,null,null,null,null,null,"Montpezat",{"$f":"_xlfn.XLOOKUP(O1233,'Liste des DT-EIC-SITES'!D:D,'Liste des DT-EIC-SITES'!C:C)","v":"EIC Midi Pyrénées"}]
[null,null,null,null,null,null,null,null,null,null,null,null,null,null,"Montpon-Ménestérol",{"$f":"_xlfn.XLOOKUP(O1234,'Liste des DT-EIC-SITES'!D:D,'Liste des DT-EIC-SITES'!C:C)","v":"EIC Aquitaine Poitou Charentes"}]
[null,null,null,null,null,null,null,null,null,null,null,null,null,null,"Montrabé",{"$f":"_xlfn.XLOOKUP(O1235,'Liste des DT-EIC-SITES'!D:D,'Liste des DT-EIC-SITES'!C:C)","v":"EIC Midi Pyrénées"}]
[null,null,null,null,null,null,null,null,null,null,null,null,null,null,"Montréjeau-Gourdan-Polignan",{"$f":"_xlfn.XLOOKUP(O1236,'Liste des DT-EIC-SITES'!D:D,'Liste des DT-EIC-SITES'!C:C)","v":"EIC Midi Pyrénées"}]
[null,null,null,null,null,null,null,null,null,null,null,null,null,null,"Montreuil-Bellay",{"$f":"_xlfn.XLOOKUP(O1237,'Liste des DT-EIC-SITES'!D:D,'Liste des DT-EIC-SITES'!C:C)","v":"EIC Bretagne Pays de la Loire"}]
[null,null,null,null,null,null,null,null,null,null,null,null,null,null,"Montreuil-sur-Ille",{"$f":"_xlfn.XLOOKUP(O1238,'Liste des DT-EIC-SITES'!D:D,'Liste des DT-EIC-SITES'!C:C)","v":"EIC Bretagne Pays de la Loire"}]
[null,null,null,null,null,null,null,null,null,null,null,null,null,null,"Montreux-Vieux",{"$f":"_xlfn.XLOOKUP(O1239,'Liste des DT-EIC-SITES'!D:D,'Liste des DT-EIC-SITES'!C:C)","v":"EIC Alsace"}]
[null,null,null,null,null,null,null,null,null,null,null,null,null,null,"Montrond-les-Bains",{"$f":"_xlfn.XLOOKUP(O1240,'Liste des DT-EIC-SITES'!D:D,'Liste des DT-EIC-SITES'!C:C)","v":"EIC Rhône Alpes Lyon"}]
[null,null,null,null,null,null,null,null,null,null,null,null,null,null,"Montrouge-Châtillon",{"$f":"_xlfn.XLOOKUP(O1241,'Liste des DT-EIC-SITES'!D:D,'Liste des DT-EIC-SITES'!C:C)","v":"EIC Paris Sud Ouest"}]
[null,null,null,null,null,null,null,null,null,null,null,null,null,null,"Monts",{"$f":"_xlfn.XLOOKUP(O1242,'Liste des DT-EIC-SITES'!D:D,'Liste des DT-EIC-SITES'!C:C)","v":"EIC Centre Limousin"}]
[null,null,null,null,null,null,null,null,null,null,null,null,null,null,"Montsoult-Maffliers",{"$f":"_xlfn.XLOOKUP(O1243,'Liste des DT-EIC-SITES'!D:D,'Liste des DT-EIC-SITES'!C:C)","v":"EIC Paris Nord"}]
[null,null,null,null,null,null,null,null,null,null,null,null,null,null,"Morcenx",{"$f":"_xlfn.XLOOKUP(O1244,'Liste des DT-EIC-SITES'!D:D,'Liste des DT-EIC-SITES'!C:C)","v":"EIC Aquitaine Poitou Charentes"}]
[null,null,null,null,null,null,null,null,null,null,null,null,null,null,"Moret-Veneux-les-Sablons",{"$f":"_xlfn.XLOOKUP(O1245,'Liste des DT-EIC-SITES'!D:D,'Liste des DT-EIC-SITES'!C:C)","v":"EIC Paris Sud Est"}]
[null,null,null,null,null,null,null,null,null,null,null,null,null,null,"Morez",{"$f":"_xlfn.XLOOKUP(O1246,'Liste des DT-EIC-SITES'!D:D,'Liste des DT-EIC-SITES'!C:C)","v":"EIC Bourgogne Franche Comté"}]
[null,null,null,null,null,null,null,null,null,null,null,null,null,null,"Morhange",{"$f":"_xlfn.XLOOKUP(O1247,'Liste des DT-EIC-SITES'!D:D,'Liste des DT-EIC-SITES'!C:C)","v":"EIC Alsace"}]
[null,null,null,null,null,null,null,null,null,null,null,null,null,null,"Morlaix",{"$f":"_xlfn.XLOOKUP(O1248,'Liste des DT-EIC-SITES'!D:D,'Liste des DT-EIC-SITES'!C:C)","v":"EIC Bretagne Pays de la Loire"}]
[null,null,null,null,null,null,null,null,null,null,null,null,null,null,"Mortcerf",{"$f":"_xlfn.XLOOKUP(O1249,'Liste des DT-EIC-SITES'!D:D,'Liste des DT-EIC-SITES'!C:C)","v":"EIC Paris Est Ouest Francilien"}]
[null,null,null,null,null,null,null,null,null,null,null,null,null,null,"Morteau",{"$f":"_xlfn.XLOOKUP(O1250,'Liste des DT-EIC-SITES'!D:D,'Liste des DT-EIC-SITES'!C:C)","v":"EIC Bourgogne Franche Comté"}]
[null,null,null,null,null,null,null,null,null,null,null,null,null,null,"Motteville",{"$f":"_xlfn.XLOOKUP(O1251,'Liste des DT-EIC-SITES'!D:D,'Liste des DT-EIC-SITES'!C:C)","v":"EIC Normandie"}]
[null,null,null,null,null,null,null,null,null,null,null,null,null,null,"Mouchard",{"$f":"_xlfn.XLOOKUP(O1252,'Liste des DT-EIC-SITES'!D:D,'Liste des DT-EIC-SITES'!C:C)","v":"EIC Bourgogne Franche Comté"}]
[null,null,null,null,null,null,null,null,null,null,null,null,null,null,"Moulin-Neuf (Oise)",{"$f":"_xlfn.XLOOKUP(O1253,'Liste des DT-EIC-SITES'!D:D,'Liste des DT-EIC-SITES'!C:C)","v":"EIC Paris Nord"}]
[null,null,null,null,null,null,null,null,null,null,null,null,null,null,"Moulins-sur-Allier",{"$f":"_xlfn.XLOOKUP(O1254,'Liste des DT-EIC-SITES'!D:D,'Liste des DT-EIC-SITES'!C:C)","v":"EIC Auvergne Nivernais"}]
[null,null,null,null,null,null,null,null,null,null,null,null,null,null,"Moulins-sur-Yèvre",{"$f":"_xlfn.XLOOKUP(O1255,'Liste des DT-EIC-SITES'!D:D,'Liste des DT-EIC-SITES'!C:C)","v":"EIC Centre Limousin"}]
[null,null,null,null,null,null,null,null,null,null,null,null,null,null,"Mourmelon-le-Petit",{"$f":"_xlfn.XLOOKUP(O1256,'Liste des DT-EIC-SITES'!D:D,'Liste des DT-EIC-SITES'!C:C)","v":"EIC Lorraine Champagne Ardenne"}]
[null,null,null,null,null,null,null,null,null,null,null,null,null,null,"Moûtiers-Salins-Brides-les-Bains",{"$f":"_xlfn.XLOOKUP(O1257,'Liste des DT-EIC-SITES'!D:D,'Liste des DT-EIC-SITES'!C:C)","v":"EIC Alpes"}]
[null,null,null,null,null,null,null,null,null,null,null,null,null,null,"Moux (Aude)",{"$f":"_xlfn.XLOOKUP(O1258,'Liste des DT-EIC-SITES'!D:D,'Liste des DT-EIC-SITES'!C:C)","v":"EIC Languedoc Roussillon"}]
[null,null,null,null,null,null,null,null,null,null,null,null,null,null,"Mouzon",{"$f":"_xlfn.XLOOKUP(O1259,'Liste des DT-EIC-SITES'!D:D,'Liste des DT-EIC-SITES'!C:C)","v":"EIC Lorraine Champagne Ardenne"}]
[null,null,null,null,null,null,null,null,null,null,null,null,null,null,"Muizon",{"$f":"_xlfn.XLOOKUP(O1260,'Liste des DT-EIC-SITES'!D:D,'Liste des DT-EIC-SITES'!C:C)","v":"EIC Lorraine Champagne Ardenne"}]
[null,null,null,null,null,null,null,null,null,null,null,null,null,null,"Mulhouse-Nord",{"$f":"_xlfn.XLOOKUP(O1261,'Liste des DT-EIC-SITES'!D:D,'Liste des DT-EIC-SITES'!C:C)","v":"EIC Alsace"}]
[null,null,null,null,null,null,null,null,null,null,null,null,null,null,"Mulhouse-Ville",{"$f":"_xlfn.XLOOKUP(O1262,'Liste des DT-EIC-SITES'!D:D,'Liste des DT-EIC-SITES'!C:C)","v":"EIC Alsace"}]
[null,null,null,null,null,null,null,null,null,null,null,null,null,null,"Munster",{"$f":"_xlfn.XLOOKUP(O1263,'Liste des DT-EIC-SITES'!D:D,'Liste des DT-EIC-SITES'!C:C)","v":"EIC Alsace"}]
[null,null,null,null,null,null,null,null,null,null,null,null,null,null,"Murat",{"$f":"_xlfn.XLOOKUP(O1264,'Liste des DT-EIC-SITES'!D:D,'Liste des DT-EIC-SITES'!C:C)","v":"EIC Auvergne Nivernais"}]
[null,null,null,null,null,null,null,null,null,null,null,null,null,null,"Muret",{"$f":"_xlfn.XLOOKUP(O1265,'Liste des DT-EIC-SITES'!D:D,'Liste des DT-EIC-SITES'!C:C)","v":"EIC Midi Pyrénées"}]
[null,null,null,null,null,null,null,null,null,null,null,null,null,null,"Musée-d'Orsay",{"$f":"_xlfn.XLOOKUP(O1266,'Liste des DT-EIC-SITES'!D:D,'Liste des DT-EIC-SITES'!C:C)","v":"EIC Paris Sud Ouest"}]
[null,null,null,null,null,null,null,null,null,null,null,null,null,null,"Mussidan",{"$f":"_xlfn.XLOOKUP(O1267,'Liste des DT-EIC-SITES'!D:D,'Liste des DT-EIC-SITES'!C:C)","v":"EIC Aquitaine Poitou Charentes"}]
[null,null,null,null,null,null,null,null,null,null,null,null,null,null,"Mussy-sur-Seine",{"$f":"_xlfn.XLOOKUP(O1268,'Liste des DT-EIC-SITES'!D:D,'Liste des DT-EIC-SITES'!C:C)","v":"EIC Lorraine Champagne Ardenne"}]
[null,null,null,null,null,null,null,null,null,null,null,null,null,null,"Naintré-les-Barres",{"$f":"_xlfn.XLOOKUP(O1269,'Liste des DT-EIC-SITES'!D:D,'Liste des DT-EIC-SITES'!C:C)","v":"EIC Aquitaine Poitou Charentes"}]
[null,null,null,null,null,null,null,null,null,null,null,null,null,null,"Nançois-Tronville",{"$f":"_xlfn.XLOOKUP(O1270,'Liste des DT-EIC-SITES'!D:D,'Liste des DT-EIC-SITES'!C:C)","v":"EIC Lorraine Champagne Ardenne"}]
[null,null,null,null,null,null,null,null,null,null,null,null,null,null,"Nancy-Ville",{"$f":"_xlfn.XLOOKUP(O1271,'Liste des DT-EIC-SITES'!D:D,'Liste des DT-EIC-SITES'!C:C)","v":"EIC Lorraine Champagne Ardenne"}]
[null,null,null,null,null,null,null,null,null,null,null,null,null,null,"Nangis",{"$f":"_xlfn.XLOOKUP(O1272,'Liste des DT-EIC-SITES'!D:D,'Liste des DT-EIC-SITES'!C:C)","v":"EIC Paris Est Ouest Francilien"}]
[null,null,null,null,null,null,null,null,null,null,null,null,null,null,"Nanterre La Folie",{"$f":"_xlfn.XLOOKUP(O1273,'Liste des DT-EIC-SITES'!D:D,'Liste des DT-EIC-SITES'!C:C)","v":"EIC Paris Est Ouest Francilien"}]
[null,null,null,null,null,null,null,null,null,null,null,null,null,null,"Nantes",{"$f":"_xlfn.XLOOKUP(O1274,'Liste des DT-EIC-SITES'!D:D,'Liste des DT-EIC-SITES'!C:C)","v":"EIC Bretagne Pays de la Loire"}]
[null,null,null,null,null,null,null,null,null,null,null,null,null,null,"Nanteuil-le-Haudouin",{"$f":"_xlfn.XLOOKUP(O1275,'Liste des DT-EIC-SITES'!D:D,'Liste des DT-EIC-SITES'!C:C)","v":"EIC Paris Nord"}]
[null,null,null,null,null,null,null,null,null,null,null,null,null,null,"Nanteuil-Saâcy",{"$f":"_xlfn.XLOOKUP(O1276,'Liste des DT-EIC-SITES'!D:D,'Liste des DT-EIC-SITES'!C:C)","v":"EIC Paris Est Ouest Francilien"}]
[null,null,null,null,null,null,null,null,null,null,null,null,null,null,"Nantiat",{"$f":"_xlfn.XLOOKUP(O1277,'Liste des DT-EIC-SITES'!D:D,'Liste des DT-EIC-SITES'!C:C)","v":"EIC Centre Limousin"}]
[null,null,null,null,null,null,null,null,null,null,null,null,null,null,"Nantilly-Saumur",{"$f":"_xlfn.XLOOKUP(O1278,'Liste des DT-EIC-SITES'!D:D,'Liste des DT-EIC-SITES'!C:C)","v":"EIC Bretagne Pays de la Loire"}]
[null,null,null,null,null,null,null,null,null,null,null,null,null,null,"Narbonne",{"$f":"_xlfn.XLOOKUP(O1279,'Liste des DT-EIC-SITES'!D:D,'Liste des DT-EIC-SITES'!C:C)","v":"EIC Languedoc Roussillon"}]
[null,null,null,null,null,null,null,null,null,null,null,null,null,null,"Naucelle",{"$f":"_xlfn.XLOOKUP(O1280,'Liste des DT-EIC-SITES'!D:D,'Liste des DT-EIC-SITES'!C:C)","v":"EIC Midi Pyrénées"}]
[null,null,null,null,null,null,null,null,null,null,null,null,null,null,"Neau",{"$f":"_xlfn.XLOOKUP(O1281,'Liste des DT-EIC-SITES'!D:D,'Liste des DT-EIC-SITES'!C:C)","v":"EIC Bretagne Pays de la Loire"}]
[null,null,null,null,null,null,null,null,null,null,null,null,null,null,"Nemours-St-Pierre",{"$f":"_xlfn.XLOOKUP(O1282,'Liste des DT-EIC-SITES'!D:D,'Liste des DT-EIC-SITES'!C:C)","v":"EIC Paris Sud Est"}]
[null,null,null,null,null,null,null,null,null,null,null,null,null,null,"Nérac",{"$f":"_xlfn.XLOOKUP(O1283,'Liste des DT-EIC-SITES'!D:D,'Liste des DT-EIC-SITES'!C:C)","v":"EIC Aquitaine Poitou Charentes"}]
[null,null,null,null,null,null,null,null,null,null,null,null,null,null,"Nérondes",{"$f":"_xlfn.XLOOKUP(O1284,'Liste des DT-EIC-SITES'!D:D,'Liste des DT-EIC-SITES'!C:C)","v":"EIC Centre Limousin"}]
[null,null,null,null,null,null,null,null,null,null,null,null,null,null,"Nesle",{"$f":"_xlfn.XLOOKUP(O1285,'Liste des DT-EIC-SITES'!D:D,'Liste des DT-EIC-SITES'!C:C)","v":"EIC Hauts de France"}]
[null,null,null,null,null,null,null,null,null,null,null,null,null,null,"Neuf-Brisach-Ville",{"$f":"_xlfn.XLOOKUP(O1286,'Liste des DT-EIC-SITES'!D:D,'Liste des DT-EIC-SITES'!C:C)","v":"EIC Alsace"}]
[null,null,null,null,null,null,null,null,null,null,null,null,null,null,"Neufchâteau",{"$f":"_xlfn.XLOOKUP(O1287,'Liste des DT-EIC-SITES'!D:D,'Liste des DT-EIC-SITES'!C:C)","v":"EIC Lorraine Champagne Ardenne"}]
[null,null,null,null,null,null,null,null,null,null,null,null,null,null,"Neuillé-Pont-Pierre",{"$f":"_xlfn.XLOOKUP(O1288,'Liste des DT-EIC-SITES'!D:D,'Liste des DT-EIC-SITES'!C:C)","v":"EIC Centre Limousin"}]
[null,null,null,null,null,null,null,null,null,null,null,null,null,null,"Neuilly-lès-Dijon",{"$f":"_xlfn.XLOOKUP(O1289,'Liste des DT-EIC-SITES'!D:D,'Liste des DT-EIC-SITES'!C:C)","v":"EIC Bourgogne Franche Comté"}]
[null,null,null,null,null,null,null,null,null,null,null,null,null,null,"Neuilly-St-Front",{"$f":"_xlfn.XLOOKUP(O1290,'Liste des DT-EIC-SITES'!D:D,'Liste des DT-EIC-SITES'!C:C)","v":"EIC Lorraine Champagne Ardenne"}]
[null,null,null,null,null,null,null,null,null,null,null,null,null,null,"Neuilly-sur-Marne",{"$f":"_xlfn.XLOOKUP(O1291,'Liste des DT-EIC-SITES'!D:D,'Liste des DT-EIC-SITES'!C:C)","v":"EIC Paris Nord"}]
[null,null,null,null,null,null,null,null,null,null,null,null,null,null,"Neussargues",{"$f":"_xlfn.XLOOKUP(O1292,'Liste des DT-EIC-SITES'!D:D,'Liste des DT-EIC-SITES'!C:C)","v":"EIC Auvergne Nivernais"}]
[null,null,null,null,null,null,null,null,null,null,null,null,null,null,"Neuville-aux-Bois",{"$f":"_xlfn.XLOOKUP(O1293,'Liste des DT-EIC-SITES'!D:D,'Liste des DT-EIC-SITES'!C:C)","v":"EIC Centre Limousin"}]
[null,null,null,null,null,null,null,null,null,null,null,null,null,null,"Neuville-sur-Saône",{"$f":"_xlfn.XLOOKUP(O1294,'Liste des DT-EIC-SITES'!D:D,'Liste des DT-EIC-SITES'!C:C)","v":"EIC Rhône Alpes Lyon"}]
[null,null,null,null,null,null,null,null,null,null,null,null,null,null,"Neuvy-Pailloux",{"$f":"_xlfn.XLOOKUP(O1295,'Liste des DT-EIC-SITES'!D:D,'Liste des DT-EIC-SITES'!C:C)","v":"EIC Centre Limousin"}]
[null,null,null,null,null,null,null,null,null,null,null,null,null,null,"Neuvy-Sautour",{"$f":"_xlfn.XLOOKUP(O1296,'Liste des DT-EIC-SITES'!D:D,'Liste des DT-EIC-SITES'!C:C)","v":"EIC Auvergne Nivernais"}]
[null,null,null,null,null,null,null,null,null,null,null,null,null,null,"Neuvy-sur-Loire",{"$f":"_xlfn.XLOOKUP(O1297,'Liste des DT-EIC-SITES'!D:D,'Liste des DT-EIC-SITES'!C:C)","v":"EIC Auvergne Nivernais"}]
[null,null,null,null,null,null,null,null,null,null,null,null,null,null,"Nevers",{"$f":"_xlfn.XLOOKUP(O1298,'Liste des DT-EIC-SITES'!D:D,'Liste des DT-EIC-SITES'!C:C)","v":"EIC Auvergne Nivernais"}]
[null,null,null,null,null,null,null,null,null,null,null,null,null,null,"Nexon",{"$f":"_xlfn.XLOOKUP(O1299,'Liste des DT-EIC-SITES'!D:D,'Liste des DT-EIC-SITES'!C:C)","v":"EIC Centre Limousin"}]
[null,null,null,null,null,null,null,null,null,null,null,null,null,null,"Nice-St-Augustin",{"$f":"_xlfn.XLOOKUP(O1300,'Liste des DT-EIC-SITES'!D:D,'Liste des DT-EIC-SITES'!C:C)","v":"EIC Provence Alpes Côte d'Azur"}]
[null,null,null,null,null,null,null,null,null,null,null,null,null,null,"Nice-St-Roch",{"$f":"_xlfn.XLOOKUP(O1301,'Liste des DT-EIC-SITES'!D:D,'Liste des DT-EIC-SITES'!C:C)","v":"EIC Provence Alpes Côte d'Azur"}]
[null,null,null,null,null,null,null,null,null,null,null,null,null,null,"Nice-Ville",{"$f":"_xlfn.XLOOKUP(O1302,'Liste des DT-EIC-SITES'!D:D,'Liste des DT-EIC-SITES'!C:C)","v":"EIC Provence Alpes Côte d'Azur"}]
[null,null,null,null,null,null,null,null,null,null,null,null,null,null,"Nîmes",{"$f":"_xlfn.XLOOKUP(O1303,'Liste des DT-EIC-SITES'!D:D,'Liste des DT-EIC-SITES'!C:C)","v":"EIC Languedoc Roussillon"}]
[null,null,null,null,null,null,null,null,null,null,null,null,null,null,"Nîmes (IE)",{"$f":"_xlfn.XLOOKUP(O1304,'Liste des DT-EIC-SITES'!D:D,'Liste des DT-EIC-SITES'!C:C)","v":"EIC Languedoc Roussillon"}]
[null,null,null,null,null,null,null,null,null,null,null,null,null,null,"Nîmes-Courbessac (ex-Triage)",{"$f":"_xlfn.XLOOKUP(O1305,'Liste des DT-EIC-SITES'!D:D,'Liste des DT-EIC-SITES'!C:C)","v":"EIC Languedoc Roussillon"}]
[null,null,null,null,null,null,null,null,null,null,null,null,null,null,"Niort",{"$f":"_xlfn.XLOOKUP(O1306,'Liste des DT-EIC-SITES'!D:D,'Liste des DT-EIC-SITES'!C:C)","v":"EIC Aquitaine Poitou Charentes"}]
[null,null,null,null,null,null,null,null,null,null,null,null,null,null,"Niversac",{"$f":"_xlfn.XLOOKUP(O1307,'Liste des DT-EIC-SITES'!D:D,'Liste des DT-EIC-SITES'!C:C)","v":"EIC Aquitaine Poitou Charentes"}]
[null,null,null,null,null,null,null,null,null,null,null,null,null,null,"Noailles (Corrèze)",{"$f":"_xlfn.XLOOKUP(O1308,'Liste des DT-EIC-SITES'!D:D,'Liste des DT-EIC-SITES'!C:C)","v":"EIC Centre Limousin"}]
[null,null,null,null,null,null,null,null,null,null,null,null,null,null,"Nogaro",{"$f":"_xlfn.XLOOKUP(O1309,'Liste des DT-EIC-SITES'!D:D,'Liste des DT-EIC-SITES'!C:C)","v":"EIC Midi Pyrénées"}]
[null,null,null,null,null,null,null,null,null,null,null,null,null,null,"Nogent-l'Artaud-Charly",{"$f":"_xlfn.XLOOKUP(O1310,'Liste des DT-EIC-SITES'!D:D,'Liste des DT-EIC-SITES'!C:C)","v":"EIC Paris Est Ouest Francilien"}]
[null,null,null,null,null,null,null,null,null,null,null,null,null,null,"Nogent-Le Perreux",{"$f":"_xlfn.XLOOKUP(O1311,'Liste des DT-EIC-SITES'!D:D,'Liste des DT-EIC-SITES'!C:C)","v":"EIC Paris Est Ouest Francilien"}]
[null,null,null,null,null,null,null,null,null,null,null,null,null,null,"Nogent-le-Rotrou",{"$f":"_xlfn.XLOOKUP(O1312,'Liste des DT-EIC-SITES'!D:D,'Liste des DT-EIC-SITES'!C:C)","v":"EIC Centre Limousin"}]
[null,null,null,null,null,null,null,null,null,null,null,null,null,null,"Nogent-sur-Seine",{"$f":"_xlfn.XLOOKUP(O1313,'Liste des DT-EIC-SITES'!D:D,'Liste des DT-EIC-SITES'!C:C)","v":"EIC Lorraine Champagne Ardenne"}]
[null,null,null,null,null,null,null,null,null,null,null,null,null,null,"Nogent-sur-Vernisson",{"$f":"_xlfn.XLOOKUP(O1314,'Liste des DT-EIC-SITES'!D:D,'Liste des DT-EIC-SITES'!C:C)","v":"EIC Paris Sud Est"}]
[null,null,null,null,null,null,null,null,null,null,null,null,null,null,"Noirétable",{"$f":"_xlfn.XLOOKUP(O1315,'Liste des DT-EIC-SITES'!D:D,'Liste des DT-EIC-SITES'!C:C)","v":"EIC Rhône Alpes Lyon"}]
[null,null,null,null,null,null,null,null,null,null,null,null,null,null,"Noisy-le-Sec",{"$f":"_xlfn.XLOOKUP(O1316,'Liste des DT-EIC-SITES'!D:D,'Liste des DT-EIC-SITES'!C:C)","v":"EIC Paris Est Ouest Francilien"}]
[null,null,null,null,null,null,null,null,null,null,null,null,null,null,"Nort-sur-Erdre",{"$f":"_xlfn.XLOOKUP(O1317,'Liste des DT-EIC-SITES'!D:D,'Liste des DT-EIC-SITES'!C:C)","v":"EIC Bretagne Pays de la Loire"}]
[null,null,null,null,null,null,null,null,null,null,null,null,null,null,"Notre-Dame-de-Briançon",{"$f":"_xlfn.XLOOKUP(O1318,'Liste des DT-EIC-SITES'!D:D,'Liste des DT-EIC-SITES'!C:C)","v":"EIC Alpes"}]
[null,null,null,null,null,null,null,null,null,null,null,null,null,null,"Notre-Dame-d'Oé",{"$f":"_xlfn.XLOOKUP(O1319,'Liste des DT-EIC-SITES'!D:D,'Liste des DT-EIC-SITES'!C:C)","v":"EIC Centre Limousin"}]
[null,null,null,null,null,null,null,null,null,null,null,null,null,null,"Nouatre-Maillé",{"$f":"_xlfn.XLOOKUP(O1320,'Liste des DT-EIC-SITES'!D:D,'Liste des DT-EIC-SITES'!C:C)","v":"EIC Centre Limousin"}]
[null,null,null,null,null,null,null,null,null,null,null,null,null,null,"Nouzonville",{"$f":"_xlfn.XLOOKUP(O1321,'Liste des DT-EIC-SITES'!D:D,'Liste des DT-EIC-SITES'!C:C)","v":"EIC Lorraine Champagne Ardenne"}]
[null,null,null,null,null,null,null,null,null,null,null,null,null,null,"Noyelles-sur-Mer",{"$f":"_xlfn.XLOOKUP(O1322,'Liste des DT-EIC-SITES'!D:D,'Liste des DT-EIC-SITES'!C:C)","v":"EIC Hauts de France"}]
[null,null,null,null,null,null,null,null,null,null,null,null,null,null,"Noyon",{"$f":"_xlfn.XLOOKUP(O1323,'Liste des DT-EIC-SITES'!D:D,'Liste des DT-EIC-SITES'!C:C)","v":"EIC Hauts de France"}]
[null,null,null,null,null,null,null,null,null,null,null,null,null,null,"Nozières-Brignon",{"$f":"_xlfn.XLOOKUP(O1324,'Liste des DT-EIC-SITES'!D:D,'Liste des DT-EIC-SITES'!C:C)","v":"EIC Languedoc Roussillon"}]
[null,null,null,null,null,null,null,null,null,null,null,null,null,null,"Nuces",{"$f":"_xlfn.XLOOKUP(O1325,'Liste des DT-EIC-SITES'!D:D,'Liste des DT-EIC-SITES'!C:C)","v":"EIC Midi Pyrénées"}]
[null,null,null,null,null,null,null,null,null,null,null,null,null,null,"Nuisement",{"$f":"_xlfn.XLOOKUP(O1326,'Liste des DT-EIC-SITES'!D:D,'Liste des DT-EIC-SITES'!C:C)","v":"EIC Lorraine Champagne Ardenne"}]
[null,null,null,null,null,null,null,null,null,null,null,null,null,null,"Nuits-sous-Ravières",{"$f":"_xlfn.XLOOKUP(O1327,'Liste des DT-EIC-SITES'!D:D,'Liste des DT-EIC-SITES'!C:C)","v":"EIC Bourgogne Franche Comté"}]
[null,null,null,null,null,null,null,null,null,null,null,null,null,null,"Nuits-St-Georges",{"$f":"_xlfn.XLOOKUP(O1328,'Liste des DT-EIC-SITES'!D:D,'Liste des DT-EIC-SITES'!C:C)","v":"EIC Bourgogne Franche Comté"}]
[null,null,null,null,null,null,null,null,null,null,null,null,null,null,"Nurieux",{"$f":"_xlfn.XLOOKUP(O1329,'Liste des DT-EIC-SITES'!D:D,'Liste des DT-EIC-SITES'!C:C)","v":"EIC Alpes"}]
[null,null,null,null,null,null,null,null,null,null,null,null,null,null,"Oberhoffen-Camp-de-Haguenau",{"$f":"_xlfn.XLOOKUP(O1330,'Liste des DT-EIC-SITES'!D:D,'Liste des DT-EIC-SITES'!C:C)","v":"EIC Alsace"}]
[null,null,null,null,null,null,null,null,null,null,null,null,null,null,"Obermodern",{"$f":"_xlfn.XLOOKUP(O1331,'Liste des DT-EIC-SITES'!D:D,'Liste des DT-EIC-SITES'!C:C)","v":"EIC Alsace"}]
[null,null,null,null,null,null,null,null,null,null,null,null,null,null,"Obernai",{"$f":"_xlfn.XLOOKUP(O1332,'Liste des DT-EIC-SITES'!D:D,'Liste des DT-EIC-SITES'!C:C)","v":"EIC Alsace"}]
[null,null,null,null,null,null,null,null,null,null,null,null,null,null,"Objat",{"$f":"_xlfn.XLOOKUP(O1333,'Liste des DT-EIC-SITES'!D:D,'Liste des DT-EIC-SITES'!C:C)","v":"EIC Centre Limousin"}]
[null,null,null,null,null,null,null,null,null,null,null,null,null,null,"Oiry",{"$f":"_xlfn.XLOOKUP(O1334,'Liste des DT-EIC-SITES'!D:D,'Liste des DT-EIC-SITES'!C:C)","v":"EIC Lorraine Champagne Ardenne"}]
[null,null,null,null,null,null,null,null,null,null,null,null,null,null,"Oissel",{"$f":"_xlfn.XLOOKUP(O1335,'Liste des DT-EIC-SITES'!D:D,'Liste des DT-EIC-SITES'!C:C)","v":"EIC Normandie"}]
[null,null,null,null,null,null,null,null,null,null,null,null,null,null,"Olette-Canaveilles-les-Bains",{"$f":"_xlfn.XLOOKUP(O1336,'Liste des DT-EIC-SITES'!D:D,'Liste des DT-EIC-SITES'!C:C)","v":"EIC Languedoc Roussillon"}]
[null,null,null,null,null,null,null,null,null,null,null,null,null,null,"Oloron-Ste-Marie",{"$f":"_xlfn.XLOOKUP(O1337,'Liste des DT-EIC-SITES'!D:D,'Liste des DT-EIC-SITES'!C:C)","v":"EIC Aquitaine Poitou Charentes"}]
[null,null,null,null,null,null,null,null,null,null,null,null,null,null,"Onnaing",{"$f":"_xlfn.XLOOKUP(O1338,'Liste des DT-EIC-SITES'!D:D,'Liste des DT-EIC-SITES'!C:C)","v":"EIC Hauts de France"}]
[null,null,null,null,null,null,null,null,null,null,null,null,null,null,"Onville",{"$f":"_xlfn.XLOOKUP(O1339,'Liste des DT-EIC-SITES'!D:D,'Liste des DT-EIC-SITES'!C:C)","v":"EIC Lorraine Champagne Ardenne"}]
[null,null,null,null,null,null,null,null,null,null,null,null,null,null,"Onzain-Chaumont-sur-Loire",{"$f":"_xlfn.XLOOKUP(O1340,'Liste des DT-EIC-SITES'!D:D,'Liste des DT-EIC-SITES'!C:C)","v":"EIC Centre Limousin"}]
[null,null,null,null,null,null,null,null,null,null,null,null,null,null,"Orange",{"$f":"_xlfn.XLOOKUP(O1341,'Liste des DT-EIC-SITES'!D:D,'Liste des DT-EIC-SITES'!C:C)","v":"EIC Provence Alpes Côte d'Azur"}]
[null,null,null,null,null,null,null,null,null,null,null,null,null,null,"Orchamps",{"$f":"_xlfn.XLOOKUP(O1342,'Liste des DT-EIC-SITES'!D:D,'Liste des DT-EIC-SITES'!C:C)","v":"EIC Bourgogne Franche Comté"}]
[null,null,null,null,null,null,null,null,null,null,null,null,null,null,"Orchies",{"$f":"_xlfn.XLOOKUP(O1343,'Liste des DT-EIC-SITES'!D:D,'Liste des DT-EIC-SITES'!C:C)","v":"EIC Hauts de France"}]
[null,null,null,null,null,null,null,null,null,null,null,null,null,null,"Orgères",{"$f":"_xlfn.XLOOKUP(O1344,'Liste des DT-EIC-SITES'!D:D,'Liste des DT-EIC-SITES'!C:C)","v":"EIC Centre Limousin"}]
[null,null,null,null,null,null,null,null,null,null,null,null,null,null,"Orgon",{"$f":"_xlfn.XLOOKUP(O1345,'Liste des DT-EIC-SITES'!D:D,'Liste des DT-EIC-SITES'!C:C)","v":"EIC Provence Alpes Côte d'Azur"}]
[null,null,null,null,null,null,null,null,null,null,null,null,null,null,"Origny-Ste-Benoite",{"$f":"_xlfn.XLOOKUP(O1346,'Liste des DT-EIC-SITES'!D:D,'Liste des DT-EIC-SITES'!C:C)","v":"EIC Hauts de France"}]
[null,null,null,null,null,null,null,null,null,null,null,null,null,null,"Orléans",{"$f":"_xlfn.XLOOKUP(O1347,'Liste des DT-EIC-SITES'!D:D,'Liste des DT-EIC-SITES'!C:C)","v":"EIC Centre Limousin"}]
[null,null,null,null,null,null,null,null,null,null,null,null,null,null,"Orly-Ville",{"$f":"_xlfn.XLOOKUP(O1348,'Liste des DT-EIC-SITES'!D:D,'Liste des DT-EIC-SITES'!C:C)","v":"EIC Paris Sud Ouest"}]
[null,null,null,null,null,null,null,null,null,null,null,null,null,null,"Ormoy-Villers",{"$f":"_xlfn.XLOOKUP(O1349,'Liste des DT-EIC-SITES'!D:D,'Liste des DT-EIC-SITES'!C:C)","v":"EIC Paris Nord"}]
[null,null,null,null,null,null,null,null,null,null,null,null,null,null,"Orry-la-Ville-Coye",{"$f":"_xlfn.XLOOKUP(O1350,'Liste des DT-EIC-SITES'!D:D,'Liste des DT-EIC-SITES'!C:C)","v":"EIC Paris Nord"}]
[null,null,null,null,null,null,null,null,null,null,null,null,null,null,"Ossun",{"$f":"_xlfn.XLOOKUP(O1351,'Liste des DT-EIC-SITES'!D:D,'Liste des DT-EIC-SITES'!C:C)","v":"EIC Paris Sud Est"}]
[null,null,null,null,null,null,null,null,null,null,null,null,null,null,"Oudon",{"$f":"_xlfn.XLOOKUP(O1352,'Liste des DT-EIC-SITES'!D:D,'Liste des DT-EIC-SITES'!C:C)","v":"EIC Bretagne Pays de la Loire"}]
[null,null,null,null,null,null,null,null,null,null,null,null,null,null,"Oulchy-Breny",{"$f":"_xlfn.XLOOKUP(O1353,'Liste des DT-EIC-SITES'!D:D,'Liste des DT-EIC-SITES'!C:C)","v":"EIC Lorraine Champagne Ardenne"}]
[null,null,null,null,null,null,null,null,null,null,null,null,null,null,"Oullins",{"$f":"_xlfn.XLOOKUP(O1354,'Liste des DT-EIC-SITES'!D:D,'Liste des DT-EIC-SITES'!C:C)","v":"EIC Rhône Alpes Lyon"}]
[null,null,null,null,null,null,null,null,null,null,null,null,null,null,"Outreau",{"$f":"_xlfn.XLOOKUP(O1355,'Liste des DT-EIC-SITES'!D:D,'Liste des DT-EIC-SITES'!C:C)","v":"EIC Hauts de France"}]
[null,null,null,null,null,null,null,null,null,null,null,null,null,null,"Oyonnax",{"$f":"_xlfn.XLOOKUP(O1356,'Liste des DT-EIC-SITES'!D:D,'Liste des DT-EIC-SITES'!C:C)","v":"EIC Alpes"}]
[null,null,null,null,null,null,null,null,null,null,null,null,null,null,"Pagny",{"$f":"_xlfn.XLOOKUP(O1357,'Liste des DT-EIC-SITES'!D:D,'Liste des DT-EIC-SITES'!C:C)","v":"EIC Bourgogne Franche Comté"}]
[null,null,null,null,null,null,null,null,null,null,null,null,null,null,"Pagny-sur-Meuse",{"$f":"_xlfn.XLOOKUP(O1358,'Liste des DT-EIC-SITES'!D:D,'Liste des DT-EIC-SITES'!C:C)","v":"EIC Lorraine Champagne Ardenne"}]
[null,null,null,null,null,null,null,null,null,null,null,null,null,null,"Pagny-sur-Moselle",{"$f":"_xlfn.XLOOKUP(O1359,'Liste des DT-EIC-SITES'!D:D,'Liste des DT-EIC-SITES'!C:C)","v":"EIC Lorraine Champagne Ardenne"}]
[null,null,null,null,null,null,null,null,null,null,null,null,null,null,"Paimpol",{"$f":"_xlfn.XLOOKUP(O1360,'Liste des DT-EIC-SITES'!D:D,'Liste des DT-EIC-SITES'!C:C)","v":"EIC Bretagne Pays de la Loire"}]
[null,null,null,null,null,null,null,null,null,null,null,null,null,null,"Pamiers",{"$f":"_xlfn.XLOOKUP(O1361,'Liste des DT-EIC-SITES'!D:D,'Liste des DT-EIC-SITES'!C:C)","v":"EIC Midi Pyrénées"}]
[null,null,null,null,null,null,null,null,null,null,null,null,null,null,"Pamproux",{"$f":"_xlfn.XLOOKUP(O1362,'Liste des DT-EIC-SITES'!D:D,'Liste des DT-EIC-SITES'!C:C)","v":"EIC Aquitaine Poitou Charentes"}]
[null,null,null,null,null,null,null,null,null,null,null,null,null,null,"Pantin",{"$f":"_xlfn.XLOOKUP(O1363,'Liste des DT-EIC-SITES'!D:D,'Liste des DT-EIC-SITES'!C:C)","v":"EIC Paris Est Ouest Francilien"}]
[null,null,null,null,null,null,null,null,null,null,null,null,null,null,"Paray-le-Monial",{"$f":"_xlfn.XLOOKUP(O1364,'Liste des DT-EIC-SITES'!D:D,'Liste des DT-EIC-SITES'!C:C)","v":"EIC Bourgogne Franche Comté"}]
[null,null,null,null,null,null,null,null,null,null,null,null,null,null,"Parc Divisionnaire VB",{"$f":"_xlfn.XLOOKUP(O1365,'Liste des DT-EIC-SITES'!D:D,'Liste des DT-EIC-SITES'!C:C)","v":"EIC Bourgogne Franche Comté"}]
[null,null,null,null,null,null,null,null,null,null,null,null,null,null,"Parc-des-Expositions",{"$f":"_xlfn.XLOOKUP(O1366,'Liste des DT-EIC-SITES'!D:D,'Liste des DT-EIC-SITES'!C:C)","v":"EIC Paris Nord"}]
[null,null,null,null,null,null,null,null,null,null,null,null,null,null,"Parcey",{"$f":"_xlfn.XLOOKUP(O1367,'Liste des DT-EIC-SITES'!D:D,'Liste des DT-EIC-SITES'!C:C)","v":"EIC Bourgogne Franche Comté"}]
[null,null,null,null,null,null,null,null,null,null,null,null,null,null,"Parcoul-Médillac",{"$f":"_xlfn.XLOOKUP(O1368,'Liste des DT-EIC-SITES'!D:D,'Liste des DT-EIC-SITES'!C:C)","v":"EIC Aquitaine Poitou Charentes"}]
[null,null,null,null,null,null,null,null,null,null,null,null,null,null,"Paris-Austerlitz",{"$f":"_xlfn.XLOOKUP(O1369,'Liste des DT-EIC-SITES'!D:D,'Liste des DT-EIC-SITES'!C:C)","v":"EIC Paris Sud Ouest"}]
[null,null,null,null,null,null,null,null,null,null,null,null,null,null,"Paris-Batignolles",{"$f":"_xlfn.XLOOKUP(O1370,'Liste des DT-EIC-SITES'!D:D,'Liste des DT-EIC-SITES'!C:C)","v":"EIC Paris Est Ouest Francilien"}]
[null,null,null,null,null,null,null,null,null,null,null,null,null,null,"Paris-Bercy",{"$f":"_xlfn.XLOOKUP(O1371,'Liste des DT-EIC-SITES'!D:D,'Liste des DT-EIC-SITES'!C:C)","v":"EIC Paris Sud Est"}]
[null,null,null,null,null,null,null,null,null,null,null,null,null,null,"Paris-Bercy-Charolais",{"$f":"_xlfn.XLOOKUP(O1372,'Liste des DT-EIC-SITES'!D:D,'Liste des DT-EIC-SITES'!C:C)","v":"EIC Paris Sud Est"}]
[null,null,null,null,null,null,null,null,null,null,null,null,null,null,"Paris-Bercy-Conflans",{"$f":"_xlfn.XLOOKUP(O1373,'Liste des DT-EIC-SITES'!D:D,'Liste des DT-EIC-SITES'!C:C)","v":"EIC Paris Sud Est"}]
[null,null,null,null,null,null,null,null,null,null,null,null,null,null,"Paris-Est",{"$f":"_xlfn.XLOOKUP(O1374,'Liste des DT-EIC-SITES'!D:D,'Liste des DT-EIC-SITES'!C:C)","v":"EIC Paris Est Ouest Francilien"}]
[null,null,null,null,null,null,null,null,null,null,null,null,null,null,"Paris-Gare-de-Lyon",{"$f":"_xlfn.XLOOKUP(O1375,'Liste des DT-EIC-SITES'!D:D,'Liste des DT-EIC-SITES'!C:C)","v":"EIC Paris Sud Est"}]
[null,null,null,null,null,null,null,null,null,null,null,null,null,null,"Paris-La Chapelle",{"$f":"_xlfn.XLOOKUP(O1376,'Liste des DT-EIC-SITES'!D:D,'Liste des DT-EIC-SITES'!C:C)","v":"EIC Paris Nord"}]
[null,null,null,null,null,null,null,null,null,null,null,null,null,null,"Paris-La Chapelle-Évangile",{"$f":"_xlfn.XLOOKUP(O1377,'Liste des DT-EIC-SITES'!D:D,'Liste des DT-EIC-SITES'!C:C)","v":"EIC Paris Nord"}]
[null,null,null,null,null,null,null,null,null,null,null,null,null,null,"Paris-Nord",{"$f":"_xlfn.XLOOKUP(O1378,'Liste des DT-EIC-SITES'!D:D,'Liste des DT-EIC-SITES'!C:C)","v":"EIC Paris Nord"}]
[null,null,null,null,null,null,null,null,null,null,null,null,null,null,"Paris-St-Lazare",{"$f":"_xlfn.XLOOKUP(O1379,'Liste des DT-EIC-SITES'!D:D,'Liste des DT-EIC-SITES'!C:C)","v":"EIC Paris Est Ouest Francilien"}]
[null,null,null,null,null,null,null,null,null,null,null,null,null,null,"Paris-Tolbiac",{"$f":"_xlfn.XLOOKUP(O1380,'Liste des DT-EIC-SITES'!D:D,'Liste des DT-EIC-SITES'!C:C)","v":"EIC Paris Sud Ouest"}]
[null,null,null,null,null,null,null,null,null,null,null,null,null,null,"Paris-Vaugirard",{"$f":"_xlfn.XLOOKUP(O1381,'Liste des DT-EIC-SITES'!D:D,'Liste des DT-EIC-SITES'!C:C)","v":"EIC Paris Sud Ouest"}]
[null,null,null,null,null,null,null,null,null,null,null,null,null,null,"Parsac-Gouzon",{"$f":"_xlfn.XLOOKUP(O1382,'Liste des DT-EIC-SITES'!D:D,'Liste des DT-EIC-SITES'!C:C)","v":"EIC Centre Limousin"}]
[null,null,null,null,null,null,null,null,null,null,null,null,null,null,"Parthenay",{"$f":"_xlfn.XLOOKUP(O1383,'Liste des DT-EIC-SITES'!D:D,'Liste des DT-EIC-SITES'!C:C)","v":"EIC Aquitaine Poitou Charentes"}]
[null,null,null,null,null,null,null,null,null,null,null,null,null,null,"Pas-des-Lanciers",{"$f":"_xlfn.XLOOKUP(O1384,'Liste des DT-EIC-SITES'!D:D,'Liste des DT-EIC-SITES'!C:C)","v":"EIC Provence Alpes Côte d'Azur"}]
[null,null,null,null,null,null,null,null,null,null,null,null,null,null,"Pasilly",{"$f":"_xlfn.XLOOKUP(O1385,'Liste des DT-EIC-SITES'!D:D,'Liste des DT-EIC-SITES'!C:C)","v":"EIC Paris Sud Est"}]
[null,null,null,null,null,null,null,null,null,null,null,null,null,null,"Patay",{"$f":"_xlfn.XLOOKUP(O1386,'Liste des DT-EIC-SITES'!D:D,'Liste des DT-EIC-SITES'!C:C)","v":"EIC Centre Limousin"}]
[null,null,null,null,null,null,null,null,null,null,null,null,null,null,"Pau",{"$f":"_xlfn.XLOOKUP(O1387,'Liste des DT-EIC-SITES'!D:D,'Liste des DT-EIC-SITES'!C:C)","v":"EIC Aquitaine Poitou Charentes"}]
[null,null,null,null,null,null,null,null,null,null,null,null,null,null,"Pauillac",{"$f":"_xlfn.XLOOKUP(O1388,'Liste des DT-EIC-SITES'!D:D,'Liste des DT-EIC-SITES'!C:C)","v":"EIC Aquitaine Poitou Charentes"}]
[null,null,null,null,null,null,null,null,null,null,null,null,null,null,"Pavillon-lès-Grancey",{"$f":"_xlfn.XLOOKUP(O1389,'Liste des DT-EIC-SITES'!D:D,'Liste des DT-EIC-SITES'!C:C)","v":"EIC Paris Sud Est"}]
[null,null,null,null,null,null,null,null,null,null,null,null,null,null,"Peille",{"$f":"_xlfn.XLOOKUP(O1390,'Liste des DT-EIC-SITES'!D:D,'Liste des DT-EIC-SITES'!C:C)","v":"EIC Provence Alpes Côte d'Azur"}]
[null,null,null,null,null,null,null,null,null,null,null,null,null,null,"Peltre",{"$f":"_xlfn.XLOOKUP(O1391,'Liste des DT-EIC-SITES'!D:D,'Liste des DT-EIC-SITES'!C:C)","v":"EIC Lorraine Champagne Ardenne"}]
[null,null,null,null,null,null,null,null,null,null,null,null,null,null,"Penhoët",{"$f":"_xlfn.XLOOKUP(O1392,'Liste des DT-EIC-SITES'!D:D,'Liste des DT-EIC-SITES'!C:C)","v":"EIC Bretagne Pays de la Loire"}]
[null,null,null,null,null,null,null,null,null,null,null,null,null,null,"Penne",{"$f":"_xlfn.XLOOKUP(O1393,'Liste des DT-EIC-SITES'!D:D,'Liste des DT-EIC-SITES'!C:C)","v":"EIC Aquitaine Poitou Charentes"}]
[null,null,null,null,null,null,null,null,null,null,null,null,null,null,"Périgueux",{"$f":"_xlfn.XLOOKUP(O1394,'Liste des DT-EIC-SITES'!D:D,'Liste des DT-EIC-SITES'!C:C)","v":"EIC Aquitaine Poitou Charentes"}]
[null,null,null,null,null,null,null,null,null,null,null,null,null,null,"Perpignan",{"$f":"_xlfn.XLOOKUP(O1395,'Liste des DT-EIC-SITES'!D:D,'Liste des DT-EIC-SITES'!C:C)","v":"EIC Languedoc Roussillon"}]
[null,null,null,null,null,null,null,null,null,null,null,null,null,null,"Perpignan-Roussillon",{"$f":"_xlfn.XLOOKUP(O1396,'Liste des DT-EIC-SITES'!D:D,'Liste des DT-EIC-SITES'!C:C)","v":"EIC Languedoc Roussillon"}]
[null,null,null,null,null,null,null,null,null,null,null,null,null,null,"Perrignier",{"$f":"_xlfn.XLOOKUP(O1397,'Liste des DT-EIC-SITES'!D:D,'Liste des DT-EIC-SITES'!C:C)","v":"EIC Alpes"}]
[null,null,null,null,null,null,null,null,null,null,null,null,null,null,"Persan-Beaumont",{"$f":"_xlfn.XLOOKUP(O1398,'Liste des DT-EIC-SITES'!D:D,'Liste des DT-EIC-SITES'!C:C)","v":"EIC Paris Nord"}]
[null,null,null,null,null,null,null,null,null,null,null,null,null,null,"Pertuis",{"$f":"_xlfn.XLOOKUP(O1399,'Liste des DT-EIC-SITES'!D:D,'Liste des DT-EIC-SITES'!C:C)","v":"EIC Provence Alpes Côte d'Azur"}]
[null,null,null,null,null,null,null,null,null,null,null,null,null,null,"Petit-Coeur-La Léchère-les-Bains",{"$f":"_xlfn.XLOOKUP(O1400,'Liste des DT-EIC-SITES'!D:D,'Liste des DT-EIC-SITES'!C:C)","v":"EIC Alpes"}]
[null,null,null,null,null,null,null,null,null,null,null,null,null,null,"Petit-Couronne",{"$f":"_xlfn.XLOOKUP(O1401,'Liste des DT-EIC-SITES'!D:D,'Liste des DT-EIC-SITES'!C:C)","v":"EIC Normandie"}]
[null,null,null,null,null,null,null,null,null,null,null,null,null,null,"Petite-Synthe",{"$f":"_xlfn.XLOOKUP(O1402,'Liste des DT-EIC-SITES'!D:D,'Liste des DT-EIC-SITES'!C:C)","v":"EIC Hauts de France"}]
[null,null,null,null,null,null,null,null,null,null,null,null,null,null,"Petit-Quevilly",{"$f":"_xlfn.XLOOKUP(O1403,'Liste des DT-EIC-SITES'!D:D,'Liste des DT-EIC-SITES'!C:C)","v":"EIC Normandie"}]
[null,null,null,null,null,null,null,null,null,null,null,null,null,null,"Petit-Réderching",{"$f":"_xlfn.XLOOKUP(O1404,'Liste des DT-EIC-SITES'!D:D,'Liste des DT-EIC-SITES'!C:C)","v":"EIC Lorraine Champagne Ardenne"}]
[null,null,null,null,null,null,null,null,null,null,null,null,null,null,"Peynier-Rousset",{"$f":"_xlfn.XLOOKUP(O1405,'Liste des DT-EIC-SITES'!D:D,'Liste des DT-EIC-SITES'!C:C)","v":"EIC Provence Alpes Côte d'Azur"}]
[null,null,null,null,null,null,null,null,null,null,null,null,null,null,"Peyraud",{"$f":"_xlfn.XLOOKUP(O1406,'Liste des DT-EIC-SITES'!D:D,'Liste des DT-EIC-SITES'!C:C)","v":"EIC Rhône Alpes Lyon"}]
[null,null,null,null,null,null,null,null,null,null,null,null,null,null,"Peyrehorade",{"$f":"_xlfn.XLOOKUP(O1407,'Liste des DT-EIC-SITES'!D:D,'Liste des DT-EIC-SITES'!C:C)","v":"EIC Aquitaine Poitou Charentes"}]
[null,null,null,null,null,null,null,null,null,null,null,null,null,null,"Pezou",{"$f":"_xlfn.XLOOKUP(O1408,'Liste des DT-EIC-SITES'!D:D,'Liste des DT-EIC-SITES'!C:C)","v":"EIC Centre Limousin"}]
[null,null,null,null,null,null,null,null,null,null,null,null,null,null,"Phillips Eclairage",{"$f":"_xlfn.XLOOKUP(O1409,'Liste des DT-EIC-SITES'!D:D,'Liste des DT-EIC-SITES'!C:C)","v":"EIC Centre Limousin"}]
[null,null,null,null,null,null,null,null,null,null,null,null,null,null,"Pierre-Buffière",{"$f":"_xlfn.XLOOKUP(O1410,'Liste des DT-EIC-SITES'!D:D,'Liste des DT-EIC-SITES'!C:C)","v":"EIC Centre Limousin"}]
[null,null,null,null,null,null,null,null,null,null,null,null,null,null,"Pierrelatte",{"$f":"_xlfn.XLOOKUP(O1411,'Liste des DT-EIC-SITES'!D:D,'Liste des DT-EIC-SITES'!C:C)","v":"EIC Rhône Alpes Lyon"}]
[null,null,null,null,null,null,null,null,null,null,null,null,null,null,"PIOLENC LGV",{"$f":"_xlfn.XLOOKUP(O1412,'Liste des DT-EIC-SITES'!D:D,'Liste des DT-EIC-SITES'!C:C)","v":"EIC Provence Alpes Côte d'Azur"}]
[null,null,null,null,null,null,null,null,null,null,null,null,null,null,"Pithiviers",{"$f":"_xlfn.XLOOKUP(O1413,'Liste des DT-EIC-SITES'!D:D,'Liste des DT-EIC-SITES'!C:C)","v":"EIC Centre Limousin"}]
[null,null,null,null,null,null,null,null,null,null,null,null,null,null,"Plaintel",{"$f":"_xlfn.XLOOKUP(O1414,'Liste des DT-EIC-SITES'!D:D,'Liste des DT-EIC-SITES'!C:C)","v":"EIC Bretagne Pays de la Loire"}]
[null,null,null,null,null,null,null,null,null,null,null,null,null,null,"Plaisir-Grignon",{"$f":"_xlfn.XLOOKUP(O1415,'Liste des DT-EIC-SITES'!D:D,'Liste des DT-EIC-SITES'!C:C)","v":"EIC Paris Sud Ouest"}]
[null,null,null,null,null,null,null,null,null,null,null,null,null,null,"Plancoët",{"$f":"_xlfn.XLOOKUP(O1416,'Liste des DT-EIC-SITES'!D:D,'Liste des DT-EIC-SITES'!C:C)","v":"EIC Bretagne Pays de la Loire"}]
[null,null,null,null,null,null,null,null,null,null,null,null,null,null,"Plestan",{"$f":"_xlfn.XLOOKUP(O1417,'Liste des DT-EIC-SITES'!D:D,'Liste des DT-EIC-SITES'!C:C)","v":"EIC Bretagne Pays de la Loire"}]
[null,null,null,null,null,null,null,null,null,null,null,null,null,null,"Pleyber-Christ",{"$f":"_xlfn.XLOOKUP(O1418,'Liste des DT-EIC-SITES'!D:D,'Liste des DT-EIC-SITES'!C:C)","v":"EIC Bretagne Pays de la Loire"}]
[null,null,null,null,null,null,null,null,null,null,null,null,null,null,"Plouaret-Trégor",{"$f":"_xlfn.XLOOKUP(O1419,'Liste des DT-EIC-SITES'!D:D,'Liste des DT-EIC-SITES'!C:C)","v":"EIC Bretagne Pays de la Loire"}]
[null,null,null,null,null,null,null,null,null,null,null,null,null,null,"Plounérin",{"$f":"_xlfn.XLOOKUP(O1420,'Liste des DT-EIC-SITES'!D:D,'Liste des DT-EIC-SITES'!C:C)","v":"EIC Bretagne Pays de la Loire"}]
[null,null,null,null,null,null,null,null,null,null,null,null,null,null,"Poinçon",{"$f":"_xlfn.XLOOKUP(O1421,'Liste des DT-EIC-SITES'!D:D,'Liste des DT-EIC-SITES'!C:C)","v":"EIC Bourgogne Franche Comté"}]
[null,null,null,null,null,null,null,null,null,null,null,null,null,null,"Poinson-Beneuvre",{"$f":"_xlfn.XLOOKUP(O1422,'Liste des DT-EIC-SITES'!D:D,'Liste des DT-EIC-SITES'!C:C)","v":"EIC Bourgogne Franche Comté"}]
[null,null,null,null,null,null,null,null,null,null,null,null,null,null,"Pointe-de-Grave",{"$f":"_xlfn.XLOOKUP(O1423,'Liste des DT-EIC-SITES'!D:D,'Liste des DT-EIC-SITES'!C:C)","v":"EIC Aquitaine Poitou Charentes"}]
[null,null,null,null,null,null,null,null,null,null,null,null,null,null,"Poissy",{"$f":"_xlfn.XLOOKUP(O1424,'Liste des DT-EIC-SITES'!D:D,'Liste des DT-EIC-SITES'!C:C)","v":"EIC Paris Est Ouest Francilien"}]
[null,null,null,null,null,null,null,null,null,null,null,null,null,null,"Poitiers",{"$f":"_xlfn.XLOOKUP(O1425,'Liste des DT-EIC-SITES'!D:D,'Liste des DT-EIC-SITES'!C:C)","v":"EIC Aquitaine Poitou Charentes"}]
[null,null,null,null,null,null,null,null,null,null,null,null,null,null,"Poix-de-Picardie",{"$f":"_xlfn.XLOOKUP(O1426,'Liste des DT-EIC-SITES'!D:D,'Liste des DT-EIC-SITES'!C:C)","v":"EIC Hauts de France"}]
[null,null,null,null,null,null,null,null,null,null,null,null,null,null,"Poix-Terron",{"$f":"_xlfn.XLOOKUP(O1427,'Liste des DT-EIC-SITES'!D:D,'Liste des DT-EIC-SITES'!C:C)","v":"EIC Lorraine Champagne Ardenne"}]
[null,null,null,null,null,null,null,null,null,null,null,null,null,null,"Poligny",{"$f":"_xlfn.XLOOKUP(O1428,'Liste des DT-EIC-SITES'!D:D,'Liste des DT-EIC-SITES'!C:C)","v":"EIC Bourgogne Franche Comté"}]
[null,null,null,null,null,null,null,null,null,null,null,null,null,null,"Polisot",{"$f":"_xlfn.XLOOKUP(O1429,'Liste des DT-EIC-SITES'!D:D,'Liste des DT-EIC-SITES'!C:C)","v":"EIC Lorraine Champagne Ardenne"}]
[null,null,null,null,null,null,null,null,null,null,null,null,null,null,"Pompadour",{"$f":"_xlfn.XLOOKUP(O1430,'Liste des DT-EIC-SITES'!D:D,'Liste des DT-EIC-SITES'!C:C)","v":"EIC Centre Limousin"}]
[null,null,null,null,null,null,null,null,null,null,null,null,null,null,"Pompey",{"$f":"_xlfn.XLOOKUP(O1431,'Liste des DT-EIC-SITES'!D:D,'Liste des DT-EIC-SITES'!C:C)","v":"EIC Lorraine Champagne Ardenne"}]
[null,null,null,null,null,null,null,null,null,null,null,null,null,null,"Pons",{"$f":"_xlfn.XLOOKUP(O1432,'Liste des DT-EIC-SITES'!D:D,'Liste des DT-EIC-SITES'!C:C)","v":"EIC Aquitaine Poitou Charentes"}]
[null,null,null,null,null,null,null,null,null,null,null,null,null,null,"Pontailler-sur-Saône",{"$f":"_xlfn.XLOOKUP(O1433,'Liste des DT-EIC-SITES'!D:D,'Liste des DT-EIC-SITES'!C:C)","v":"EIC Bourgogne Franche Comté"}]
[null,null,null,null,null,null,null,null,null,null,null,null,null,null,"Pont-à-Mousson",{"$f":"_xlfn.XLOOKUP(O1434,'Liste des DT-EIC-SITES'!D:D,'Liste des DT-EIC-SITES'!C:C)","v":"EIC Lorraine Champagne Ardenne"}]
[null,null,null,null,null,null,null,null,null,null,null,null,null,null,"Pontanevaux",{"$f":"_xlfn.XLOOKUP(O1435,'Liste des DT-EIC-SITES'!D:D,'Liste des DT-EIC-SITES'!C:C)","v":"EIC Bourgogne Franche Comté"}]
[null,null,null,null,null,null,null,null,null,null,null,null,null,null,"Pontarlier",{"$f":"_xlfn.XLOOKUP(O1436,'Liste des DT-EIC-SITES'!D:D,'Liste des DT-EIC-SITES'!C:C)","v":"EIC Bourgogne Franche Comté"}]
[null,null,null,null,null,null,null,null,null,null,null,null,null,null,"Pont-à-Vendin",{"$f":"_xlfn.XLOOKUP(O1437,'Liste des DT-EIC-SITES'!D:D,'Liste des DT-EIC-SITES'!C:C)","v":"EIC Hauts de France"}]
[null,null,null,null,null,null,null,null,null,null,null,null,null,null,"Pont-Cardinet",{"$f":"_xlfn.XLOOKUP(O1438,'Liste des DT-EIC-SITES'!D:D,'Liste des DT-EIC-SITES'!C:C)","v":"EIC Paris Est Ouest Francilien"}]
[null,null,null,null,null,null,null,null,null,null,null,null,null,null,"Pontcharra-sur-Breda-Allevard",{"$f":"_xlfn.XLOOKUP(O1439,'Liste des DT-EIC-SITES'!D:D,'Liste des DT-EIC-SITES'!C:C)","v":"EIC Alpes"}]
[null,null,null,null,null,null,null,null,null,null,null,null,null,null,"Pontchâteau",{"$f":"_xlfn.XLOOKUP(O1440,'Liste des DT-EIC-SITES'!D:D,'Liste des DT-EIC-SITES'!C:C)","v":"EIC Bretagne Pays de la Loire"}]
[null,null,null,null,null,null,null,null,null,null,null,null,null,null,"Pont-de-Beauvoisin",{"$f":"_xlfn.XLOOKUP(O1441,'Liste des DT-EIC-SITES'!D:D,'Liste des DT-EIC-SITES'!C:C)","v":"EIC Alpes"}]
[null,null,null,null,null,null,null,null,null,null,null,null,null,null,"Pont-de-Claix",{"$f":"_xlfn.XLOOKUP(O1442,'Liste des DT-EIC-SITES'!D:D,'Liste des DT-EIC-SITES'!C:C)","v":"EIC Alpes"}]
[null,null,null,null,null,null,null,null,null,null,null,null,null,null,"Pont-de-Dore",{"$f":"_xlfn.XLOOKUP(O1443,'Liste des DT-EIC-SITES'!D:D,'Liste des DT-EIC-SITES'!C:C)","v":"EIC Auvergne Nivernais"}]
[null,null,null,null,null,null,null,null,null,null,null,null,null,null,"Pont-de-la-Deûle",{"$f":"_xlfn.XLOOKUP(O1444,'Liste des DT-EIC-SITES'!D:D,'Liste des DT-EIC-SITES'!C:C)","v":"EIC Hauts de France"}]
[null,null,null,null,null,null,null,null,null,null,null,null,null,null,"Pont-de-l'Arche",{"$f":"_xlfn.XLOOKUP(O1445,'Liste des DT-EIC-SITES'!D:D,'Liste des DT-EIC-SITES'!C:C)","v":"EIC Normandie"}]
[null,null,null,null,null,null,null,null,null,null,null,null,null,null,"Pont-de-Roide",{"$f":"_xlfn.XLOOKUP(O1446,'Liste des DT-EIC-SITES'!D:D,'Liste des DT-EIC-SITES'!C:C)","v":"EIC Alsace"}]
[null,null,null,null,null,null,null,null,null,null,null,null,null,null,"Pont-de-Veyle",{"$f":"_xlfn.XLOOKUP(O1447,'Liste des DT-EIC-SITES'!D:D,'Liste des DT-EIC-SITES'!C:C)","v":"EIC Alpes"}]
[null,null,null,null,null,null,null,null,null,null,null,null,null,null,"Pont-du-Château",{"$f":"_xlfn.XLOOKUP(O1448,'Liste des DT-EIC-SITES'!D:D,'Liste des DT-EIC-SITES'!C:C)","v":"EIC Auvergne Nivernais"}]
[null,null,null,null,null,null,null,null,null,null,null,null,null,null,"Pontivy",{"$f":"_xlfn.XLOOKUP(O1449,'Liste des DT-EIC-SITES'!D:D,'Liste des DT-EIC-SITES'!C:C)","v":"EIC Bretagne Pays de la Loire"}]
[null,null,null,null,null,null,null,null,null,null,null,null,null,null,"Pontmort",{"$f":"_xlfn.XLOOKUP(O1450,'Liste des DT-EIC-SITES'!D:D,'Liste des DT-EIC-SITES'!C:C)","v":"EIC Auvergne Nivernais"}]
[null,null,null,null,null,null,null,null,null,null,null,null,null,null,"Pontoise",{"$f":"_xlfn.XLOOKUP(O1451,'Liste des DT-EIC-SITES'!D:D,'Liste des DT-EIC-SITES'!C:C)","v":"EIC Paris Nord"}]
[null,null,null,null,null,null,null,null,null,null,null,null,null,null,"Pontrieux",{"$f":"_xlfn.XLOOKUP(O1452,'Liste des DT-EIC-SITES'!D:D,'Liste des DT-EIC-SITES'!C:C)","v":"EIC Bretagne Pays de la Loire"}]
[null,null,null,null,null,null,null,null,null,null,null,null,null,null,"Pont-Ste-Maxence",{"$f":"_xlfn.XLOOKUP(O1453,'Liste des DT-EIC-SITES'!D:D,'Liste des DT-EIC-SITES'!C:C)","v":"EIC Paris Nord"}]
[null,null,null,null,null,null,null,null,null,null,null,null,null,null,"Pont-St-Esprit",{"$f":"_xlfn.XLOOKUP(O1454,'Liste des DT-EIC-SITES'!D:D,'Liste des DT-EIC-SITES'!C:C)","v":"EIC Languedoc Roussillon"}]
[null,null,null,null,null,null,null,null,null,null,null,null,null,null,"Pont-St-Vincent",{"$f":"_xlfn.XLOOKUP(O1455,'Liste des DT-EIC-SITES'!D:D,'Liste des DT-EIC-SITES'!C:C)","v":"EIC Lorraine Champagne Ardenne"}]
[null,null,null,null,null,null,null,null,null,null,null,null,null,null,"Pornic",{"$f":"_xlfn.XLOOKUP(O1456,'Liste des DT-EIC-SITES'!D:D,'Liste des DT-EIC-SITES'!C:C)","v":"EIC Bretagne Pays de la Loire"}]
[null,null,null,null,null,null,null,null,null,null,null,null,null,null,"Port Fluvial",{"$f":"_xlfn.XLOOKUP(O1457,'Liste des DT-EIC-SITES'!D:D,'Liste des DT-EIC-SITES'!C:C)","v":"EIC Bourgogne Franche Comté"}]
[null,null,null,null,null,null,null,null,null,null,null,null,null,null,"Port-Boulet",{"$f":"_xlfn.XLOOKUP(O1458,'Liste des DT-EIC-SITES'!D:D,'Liste des DT-EIC-SITES'!C:C)","v":"EIC Centre Limousin"}]
[null,null,null,null,null,null,null,null,null,null,null,null,null,null,"Port-d'Atelier-Amance",{"$f":"_xlfn.XLOOKUP(O1459,'Liste des DT-EIC-SITES'!D:D,'Liste des DT-EIC-SITES'!C:C)","v":"EIC Bourgogne Franche Comté"}]
[null,null,null,null,null,null,null,null,null,null,null,null,null,null,"Port-de-Bouc",{"$f":"_xlfn.XLOOKUP(O1460,'Liste des DT-EIC-SITES'!D:D,'Liste des DT-EIC-SITES'!C:C)","v":"EIC Provence Alpes Côte d'Azur"}]
[null,null,null,null,null,null,null,null,null,null,null,null,null,null,"Port-de-Piles",{"$f":"_xlfn.XLOOKUP(O1461,'Liste des DT-EIC-SITES'!D:D,'Liste des DT-EIC-SITES'!C:C)","v":"EIC Centre Limousin"}]
[null,null,null,null,null,null,null,null,null,null,null,null,null,null,"Portes",{"$f":"_xlfn.XLOOKUP(O1462,'Liste des DT-EIC-SITES'!D:D,'Liste des DT-EIC-SITES'!C:C)","v":"EIC Rhône Alpes Lyon"}]
[null,null,null,null,null,null,null,null,null,null,null,null,null,null,"Portet-St-Simon",{"$f":"_xlfn.XLOOKUP(O1463,'Liste des DT-EIC-SITES'!D:D,'Liste des DT-EIC-SITES'!C:C)","v":"EIC Midi Pyrénées"}]
[null,null,null,null,null,null,null,null,null,null,null,null,null,null,"Port-Fluvial-de-Chalon-sur-Saône",{"$f":"_xlfn.XLOOKUP(O1464,'Liste des DT-EIC-SITES'!D:D,'Liste des DT-EIC-SITES'!C:C)","v":"EIC Bourgogne Franche Comté"}]
[null,null,null,null,null,null,null,null,null,null,null,null,null,null,"Port-la-Nouvelle",{"$f":"_xlfn.XLOOKUP(O1465,'Liste des DT-EIC-SITES'!D:D,'Liste des DT-EIC-SITES'!C:C)","v":"EIC Languedoc Roussillon"}]
[null,null,null,null,null,null,null,null,null,null,null,null,null,null,"Port-Sec-de-Pacy",{"$f":"_xlfn.XLOOKUP(O1466,'Liste des DT-EIC-SITES'!D:D,'Liste des DT-EIC-SITES'!C:C)","v":"EIC Paris Sud Est"}]
[null,null,null,null,null,null,null,null,null,null,null,null,null,null,"Port-Ste-Marie",{"$f":"_xlfn.XLOOKUP(O1467,'Liste des DT-EIC-SITES'!D:D,'Liste des DT-EIC-SITES'!C:C)","v":"EIC Aquitaine Poitou Charentes"}]
[null,null,null,null,null,null,null,null,null,null,null,null,null,null,"Port-Vendres",{"$f":"_xlfn.XLOOKUP(O1468,'Liste des DT-EIC-SITES'!D:D,'Liste des DT-EIC-SITES'!C:C)","v":"EIC Languedoc Roussillon"}]
[null,null,null,null,null,null,null,null,null,null,null,null,null,null,"Poste MR de Quimper (Technicentre Bretagne)",{"$f":"_xlfn.XLOOKUP(O1469,'Liste des DT-EIC-SITES'!D:D,'Liste des DT-EIC-SITES'!C:C)","v":"EIC Bretagne Pays de la Loire"}]
[null,null,null,null,null,null,null,null,null,null,null,null,null,null,"Pouilly-sur-Loire",{"$f":"_xlfn.XLOOKUP(O1470,'Liste des DT-EIC-SITES'!D:D,'Liste des DT-EIC-SITES'!C:C)","v":"EIC Auvergne Nivernais"}]
[null,null,null,null,null,null,null,null,null,null,null,null,null,null,"Poule",{"$f":"_xlfn.XLOOKUP(O1471,'Liste des DT-EIC-SITES'!D:D,'Liste des DT-EIC-SITES'!C:C)","v":"EIC Rhône Alpes Lyon"}]
[null,null,null,null,null,null,null,null,null,null,null,null,null,null,"Pouzauges",{"$f":"_xlfn.XLOOKUP(O1472,'Liste des DT-EIC-SITES'!D:D,'Liste des DT-EIC-SITES'!C:C)","v":"EIC Bretagne Pays de la Loire"}]
[null,null,null,null,null,null,null,null,null,null,null,null,null,null,"Prémery",{"$f":"_xlfn.XLOOKUP(O1473,'Liste des DT-EIC-SITES'!D:D,'Liste des DT-EIC-SITES'!C:C)","v":"EIC Auvergne Nivernais"}]
[null,null,null,null,null,null,null,null,null,null,null,null,null,null,"Prey",{"$f":"_xlfn.XLOOKUP(O1474,'Liste des DT-EIC-SITES'!D:D,'Liste des DT-EIC-SITES'!C:C)","v":"EIC Normandie"}]
[null,null,null,null,null,null,null,null,null,null,null,null,null,null,"Prouvy-Thiant",{"$f":"_xlfn.XLOOKUP(O1475,'Liste des DT-EIC-SITES'!D:D,'Liste des DT-EIC-SITES'!C:C)","v":"EIC Hauts de France"}]
[null,null,null,null,null,null,null,null,null,null,null,null,null,null,"Provins",{"$f":"_xlfn.XLOOKUP(O1476,'Liste des DT-EIC-SITES'!D:D,'Liste des DT-EIC-SITES'!C:C)","v":"EIC Paris Est Ouest Francilien"}]
[null,null,null,null,null,null,null,null,null,null,null,null,null,null,"Publier",{"$f":"_xlfn.XLOOKUP(O1477,'Liste des DT-EIC-SITES'!D:D,'Liste des DT-EIC-SITES'!C:C)","v":"EIC Alpes"}]
[null,null,null,null,null,null,null,null,null,null,null,null,null,null,"Puy-Guillaume",{"$f":"_xlfn.XLOOKUP(O1478,'Liste des DT-EIC-SITES'!D:D,'Liste des DT-EIC-SITES'!C:C)","v":"EIC Auvergne Nivernais"}]
[null,null,null,null,null,null,null,null,null,null,null,null,null,null,"Puyoô",{"$f":"_xlfn.XLOOKUP(O1479,'Liste des DT-EIC-SITES'!D:D,'Liste des DT-EIC-SITES'!C:C)","v":"EIC Aquitaine Poitou Charentes"}]
[null,null,null,null,null,null,null,null,null,null,null,null,null,null,"Questembert",{"$f":"_xlfn.XLOOKUP(O1480,'Liste des DT-EIC-SITES'!D:D,'Liste des DT-EIC-SITES'!C:C)","v":"EIC Bretagne Pays de la Loire"}]
[null,null,null,null,null,null,null,null,null,null,null,null,null,null,"Quiberon",{"$f":"_xlfn.XLOOKUP(O1481,'Liste des DT-EIC-SITES'!D:D,'Liste des DT-EIC-SITES'!C:C)","v":"EIC Bretagne Pays de la Loire"}]
[null,null,null,null,null,null,null,null,null,null,null,null,null,null,"Quillan",{"$f":"_xlfn.XLOOKUP(O1482,'Liste des DT-EIC-SITES'!D:D,'Liste des DT-EIC-SITES'!C:C)","v":"EIC Languedoc Roussillon"}]
[null,null,null,null,null,null,null,null,null,null,null,null,null,null,"Quimper",{"$f":"_xlfn.XLOOKUP(O1483,'Liste des DT-EIC-SITES'!D:D,'Liste des DT-EIC-SITES'!C:C)","v":"EIC Bretagne Pays de la Loire"}]
[null,null,null,null,null,null,null,null,null,null,null,null,null,null,"Raismes",{"$f":"_xlfn.XLOOKUP(O1484,'Liste des DT-EIC-SITES'!D:D,'Liste des DT-EIC-SITES'!C:C)","v":"EIC Hauts de France"}]
[null,null,null,null,null,null,null,null,null,null,null,null,null,null,"Rambouillet",{"$f":"_xlfn.XLOOKUP(O1485,'Liste des DT-EIC-SITES'!D:D,'Liste des DT-EIC-SITES'!C:C)","v":"EIC Paris Sud Ouest"}]
[null,null,null,null,null,null,null,null,null,null,null,null,null,null,"Rambucourt-Bouconville",{"$f":"_xlfn.XLOOKUP(O1486,'Liste des DT-EIC-SITES'!D:D,'Liste des DT-EIC-SITES'!C:C)","v":"EIC Lorraine Champagne Ardenne"}]
[null,null,null,null,null,null,null,null,null,null,null,null,null,null,"Randan",{"$f":"_xlfn.XLOOKUP(O1487,'Liste des DT-EIC-SITES'!D:D,'Liste des DT-EIC-SITES'!C:C)","v":"EIC Auvergne Nivernais"}]
[null,null,null,null,null,null,null,null,null,null,null,null,null,null,"Ranguin",{"$f":"_xlfn.XLOOKUP(O1488,'Liste des DT-EIC-SITES'!D:D,'Liste des DT-EIC-SITES'!C:C)","v":"EIC Provence Alpes Côte d'Azur"}]
[null,null,null,null,null,null,null,null,null,null,null,null,null,null,"Raon-l'Étape",{"$f":"_xlfn.XLOOKUP(O1489,'Liste des DT-EIC-SITES'!D:D,'Liste des DT-EIC-SITES'!C:C)","v":"EIC Lorraine Champagne Ardenne"}]
[null,null,null,null,null,null,null,null,null,null,null,null,null,null,"Recey-sur-Ource",{"$f":"_xlfn.XLOOKUP(O1490,'Liste des DT-EIC-SITES'!D:D,'Liste des DT-EIC-SITES'!C:C)","v":"EIC Paris Sud Est"}]
[null,null,null,null,null,null,null,null,null,null,null,null,null,null,"Recquignies",{"$f":"_xlfn.XLOOKUP(O1491,'Liste des DT-EIC-SITES'!D:D,'Liste des DT-EIC-SITES'!C:C)","v":"EIC Hauts de France"}]
[null,null,null,null,null,null,null,null,null,null,null,null,null,null,"Réding",{"$f":"_xlfn.XLOOKUP(O1492,'Liste des DT-EIC-SITES'!D:D,'Liste des DT-EIC-SITES'!C:C)","v":"EIC Alsace"}]
[null,null,null,null,null,null,null,null,null,null,null,null,null,null,"Redon",{"$f":"_xlfn.XLOOKUP(O1493,'Liste des DT-EIC-SITES'!D:D,'Liste des DT-EIC-SITES'!C:C)","v":"EIC Bretagne Pays de la Loire"}]
[null,null,null,null,null,null,null,null,null,null,null,null,null,null,"Régny",{"$f":"_xlfn.XLOOKUP(O1494,'Liste des DT-EIC-SITES'!D:D,'Liste des DT-EIC-SITES'!C:C)","v":"EIC Rhône Alpes Lyon"}]
[null,null,null,null,null,null,null,null,null,null,null,null,null,null,"Réguisheim",{"$f":"_xlfn.XLOOKUP(O1495,'Liste des DT-EIC-SITES'!D:D,'Liste des DT-EIC-SITES'!C:C)","v":"EIC Alsace"}]
[null,null,null,null,null,null,null,null,null,null,null,null,null,null,"Reichshoffen-Usines",{"$f":"_xlfn.XLOOKUP(O1496,'Liste des DT-EIC-SITES'!D:D,'Liste des DT-EIC-SITES'!C:C)","v":"EIC Alsace"}]
[null,null,null,null,null,null,null,null,null,null,null,null,null,null,"Reichstett",{"$f":"_xlfn.XLOOKUP(O1497,'Liste des DT-EIC-SITES'!D:D,'Liste des DT-EIC-SITES'!C:C)","v":"EIC Alsace"}]
[null,null,null,null,null,null,null,null,null,null,null,null,null,null,"Reignac",{"$f":"_xlfn.XLOOKUP(O1498,'Liste des DT-EIC-SITES'!D:D,'Liste des DT-EIC-SITES'!C:C)","v":"EIC Centre Limousin"}]
[null,null,null,null,null,null,null,null,null,null,null,null,null,null,"Reims",{"$f":"_xlfn.XLOOKUP(O1499,'Liste des DT-EIC-SITES'!D:D,'Liste des DT-EIC-SITES'!C:C)","v":"EIC Lorraine Champagne Ardenne"}]
[null,null,null,null,null,null,null,null,null,null,null,null,null,null,"Rémilly",{"$f":"_xlfn.XLOOKUP(O1500,'Liste des DT-EIC-SITES'!D:D,'Liste des DT-EIC-SITES'!C:C)","v":"EIC Lorraine Champagne Ardenne"}]
[null,null,null,null,null,null,null,null,null,null,null,null,null,null,"Remiremont",{"$f":"_xlfn.XLOOKUP(O1501,'Liste des DT-EIC-SITES'!D:D,'Liste des DT-EIC-SITES'!C:C)","v":"EIC Lorraine Champagne Ardenne"}]
[null,null,null,null,null,null,null,null,null,null,null,null,null,null,"Remoulins-Pont-du-Gard",{"$f":"_xlfn.XLOOKUP(O1502,'Liste des DT-EIC-SITES'!D:D,'Liste des DT-EIC-SITES'!C:C)","v":"EIC Languedoc Roussillon"}]
[null,null,null,null,null,null,null,null,null,null,null,null,null,null,"Rémy",{"$f":"_xlfn.XLOOKUP(O1503,'Liste des DT-EIC-SITES'!D:D,'Liste des DT-EIC-SITES'!C:C)","v":"EIC Paris Nord"}]
[null,null,null,null,null,null,null,null,null,null,null,null,null,null,"Rennes",{"$f":"_xlfn.XLOOKUP(O1504,'Liste des DT-EIC-SITES'!D:D,'Liste des DT-EIC-SITES'!C:C)","v":"EIC Bretagne Pays de la Loire"}]
[null,null,null,null,null,null,null,null,null,null,null,null,null,null,"RESSONS Base Travaux LGV",{"$f":"_xlfn.XLOOKUP(O1505,'Liste des DT-EIC-SITES'!D:D,'Liste des DT-EIC-SITES'!C:C)","v":"EIC Hauts de France"}]
[null,null,null,null,null,null,null,null,null,null,null,null,null,null,"Rethel",{"$f":"_xlfn.XLOOKUP(O1506,'Liste des DT-EIC-SITES'!D:D,'Liste des DT-EIC-SITES'!C:C)","v":"EIC Lorraine Champagne Ardenne"}]
[null,null,null,null,null,null,null,null,null,null,null,null,null,null,"Rethondes",{"$f":"_xlfn.XLOOKUP(O1507,'Liste des DT-EIC-SITES'!D:D,'Liste des DT-EIC-SITES'!C:C)","v":"EIC Paris Nord"}]
[null,null,null,null,null,null,null,null,null,null,null,null,null,null,"Retiers",{"$f":"_xlfn.XLOOKUP(O1508,'Liste des DT-EIC-SITES'!D:D,'Liste des DT-EIC-SITES'!C:C)","v":"EIC Bretagne Pays de la Loire"}]
[null,null,null,null,null,null,null,null,null,null,null,null,null,null,"Retournac",{"$f":"_xlfn.XLOOKUP(O1509,'Liste des DT-EIC-SITES'!D:D,'Liste des DT-EIC-SITES'!C:C)","v":"EIC Auvergne Nivernais"}]
[null,null,null,null,null,null,null,null,null,null,null,null,null,null,"Reuilly",{"$f":"_xlfn.XLOOKUP(O1510,'Liste des DT-EIC-SITES'!D:D,'Liste des DT-EIC-SITES'!C:C)","v":"EIC Centre Limousin"}]
[null,null,null,null,null,null,null,null,null,null,null,null,null,null,"Revel-Sorèze",{"$f":"_xlfn.XLOOKUP(O1511,'Liste des DT-EIC-SITES'!D:D,'Liste des DT-EIC-SITES'!C:C)","v":"EIC Midi Pyrénées"}]
[null,null,null,null,null,null,null,null,null,null,null,null,null,null,"Revigny",{"$f":"_xlfn.XLOOKUP(O1512,'Liste des DT-EIC-SITES'!D:D,'Liste des DT-EIC-SITES'!C:C)","v":"EIC Lorraine Champagne Ardenne"}]
[null,null,null,null,null,null,null,null,null,null,null,null,null,null,"Revin",{"$f":"_xlfn.XLOOKUP(O1513,'Liste des DT-EIC-SITES'!D:D,'Liste des DT-EIC-SITES'!C:C)","v":"EIC Lorraine Champagne Ardenne"}]
[null,null,null,null,null,null,null,null,null,null,null,null,null,null,"Reyrieux",{"$f":"_xlfn.XLOOKUP(O1514,'Liste des DT-EIC-SITES'!D:D,'Liste des DT-EIC-SITES'!C:C)","v":"EIC Rhône Alpes Lyon"}]
[null,null,null,null,null,null,null,null,null,null,null,null,null,null,"Rezé-Pont-Rousseau",{"$f":"_xlfn.XLOOKUP(O1515,'Liste des DT-EIC-SITES'!D:D,'Liste des DT-EIC-SITES'!C:C)","v":"EIC Bretagne Pays de la Loire"}]
[null,null,null,null,null,null,null,null,null,null,null,null,null,null,"Ribaute-les-Lieuran",{"$f":"_xlfn.XLOOKUP(O1516,'Liste des DT-EIC-SITES'!D:D,'Liste des DT-EIC-SITES'!C:C)","v":"EIC Languedoc Roussillon"}]
[null,null,null,null,null,null,null,null,null,null,null,null,null,null,"Ribécourt",{"$f":"_xlfn.XLOOKUP(O1517,'Liste des DT-EIC-SITES'!D:D,'Liste des DT-EIC-SITES'!C:C)","v":"EIC Paris Nord"}]
[null,null,null,null,null,null,null,null,null,null,null,null,null,null,"Richwiller",{"$f":"_xlfn.XLOOKUP(O1518,'Liste des DT-EIC-SITES'!D:D,'Liste des DT-EIC-SITES'!C:C)","v":"EIC Alsace"}]
[null,null,null,null,null,null,null,null,null,null,null,null,null,null,"Rilly-la-Montagne",{"$f":"_xlfn.XLOOKUP(O1519,'Liste des DT-EIC-SITES'!D:D,'Liste des DT-EIC-SITES'!C:C)","v":"EIC Lorraine Champagne Ardenne"}]
[null,null,null,null,null,null,null,null,null,null,null,null,null,null,"Rimaucourt",{"$f":"_xlfn.XLOOKUP(O1520,'Liste des DT-EIC-SITES'!D:D,'Liste des DT-EIC-SITES'!C:C)","v":"EIC Lorraine Champagne Ardenne"}]
[null,null,null,null,null,null,null,null,null,null,null,null,null,null,"Riom-Châtel-Guyon",{"$f":"_xlfn.XLOOKUP(O1521,'Liste des DT-EIC-SITES'!D:D,'Liste des DT-EIC-SITES'!C:C)","v":"EIC Auvergne Nivernais"}]
[null,null,null,null,null,null,null,null,null,null,null,null,null,null,"Rion-des-Landes",{"$f":"_xlfn.XLOOKUP(O1522,'Liste des DT-EIC-SITES'!D:D,'Liste des DT-EIC-SITES'!C:C)","v":"EIC Aquitaine Poitou Charentes"}]
[null,null,null,null,null,null,null,null,null,null,null,null,null,null,"Riscle",{"$f":"_xlfn.XLOOKUP(O1523,'Liste des DT-EIC-SITES'!D:D,'Liste des DT-EIC-SITES'!C:C)","v":"EIC Midi Pyrénées"}]
[null,null,null,null,null,null,null,null,null,null,null,null,null,null,"Ris-Orangis",{"$f":"_xlfn.XLOOKUP(O1524,'Liste des DT-EIC-SITES'!D:D,'Liste des DT-EIC-SITES'!C:C)","v":"EIC Paris Sud Est"}]
[null,null,null,null,null,null,null,null,null,null,null,null,null,null,"Rive-de-Gier",{"$f":"_xlfn.XLOOKUP(O1525,'Liste des DT-EIC-SITES'!D:D,'Liste des DT-EIC-SITES'!C:C)","v":"EIC Rhône Alpes Lyon"}]
[null,null,null,null,null,null,null,null,null,null,null,null,null,null,"Rives",{"$f":"_xlfn.XLOOKUP(O1526,'Liste des DT-EIC-SITES'!D:D,'Liste des DT-EIC-SITES'!C:C)","v":"EIC Alpes"}]
[null,null,null,null,null,null,null,null,null,null,null,null,null,null,"Rivesaltes",{"$f":"_xlfn.XLOOKUP(O1527,'Liste des DT-EIC-SITES'!D:D,'Liste des DT-EIC-SITES'!C:C)","v":"EIC Languedoc Roussillon"}]
[null,null,null,null,null,null,null,null,null,null,null,null,null,null,"RNUR Accès Est",{"$f":"_xlfn.XLOOKUP(O1528,'Liste des DT-EIC-SITES'!D:D,'Liste des DT-EIC-SITES'!C:C)","v":"EIC Paris Est Ouest Francilien"}]
[null,null,null,null,null,null,null,null,null,null,null,null,null,null,"RNUR Accès Ouest",{"$f":"_xlfn.XLOOKUP(O1529,'Liste des DT-EIC-SITES'!D:D,'Liste des DT-EIC-SITES'!C:C)","v":"EIC Paris Est Ouest Francilien"}]
[null,null,null,null,null,null,null,null,null,null,null,null,null,null,"Roanne",{"$f":"_xlfn.XLOOKUP(O1530,'Liste des DT-EIC-SITES'!D:D,'Liste des DT-EIC-SITES'!C:C)","v":"EIC Rhône Alpes Lyon"}]
[null,null,null,null,null,null,null,null,null,null,null,null,null,null,"Rocamadour-Padirac",{"$f":"_xlfn.XLOOKUP(O1531,'Liste des DT-EIC-SITES'!D:D,'Liste des DT-EIC-SITES'!C:C)","v":"EIC Midi Pyrénées"}]
[null,null,null,null,null,null,null,null,null,null,null,null,null,null,"Rochefort",{"$f":"_xlfn.XLOOKUP(O1532,'Liste des DT-EIC-SITES'!D:D,'Liste des DT-EIC-SITES'!C:C)","v":"EIC Aquitaine Poitou Charentes"}]
[null,null,null,null,null,null,null,null,null,null,null,null,null,null,"Roche-lez-Beaupré",{"$f":"_xlfn.XLOOKUP(O1533,'Liste des DT-EIC-SITES'!D:D,'Liste des DT-EIC-SITES'!C:C)","v":"EIC Bourgogne Franche Comté"}]
[null,null,null,null,null,null,null,null,null,null,null,null,null,null,"Rochy-Condé",{"$f":"_xlfn.XLOOKUP(O1534,'Liste des DT-EIC-SITES'!D:D,'Liste des DT-EIC-SITES'!C:C)","v":"EIC Paris Nord"}]
[null,null,null,null,null,null,null,null,null,null,null,null,null,null,"Rodez",{"$f":"_xlfn.XLOOKUP(O1535,'Liste des DT-EIC-SITES'!D:D,'Liste des DT-EIC-SITES'!C:C)","v":"EIC Midi Pyrénées"}]
[null,null,null,null,null,null,null,null,null,null,null,null,null,null,"Roeschwoog",{"$f":"_xlfn.XLOOKUP(O1536,'Liste des DT-EIC-SITES'!D:D,'Liste des DT-EIC-SITES'!C:C)","v":"EIC Alsace"}]
[null,null,null,null,null,null,null,null,null,null,null,null,null,null,"Rognac",{"$f":"_xlfn.XLOOKUP(O1537,'Liste des DT-EIC-SITES'!D:D,'Liste des DT-EIC-SITES'!C:C)","v":"EIC Provence Alpes Côte d'Azur"}]
[null,null,null,null,null,null,null,null,null,null,null,null,null,null,"Romans-Bourg-de-Péage",{"$f":"_xlfn.XLOOKUP(O1538,'Liste des DT-EIC-SITES'!D:D,'Liste des DT-EIC-SITES'!C:C)","v":"EIC Alpes"}]
[null,null,null,null,null,null,null,null,null,null,null,null,null,null,"Romilly-sur-Seine",{"$f":"_xlfn.XLOOKUP(O1539,'Liste des DT-EIC-SITES'!D:D,'Liste des DT-EIC-SITES'!C:C)","v":"EIC Lorraine Champagne Ardenne"}]
[null,null,null,null,null,null,null,null,null,null,null,null,null,null,"Romorantin",{"$f":"_xlfn.XLOOKUP(O1540,'Liste des DT-EIC-SITES'!D:D,'Liste des DT-EIC-SITES'!C:C)","v":"EIC Centre Limousin"}]
[null,null,null,null,null,null,null,null,null,null,null,null,null,null,"Ronchin",{"$f":"_xlfn.XLOOKUP(O1541,'Liste des DT-EIC-SITES'!D:D,'Liste des DT-EIC-SITES'!C:C)","v":"EIC Hauts de France"}]
[null,null,null,null,null,null,null,null,null,null,null,null,null,null,"Roquefort (Landes)",{"$f":"_xlfn.XLOOKUP(O1542,'Liste des DT-EIC-SITES'!D:D,'Liste des DT-EIC-SITES'!C:C)","v":"EIC Aquitaine Poitou Charentes"}]
[null,null,null,null,null,null,null,null,null,null,null,null,null,null,"Roquemaure-Tavel",{"$f":"_xlfn.XLOOKUP(O1543,'Liste des DT-EIC-SITES'!D:D,'Liste des DT-EIC-SITES'!C:C)","v":"EIC Languedoc Roussillon"}]
[null,null,null,null,null,null,null,null,null,null,null,null,null,null,"Roscoff",{"$f":"_xlfn.XLOOKUP(O1544,'Liste des DT-EIC-SITES'!D:D,'Liste des DT-EIC-SITES'!C:C)","v":"EIC Bretagne Pays de la Loire"}]
[null,null,null,null,null,null,null,null,null,null,null,null,null,null,"Rosny-sous-Bois",{"$f":"_xlfn.XLOOKUP(O1545,'Liste des DT-EIC-SITES'!D:D,'Liste des DT-EIC-SITES'!C:C)","v":"EIC Paris Est Ouest Francilien"}]
[null,null,null,null,null,null,null,null,null,null,null,null,null,null,"Rosny-sur-Seine",{"$f":"_xlfn.XLOOKUP(O1546,'Liste des DT-EIC-SITES'!D:D,'Liste des DT-EIC-SITES'!C:C)","v":"EIC Paris Est Ouest Francilien"}]
[null,null,null,null,null,null,null,null,null,null,null,null,null,null,"Rosporden",{"$f":"_xlfn.XLOOKUP(O1547,'Liste des DT-EIC-SITES'!D:D,'Liste des DT-EIC-SITES'!C:C)","v":"EIC Bretagne Pays de la Loire"}]
[null,null,null,null,null,null,null,null,null,null,null,null,null,null,"Rothau",{"$f":"_xlfn.XLOOKUP(O1548,'Liste des DT-EIC-SITES'!D:D,'Liste des DT-EIC-SITES'!C:C)","v":"EIC Alsace"}]
[null,null,null,null,null,null,null,null,null,null,null,null,null,null,"Roubaix",{"$f":"_xlfn.XLOOKUP(O1549,'Liste des DT-EIC-SITES'!D:D,'Liste des DT-EIC-SITES'!C:C)","v":"EIC Hauts de France"}]
[null,null,null,null,null,null,null,null,null,null,null,null,null,null,"Rouen-Orléans",{"$f":"_xlfn.XLOOKUP(O1550,'Liste des DT-EIC-SITES'!D:D,'Liste des DT-EIC-SITES'!C:C)","v":"EIC Normandie"}]
[null,null,null,null,null,null,null,null,null,null,null,null,null,null,"Rouen-Rive-Droite",{"$f":"_xlfn.XLOOKUP(O1551,'Liste des DT-EIC-SITES'!D:D,'Liste des DT-EIC-SITES'!C:C)","v":"EIC Normandie"}]
[null,null,null,null,null,null,null,null,null,null,null,null,null,null,"Rouen-Rive-Gauche",{"$f":"_xlfn.XLOOKUP(O1552,'Liste des DT-EIC-SITES'!D:D,'Liste des DT-EIC-SITES'!C:C)","v":"EIC Normandie"}]
[null,null,null,null,null,null,null,null,null,null,null,null,null,null,"Roumazières-Loubert",{"$f":"_xlfn.XLOOKUP(O1553,'Liste des DT-EIC-SITES'!D:D,'Liste des DT-EIC-SITES'!C:C)","v":"EIC Aquitaine Poitou Charentes"}]
[null,null,null,null,null,null,null,null,null,null,null,null,null,null,"Route-de-Launaguet",{"$f":"_xlfn.XLOOKUP(O1554,'Liste des DT-EIC-SITES'!D:D,'Liste des DT-EIC-SITES'!C:C)","v":"EIC Midi Pyrénées"}]
[null,null,null,null,null,null,null,null,null,null,null,null,null,null,"Rouxmesnil",{"$f":"_xlfn.XLOOKUP(O1555,'Liste des DT-EIC-SITES'!D:D,'Liste des DT-EIC-SITES'!C:C)","v":"EIC Normandie"}]
[null,null,null,null,null,null,null,null,null,null,null,null,null,null,"Royan",{"$f":"_xlfn.XLOOKUP(O1556,'Liste des DT-EIC-SITES'!D:D,'Liste des DT-EIC-SITES'!C:C)","v":"EIC Aquitaine Poitou Charentes"}]
[null,null,null,null,null,null,null,null,null,null,null,null,null,null,"Roye (Somme)",{"$f":"_xlfn.XLOOKUP(O1557,'Liste des DT-EIC-SITES'!D:D,'Liste des DT-EIC-SITES'!C:C)","v":"EIC Hauts de France"}]
[null,null,null,null,null,null,null,null,null,null,null,null,null,null,"Ruelle",{"$f":"_xlfn.XLOOKUP(O1558,'Liste des DT-EIC-SITES'!D:D,'Liste des DT-EIC-SITES'!C:C)","v":"EIC Aquitaine Poitou Charentes"}]
[null,null,null,null,null,null,null,null,null,null,null,null,null,null,"Ruffec",{"$f":"_xlfn.XLOOKUP(O1559,'Liste des DT-EIC-SITES'!D:D,'Liste des DT-EIC-SITES'!C:C)","v":"EIC Aquitaine Poitou Charentes"}]
[null,null,null,null,null,null,null,null,null,null,null,null,null,null,"Rumilly",{"$f":"_xlfn.XLOOKUP(O1560,'Liste des DT-EIC-SITES'!D:D,'Liste des DT-EIC-SITES'!C:C)","v":"EIC Alpes"}]
[null,null,null,null,null,null,null,null,null,null,null,null,null,null,"Rungis-la-Fraternelle",{"$f":"_xlfn.XLOOKUP(O1561,'Liste des DT-EIC-SITES'!D:D,'Liste des DT-EIC-SITES'!C:C)","v":"EIC Paris Sud Ouest"}]
[null,null,null,null,null,null,null,null,null,null,null,null,null,null,"Saales",{"$f":"_xlfn.XLOOKUP(O1562,'Liste des DT-EIC-SITES'!D:D,'Liste des DT-EIC-SITES'!C:C)","v":"EIC Alsace"}]
[null,null,null,null,null,null,null,null,null,null,null,null,null,null,"Sablé-sur-Sarthe",{"$f":"_xlfn.XLOOKUP(O1563,'Liste des DT-EIC-SITES'!D:D,'Liste des DT-EIC-SITES'!C:C)","v":"EIC Bretagne Pays de la Loire"}]
[null,null,null,null,null,null,null,null,null,null,null,null,null,null,"Saillagouse",{"$f":"_xlfn.XLOOKUP(O1564,'Liste des DT-EIC-SITES'!D:D,'Liste des DT-EIC-SITES'!C:C)","v":"EIC Languedoc Roussillon"}]
[null,null,null,null,null,null,null,null,null,null,null,null,null,null,"Saillat-Chassenon",{"$f":"_xlfn.XLOOKUP(O1565,'Liste des DT-EIC-SITES'!D:D,'Liste des DT-EIC-SITES'!C:C)","v":"EIC Centre Limousin"}]
[null,null,null,null,null,null,null,null,null,null,null,null,null,null,"Saincaize",{"$f":"_xlfn.XLOOKUP(O1566,'Liste des DT-EIC-SITES'!D:D,'Liste des DT-EIC-SITES'!C:C)","v":"EIC Auvergne Nivernais"}]
[null,null,null,null,null,null,null,null,null,null,null,null,null,null,"Saintes",{"$f":"_xlfn.XLOOKUP(O1567,'Liste des DT-EIC-SITES'!D:D,'Liste des DT-EIC-SITES'!C:C)","v":"EIC Aquitaine Poitou Charentes"}]
[null,null,null,null,null,null,null,null,null,null,null,null,null,null,"Saint-Jean-de-Maurienne",{"$f":"_xlfn.XLOOKUP(O1568,'Liste des DT-EIC-SITES'!D:D,'Liste des DT-EIC-SITES'!C:C)","v":"EIC Alpes"}]
[null,null,null,null,null,null,null,null,null,null,null,null,null,null,"Salaise",{"$f":"_xlfn.XLOOKUP(O1569,'Liste des DT-EIC-SITES'!D:D,'Liste des DT-EIC-SITES'!C:C)","v":"EIC Rhône Alpes Lyon"}]
[null,null,null,null,null,null,null,null,null,null,null,null,null,null,"Salbris",{"$f":"_xlfn.XLOOKUP(O1570,'Liste des DT-EIC-SITES'!D:D,'Liste des DT-EIC-SITES'!C:C)","v":"EIC Centre Limousin"}]
[null,null,null,null,null,null,null,null,null,null,null,null,null,null,"Saleux",{"$f":"_xlfn.XLOOKUP(O1571,'Liste des DT-EIC-SITES'!D:D,'Liste des DT-EIC-SITES'!C:C)","v":"EIC Hauts de France"}]
[null,null,null,null,null,null,null,null,null,null,null,null,null,null,"Salindres",{"$f":"_xlfn.XLOOKUP(O1572,'Liste des DT-EIC-SITES'!D:D,'Liste des DT-EIC-SITES'!C:C)","v":"EIC Languedoc Roussillon"}]
[null,null,null,null,null,null,null,null,null,null,null,null,null,null,"Sallanches-Combloux-Megève",{"$f":"_xlfn.XLOOKUP(O1573,'Liste des DT-EIC-SITES'!D:D,'Liste des DT-EIC-SITES'!C:C)","v":"EIC Alpes"}]
[null,null,null,null,null,null,null,null,null,null,null,null,null,null,"Sallèles-d'Aude",{"$f":"_xlfn.XLOOKUP(O1574,'Liste des DT-EIC-SITES'!D:D,'Liste des DT-EIC-SITES'!C:C)","v":"EIC Languedoc Roussillon"}]
[null,null,null,null,null,null,null,null,null,null,null,null,null,null,"Santes",{"$f":"_xlfn.XLOOKUP(O1575,'Liste des DT-EIC-SITES'!D:D,'Liste des DT-EIC-SITES'!C:C)","v":"EIC Hauts de France"}]
[null,null,null,null,null,null,null,null,null,null,null,null,null,null,"Saône",{"$f":"_xlfn.XLOOKUP(O1576,'Liste des DT-EIC-SITES'!D:D,'Liste des DT-EIC-SITES'!C:C)","v":"EIC Bourgogne Franche Comté"}]
[null,null,null,null,null,null,null,null,null,null,null,null,null,null,"Sarlat",{"$f":"_xlfn.XLOOKUP(O1577,'Liste des DT-EIC-SITES'!D:D,'Liste des DT-EIC-SITES'!C:C)","v":"EIC Aquitaine Poitou Charentes"}]
[null,null,null,null,null,null,null,null,null,null,null,null,null,null,"Sarliève-Cournon",{"$f":"_xlfn.XLOOKUP(O1578,'Liste des DT-EIC-SITES'!D:D,'Liste des DT-EIC-SITES'!C:C)","v":"EIC Auvergne Nivernais"}]
[null,null,null,null,null,null,null,null,null,null,null,null,null,null,"Sarralbe",{"$f":"_xlfn.XLOOKUP(O1579,'Liste des DT-EIC-SITES'!D:D,'Liste des DT-EIC-SITES'!C:C)","v":"EIC Lorraine Champagne Ardenne"}]
[null,null,null,null,null,null,null,null,null,null,null,null,null,null,"Sarrancolin",{"$f":"_xlfn.XLOOKUP(O1580,'Liste des DT-EIC-SITES'!D:D,'Liste des DT-EIC-SITES'!C:C)","v":"EIC Midi Pyrénées"}]
[null,null,null,null,null,null,null,null,null,null,null,null,null,null,"Sarrebourg",{"$f":"_xlfn.XLOOKUP(O1581,'Liste des DT-EIC-SITES'!D:D,'Liste des DT-EIC-SITES'!C:C)","v":"EIC Alsace"}]
[null,null,null,null,null,null,null,null,null,null,null,null,null,null,"Sarreguemines",{"$f":"_xlfn.XLOOKUP(O1582,'Liste des DT-EIC-SITES'!D:D,'Liste des DT-EIC-SITES'!C:C)","v":"EIC Lorraine Champagne Ardenne"}]
[null,null,null,null,null,null,null,null,null,null,null,null,null,null,"Sartrouville",{"$f":"_xlfn.XLOOKUP(O1583,'Liste des DT-EIC-SITES'!D:D,'Liste des DT-EIC-SITES'!C:C)","v":"EIC Paris Est Ouest Francilien"}]
[null,null,null,null,null,null,null,null,null,null,null,null,null,null,"SATEBA",{"$f":"_xlfn.XLOOKUP(O1584,'Liste des DT-EIC-SITES'!D:D,'Liste des DT-EIC-SITES'!C:C)","v":"EIC Bourgogne Franche Comté"}]
[null,null,null,null,null,null,null,null,null,null,null,null,null,null,"Sathonay-Rillieux",{"$f":"_xlfn.XLOOKUP(O1585,'Liste des DT-EIC-SITES'!D:D,'Liste des DT-EIC-SITES'!C:C)","v":"EIC Rhône Alpes Lyon"}]
[null,null,null,null,null,null,null,null,null,null,null,null,null,null,"Saujon",{"$f":"_xlfn.XLOOKUP(O1586,'Liste des DT-EIC-SITES'!D:D,'Liste des DT-EIC-SITES'!C:C)","v":"EIC Aquitaine Poitou Charentes"}]
[null,null,null,null,null,null,null,null,null,null,null,null,null,null,"Saulieu",{"$f":"_xlfn.XLOOKUP(O1587,'Liste des DT-EIC-SITES'!D:D,'Liste des DT-EIC-SITES'!C:C)","v":"EIC Bourgogne Franche Comté"}]
[null,null,null,null,null,null,null,null,null,null,null,null,null,null,"Saulon",{"$f":"_xlfn.XLOOKUP(O1588,'Liste des DT-EIC-SITES'!D:D,'Liste des DT-EIC-SITES'!C:C)","v":"EIC Bourgogne Franche Comté"}]
[null,null,null,null,null,null,null,null,null,null,null,null,null,null,"Saumur",{"$f":"_xlfn.XLOOKUP(O1589,'Liste des DT-EIC-SITES'!D:D,'Liste des DT-EIC-SITES'!C:C)","v":"EIC Bretagne Pays de la Loire"}]
[null,null,null,null,null,null,null,null,null,null,null,null,null,null,"Savenay",{"$f":"_xlfn.XLOOKUP(O1590,'Liste des DT-EIC-SITES'!D:D,'Liste des DT-EIC-SITES'!C:C)","v":"EIC Bretagne Pays de la Loire"}]
[null,null,null,null,null,null,null,null,null,null,null,null,null,null,"Saverdun",{"$f":"_xlfn.XLOOKUP(O1591,'Liste des DT-EIC-SITES'!D:D,'Liste des DT-EIC-SITES'!C:C)","v":"EIC Midi Pyrénées"}]
[null,null,null,null,null,null,null,null,null,null,null,null,null,null,"Saverne",{"$f":"_xlfn.XLOOKUP(O1592,'Liste des DT-EIC-SITES'!D:D,'Liste des DT-EIC-SITES'!C:C)","v":"EIC Alsace"}]
[null,null,null,null,null,null,null,null,null,null,null,null,null,null,"Savigny-en-Septaine",{"$f":"_xlfn.XLOOKUP(O1593,'Liste des DT-EIC-SITES'!D:D,'Liste des DT-EIC-SITES'!C:C)","v":"EIC Centre Limousin"}]
[null,null,null,null,null,null,null,null,null,null,null,null,null,null,"Savines",{"$f":"_xlfn.XLOOKUP(O1594,'Liste des DT-EIC-SITES'!D:D,'Liste des DT-EIC-SITES'!C:C)","v":"EIC Provence Alpes Côte d'Azur"}]
[null,null,null,null,null,null,null,null,null,null,null,null,null,null,"Schirmeck-La Broque",{"$f":"_xlfn.XLOOKUP(O1595,'Liste des DT-EIC-SITES'!D:D,'Liste des DT-EIC-SITES'!C:C)","v":"EIC Alsace"}]
[null,null,null,null,null,null,null,null,null,null,null,null,null,null,"Schweighouse-sur-Moder",{"$f":"_xlfn.XLOOKUP(O1596,'Liste des DT-EIC-SITES'!D:D,'Liste des DT-EIC-SITES'!C:C)","v":"EIC Alsace"}]
[null,null,null,null,null,null,null,null,null,null,null,null,null,null,"SCI de Pouilly et Nohain",{"$f":"_xlfn.XLOOKUP(O1597,'Liste des DT-EIC-SITES'!D:D,'Liste des DT-EIC-SITES'!C:C)","v":"EIC Auvergne Nivernais"}]
[null,null,null,null,null,null,null,null,null,null,null,null,null,null,"SCV (Poste 1)",{"$f":"_xlfn.XLOOKUP(O1598,'Liste des DT-EIC-SITES'!D:D,'Liste des DT-EIC-SITES'!C:C)","v":"EIC Bretagne Pays de la Loire"}]
[null,null,null,null,null,null,null,null,null,null,null,null,null,null,"Seclin",{"$f":"_xlfn.XLOOKUP(O1599,'Liste des DT-EIC-SITES'!D:D,'Liste des DT-EIC-SITES'!C:C)","v":"EIC Hauts de France"}]
[null,null,null,null,null,null,null,null,null,null,null,null,null,null,"Sedan",{"$f":"_xlfn.XLOOKUP(O1600,'Liste des DT-EIC-SITES'!D:D,'Liste des DT-EIC-SITES'!C:C)","v":"EIC Lorraine Champagne Ardenne"}]
[null,null,null,null,null,null,null,null,null,null,null,null,null,null,"Sélestat",{"$f":"_xlfn.XLOOKUP(O1601,'Liste des DT-EIC-SITES'!D:D,'Liste des DT-EIC-SITES'!C:C)","v":"EIC Alsace"}]
[null,null,null,null,null,null,null,null,null,null,null,null,null,null,"Selles-sur-Cher",{"$f":"_xlfn.XLOOKUP(O1602,'Liste des DT-EIC-SITES'!D:D,'Liste des DT-EIC-SITES'!C:C)","v":"EIC Centre Limousin"}]
[null,null,null,null,null,null,null,null,null,null,null,null,null,null,"Selommes",{"$f":"_xlfn.XLOOKUP(O1603,'Liste des DT-EIC-SITES'!D:D,'Liste des DT-EIC-SITES'!C:C)","v":"EIC Centre Limousin"}]
[null,null,null,null,null,null,null,null,null,null,null,null,null,null,"Semur-en-Auxois",{"$f":"_xlfn.XLOOKUP(O1604,'Liste des DT-EIC-SITES'!D:D,'Liste des DT-EIC-SITES'!C:C)","v":"EIC Bourgogne Franche Comté"}]
[null,null,null,null,null,null,null,null,null,null,null,null,null,null,"Sénas",{"$f":"_xlfn.XLOOKUP(O1605,'Liste des DT-EIC-SITES'!D:D,'Liste des DT-EIC-SITES'!C:C)","v":"EIC Provence Alpes Côte d'Azur"}]
[null,null,null,null,null,null,null,null,null,null,null,null,null,null,"SENAS LGV",{"$f":"_xlfn.XLOOKUP(O1606,'Liste des DT-EIC-SITES'!D:D,'Liste des DT-EIC-SITES'!C:C)","v":"EIC Provence Alpes Côte d'Azur"}]
[null,null,null,null,null,null,null,null,null,null,null,null,null,null,"Sennecey-le-Grand",{"$f":"_xlfn.XLOOKUP(O1607,'Liste des DT-EIC-SITES'!D:D,'Liste des DT-EIC-SITES'!C:C)","v":"EIC Bourgogne Franche Comté"}]
[null,null,null,null,null,null,null,null,null,null,null,null,null,null,"Sens",{"$f":"_xlfn.XLOOKUP(O1608,'Liste des DT-EIC-SITES'!D:D,'Liste des DT-EIC-SITES'!C:C)","v":"EIC Paris Sud Est"}]
[null,null,null,null,null,null,null,null,null,null,null,null,null,null,"Sequedin",{"$f":"_xlfn.XLOOKUP(O1609,'Liste des DT-EIC-SITES'!D:D,'Liste des DT-EIC-SITES'!C:C)","v":"EIC Hauts de France"}]
[null,null,null,null,null,null,null,null,null,null,null,null,null,null,"Sérignac",{"$f":"_xlfn.XLOOKUP(O1610,'Liste des DT-EIC-SITES'!D:D,'Liste des DT-EIC-SITES'!C:C)","v":"EIC Midi Pyrénées"}]
[null,null,null,null,null,null,null,null,null,null,null,null,null,null,"Serqueux",{"$f":"_xlfn.XLOOKUP(O1611,'Liste des DT-EIC-SITES'!D:D,'Liste des DT-EIC-SITES'!C:C)","v":"EIC Normandie"}]
[null,null,null,null,null,null,null,null,null,null,null,null,null,null,"Serquigny",{"$f":"_xlfn.XLOOKUP(O1612,'Liste des DT-EIC-SITES'!D:D,'Liste des DT-EIC-SITES'!C:C)","v":"EIC Normandie"}]
[null,null,null,null,null,null,null,null,null,null,null,null,null,null,"Serres",{"$f":"_xlfn.XLOOKUP(O1613,'Liste des DT-EIC-SITES'!D:D,'Liste des DT-EIC-SITES'!C:C)","v":"EIC Provence Alpes Côte d'Azur"}]
[null,null,null,null,null,null,null,null,null,null,null,null,null,null,"Servoz",{"$f":"_xlfn.XLOOKUP(O1614,'Liste des DT-EIC-SITES'!D:D,'Liste des DT-EIC-SITES'!C:C)","v":"EIC Alpes"}]
[null,null,null,null,null,null,null,null,null,null,null,null,null,null,"Sète",{"$f":"_xlfn.XLOOKUP(O1615,'Liste des DT-EIC-SITES'!D:D,'Liste des DT-EIC-SITES'!C:C)","v":"EIC Languedoc Roussillon"}]
[null,null,null,null,null,null,null,null,null,null,null,null,null,null,"Sète (IE)",{"$f":"_xlfn.XLOOKUP(O1616,'Liste des DT-EIC-SITES'!D:D,'Liste des DT-EIC-SITES'!C:C)","v":"EIC Languedoc Roussillon"}]
[null,null,null,null,null,null,null,null,null,null,null,null,null,null,"Sète-Voies-des-Quais",{"$f":"_xlfn.XLOOKUP(O1617,'Liste des DT-EIC-SITES'!D:D,'Liste des DT-EIC-SITES'!C:C)","v":"EIC Languedoc Roussillon"}]
[null,null,null,null,null,null,null,null,null,null,null,null,null,null,"Seurre",{"$f":"_xlfn.XLOOKUP(O1618,'Liste des DT-EIC-SITES'!D:D,'Liste des DT-EIC-SITES'!C:C)","v":"EIC Bourgogne Franche Comté"}]
[null,null,null,null,null,null,null,null,null,null,null,null,null,null,"SEVA",{"$f":"_xlfn.XLOOKUP(O1619,'Liste des DT-EIC-SITES'!D:D,'Liste des DT-EIC-SITES'!C:C)","v":"EIC Bourgogne Franche Comté"}]
[null,null,null,null,null,null,null,null,null,null,null,null,null,null,"Sévérac-le-Château",{"$f":"_xlfn.XLOOKUP(O1620,'Liste des DT-EIC-SITES'!D:D,'Liste des DT-EIC-SITES'!C:C)","v":"EIC Languedoc Roussillon"}]
[null,null,null,null,null,null,null,null,null,null,null,null,null,null,"Seveux",{"$f":"_xlfn.XLOOKUP(O1621,'Liste des DT-EIC-SITES'!D:D,'Liste des DT-EIC-SITES'!C:C)","v":"EIC Languedoc Roussillon"}]
[null,null,null,null,null,null,null,null,null,null,null,null,null,null,"Sèvres-Rive-Gauche",{"$f":"_xlfn.XLOOKUP(O1622,'Liste des DT-EIC-SITES'!D:D,'Liste des DT-EIC-SITES'!C:C)","v":"EIC Paris Sud Ouest"}]
[null,null,null,null,null,null,null,null,null,null,null,null,null,null,"Seyssel-Corbonod",{"$f":"_xlfn.XLOOKUP(O1623,'Liste des DT-EIC-SITES'!D:D,'Liste des DT-EIC-SITES'!C:C)","v":"EIC Alpes"}]
[null,null,null,null,null,null,null,null,null,null,null,null,null,null,"Sézanne",{"$f":"_xlfn.XLOOKUP(O1624,'Liste des DT-EIC-SITES'!D:D,'Liste des DT-EIC-SITES'!C:C)","v":"EIC Lorraine Champagne Ardenne"}]
[null,null,null,null,null,null,null,null,null,null,null,null,null,null,"Sibelin",{"$f":"_xlfn.XLOOKUP(O1625,'Liste des DT-EIC-SITES'!D:D,'Liste des DT-EIC-SITES'!C:C)","v":"EIC Rhône Alpes Lyon"}]
[null,null,null,null,null,null,null,null,null,null,null,null,null,null,"Sierck-les-Bains",{"$f":"_xlfn.XLOOKUP(O1626,'Liste des DT-EIC-SITES'!D:D,'Liste des DT-EIC-SITES'!C:C)","v":"EIC Lorraine Champagne Ardenne"}]
[null,null,null,null,null,null,null,null,null,null,null,null,null,null,"Sierentz",{"$f":"_xlfn.XLOOKUP(O1627,'Liste des DT-EIC-SITES'!D:D,'Liste des DT-EIC-SITES'!C:C)","v":"EIC Alsace"}]
[null,null,null,null,null,null,null,null,null,null,null,null,null,null,"Sillé-le-Guillaume",{"$f":"_xlfn.XLOOKUP(O1628,'Liste des DT-EIC-SITES'!D:D,'Liste des DT-EIC-SITES'!C:C)","v":"EIC Bretagne Pays de la Loire"}]
[null,null,null,null,null,null,null,null,null,null,null,null,null,null,"Sillery",{"$f":"_xlfn.XLOOKUP(O1629,'Liste des DT-EIC-SITES'!D:D,'Liste des DT-EIC-SITES'!C:C)","v":"EIC Lorraine Champagne Ardenne"}]
[null,null,null,null,null,null,null,null,null,null,null,null,null,null,"Sincey-lès-Rouvray",{"$f":"_xlfn.XLOOKUP(O1630,'Liste des DT-EIC-SITES'!D:D,'Liste des DT-EIC-SITES'!C:C)","v":"EIC Bourgogne Franche Comté"}]
[null,null,null,null,null,null,null,null,null,null,null,null,null,null,"Sin-le-Noble",{"$f":"_xlfn.XLOOKUP(O1631,'Liste des DT-EIC-SITES'!D:D,'Liste des DT-EIC-SITES'!C:C)","v":"EIC Hauts de France"}]
[null,null,null,null,null,null,null,null,null,null,null,null,null,null,"Sireuil",{"$f":"_xlfn.XLOOKUP(O1632,'Liste des DT-EIC-SITES'!D:D,'Liste des DT-EIC-SITES'!C:C)","v":"EIC Aquitaine Poitou Charentes"}]
[null,null,null,null,null,null,null,null,null,null,null,null,null,null,"Sisteron",{"$f":"_xlfn.XLOOKUP(O1633,'Liste des DT-EIC-SITES'!D:D,'Liste des DT-EIC-SITES'!C:C)","v":"EIC Provence Alpes Côte d'Azur"}]
[null,null,null,null,null,null,null,null,null,null,null,null,null,null,"SNC Fillad",{"$f":"_xlfn.XLOOKUP(O1634,'Liste des DT-EIC-SITES'!D:D,'Liste des DT-EIC-SITES'!C:C)","v":"EIC Bourgogne Franche Comté"}]
[null,null,null,null,null,null,null,null,null,null,null,null,null,null,"Société Caves BERTRAND",{"$f":"_xlfn.XLOOKUP(O1635,'Liste des DT-EIC-SITES'!D:D,'Liste des DT-EIC-SITES'!C:C)","v":"EIC Alpes"}]
[null,null,null,null,null,null,null,null,null,null,null,null,null,null,"Société SOUFFLET",{"$f":"_xlfn.XLOOKUP(O1636,'Liste des DT-EIC-SITES'!D:D,'Liste des DT-EIC-SITES'!C:C)","v":"EIC Bourgogne Franche Comté"}]
[null,null,null,null,null,null,null,null,null,null,null,null,null,null,"Soissons",{"$f":"_xlfn.XLOOKUP(O1637,'Liste des DT-EIC-SITES'!D:D,'Liste des DT-EIC-SITES'!C:C)","v":"EIC Hauts de France"}]
[null,null,null,null,null,null,null,null,null,null,null,null,null,null,"SOLERS LGV",{"$f":"_xlfn.XLOOKUP(O1638,'Liste des DT-EIC-SITES'!D:D,'Liste des DT-EIC-SITES'!C:C)","v":"EIC Paris Sud Est"}]
[null,null,null,null,null,null,null,null,null,null,null,null,null,null,"Solférino",{"$f":"_xlfn.XLOOKUP(O1639,'Liste des DT-EIC-SITES'!D:D,'Liste des DT-EIC-SITES'!C:C)","v":"EIC Aquitaine Poitou Charentes"}]
[null,null,null,null,null,null,null,null,null,null,null,null,null,null,"Solignac-Le Vigen",{"$f":"_xlfn.XLOOKUP(O1640,'Liste des DT-EIC-SITES'!D:D,'Liste des DT-EIC-SITES'!C:C)","v":"EIC Centre Limousin"}]
[null,null,null,null,null,null,null,null,null,null,null,null,null,null,"Somain",{"$f":"_xlfn.XLOOKUP(O1641,'Liste des DT-EIC-SITES'!D:D,'Liste des DT-EIC-SITES'!C:C)","v":"EIC Hauts de France"}]
[null,null,null,null,null,null,null,null,null,null,null,null,null,null,"SONOGRA",{"$f":"_xlfn.XLOOKUP(O1642,'Liste des DT-EIC-SITES'!D:D,'Liste des DT-EIC-SITES'!C:C)","v":"EIC Bourgogne Franche Comté"}]
[null,null,null,null,null,null,null,null,null,null,null,null,null,null,"Sorcy",{"$f":"_xlfn.XLOOKUP(O1643,'Liste des DT-EIC-SITES'!D:D,'Liste des DT-EIC-SITES'!C:C)","v":"EIC Lorraine Champagne Ardenne"}]
[null,null,null,null,null,null,null,null,null,null,null,null,null,null,"Sorgues-Châteauneuf-du-Pape",{"$f":"_xlfn.XLOOKUP(O1644,'Liste des DT-EIC-SITES'!D:D,'Liste des DT-EIC-SITES'!C:C)","v":"EIC Provence Alpes Côte d'Azur"}]
[null,null,null,null,null,null,null,null,null,null,null,null,null,null,"Sotteville",{"$f":"_xlfn.XLOOKUP(O1645,'Liste des DT-EIC-SITES'!D:D,'Liste des DT-EIC-SITES'!C:C)","v":"EIC Normandie"}]
[null,null,null,null,null,null,null,null,null,null,null,null,null,null,"Sotteville Triage Annexe",{"$f":"_xlfn.XLOOKUP(O1646,'Liste des DT-EIC-SITES'!D:D,'Liste des DT-EIC-SITES'!C:C)","v":"EIC Normandie"}]
[null,null,null,null,null,null,null,null,null,null,null,null,null,null,"Souillac",{"$f":"_xlfn.XLOOKUP(O1647,'Liste des DT-EIC-SITES'!D:D,'Liste des DT-EIC-SITES'!C:C)","v":"EIC Centre Limousin"}]
[null,null,null,null,null,null,null,null,null,null,null,null,null,null,"Soultz-sous-Forêts",{"$f":"_xlfn.XLOOKUP(O1648,'Liste des DT-EIC-SITES'!D:D,'Liste des DT-EIC-SITES'!C:C)","v":"EIC Alsace"}]
[null,null,null,null,null,null,null,null,null,null,null,null,null,null,"Souppes-Château-Landon",{"$f":"_xlfn.XLOOKUP(O1649,'Liste des DT-EIC-SITES'!D:D,'Liste des DT-EIC-SITES'!C:C)","v":"EIC Paris Sud Est"}]
[null,null,null,null,null,null,null,null,null,null,null,null,null,null,"Souvans",{"$f":"_xlfn.XLOOKUP(O1650,'Liste des DT-EIC-SITES'!D:D,'Liste des DT-EIC-SITES'!C:C)","v":"EIC Paris Sud Est"}]
[null,null,null,null,null,null,null,null,null,null,null,null,null,null,"ST LEGER faisceau LGV",{"$f":"_xlfn.XLOOKUP(O1651,'Liste des DT-EIC-SITES'!D:D,'Liste des DT-EIC-SITES'!C:C)","v":"EIC Paris Sud Ouest"}]
[null,null,null,null,null,null,null,null,null,null,null,null,null,null,"St-Aignan-Noyers",{"$f":"_xlfn.XLOOKUP(O1652,'Liste des DT-EIC-SITES'!D:D,'Liste des DT-EIC-SITES'!C:C)","v":"EIC Centre Limousin"}]
[null,null,null,null,null,null,null,null,null,null,null,null,null,null,"St-Aigulin-La Roche-Chalais",{"$f":"_xlfn.XLOOKUP(O1653,'Liste des DT-EIC-SITES'!D:D,'Liste des DT-EIC-SITES'!C:C)","v":"EIC Aquitaine Poitou Charentes"}]
[null,null,null,null,null,null,null,null,null,null,null,null,null,null,"Stains",{"$f":"_xlfn.XLOOKUP(O1654,'Liste des DT-EIC-SITES'!D:D,'Liste des DT-EIC-SITES'!C:C)","v":"EIC Paris Nord"}]
[null,null,null,null,null,null,null,null,null,null,null,null,null,null,"St-Amand-de-Vendôme",{"$f":"_xlfn.XLOOKUP(O1655,'Liste des DT-EIC-SITES'!D:D,'Liste des DT-EIC-SITES'!C:C)","v":"EIC Centre Limousin"}]
[null,null,null,null,null,null,null,null,null,null,null,null,null,null,"St-Amand-Montrond-Orval",{"$f":"_xlfn.XLOOKUP(O1656,'Liste des DT-EIC-SITES'!D:D,'Liste des DT-EIC-SITES'!C:C)","v":"EIC Centre Limousin"}]
[null,null,null,null,null,null,null,null,null,null,null,null,null,null,"St-Ambroix",{"$f":"_xlfn.XLOOKUP(O1657,'Liste des DT-EIC-SITES'!D:D,'Liste des DT-EIC-SITES'!C:C)","v":"EIC Languedoc Roussillon"}]
[null,null,null,null,null,null,null,null,null,null,null,null,null,null,"St-Amour",{"$f":"_xlfn.XLOOKUP(O1658,'Liste des DT-EIC-SITES'!D:D,'Liste des DT-EIC-SITES'!C:C)","v":"EIC Bourgogne Franche Comté"}]
[null,null,null,null,null,null,null,null,null,null,null,null,null,null,"St-André-de-Corcy",{"$f":"_xlfn.XLOOKUP(O1659,'Liste des DT-EIC-SITES'!D:D,'Liste des DT-EIC-SITES'!C:C)","v":"EIC Rhône Alpes Lyon"}]
[null,null,null,null,null,null,null,null,null,null,null,null,null,null,"St-André-de-Cubzac",{"$f":"_xlfn.XLOOKUP(O1660,'Liste des DT-EIC-SITES'!D:D,'Liste des DT-EIC-SITES'!C:C)","v":"EIC Aquitaine Poitou Charentes"}]
[null,null,null,null,null,null,null,null,null,null,null,null,null,null,"St-André-de-l'Eure",{"$f":"_xlfn.XLOOKUP(O1661,'Liste des DT-EIC-SITES'!D:D,'Liste des DT-EIC-SITES'!C:C)","v":"EIC Normandie"}]
[null,null,null,null,null,null,null,null,null,null,null,null,null,null,"St-André-le-Gaz",{"$f":"_xlfn.XLOOKUP(O1662,'Liste des DT-EIC-SITES'!D:D,'Liste des DT-EIC-SITES'!C:C)","v":"EIC Alpes"}]
[null,null,null,null,null,null,null,null,null,null,null,null,null,null,"St-Aubin (Jura)",{"$f":"_xlfn.XLOOKUP(O1663,'Liste des DT-EIC-SITES'!D:D,'Liste des DT-EIC-SITES'!C:C)","v":"EIC Bourgogne Franche Comté"}]
[null,null,null,null,null,null,null,null,null,null,null,null,null,null,"St-Aubin-du-Vieil-Évreux",{"$f":"_xlfn.XLOOKUP(O1664,'Liste des DT-EIC-SITES'!D:D,'Liste des DT-EIC-SITES'!C:C)","v":"EIC Normandie"}]
[null,null,null,null,null,null,null,null,null,null,null,null,null,null,"St-Avit",{"$f":"_xlfn.XLOOKUP(O1665,'Liste des DT-EIC-SITES'!D:D,'Liste des DT-EIC-SITES'!C:C)","v":"EIC Aquitaine Poitou Charentes"}]
[null,null,null,null,null,null,null,null,null,null,null,null,null,null,"St-Avold",{"$f":"_xlfn.XLOOKUP(O1666,'Liste des DT-EIC-SITES'!D:D,'Liste des DT-EIC-SITES'!C:C)","v":"EIC Lorraine Champagne Ardenne"}]
[null,null,null,null,null,null,null,null,null,null,null,null,null,null,"St-Avre-la-Chambre",{"$f":"_xlfn.XLOOKUP(O1667,'Liste des DT-EIC-SITES'!D:D,'Liste des DT-EIC-SITES'!C:C)","v":"EIC Alpes"}]
[null,null,null,null,null,null,null,null,null,null,null,null,null,null,"St-Béron-La Bridoire",{"$f":"_xlfn.XLOOKUP(O1668,'Liste des DT-EIC-SITES'!D:D,'Liste des DT-EIC-SITES'!C:C)","v":"EIC Alpes"}]
[null,null,null,null,null,null,null,null,null,null,null,null,null,null,"St-Bonnet-en-Bresse",{"$f":"_xlfn.XLOOKUP(O1669,'Liste des DT-EIC-SITES'!D:D,'Liste des DT-EIC-SITES'!C:C)","v":"EIC Bourgogne Franche Comté"}]
[null,null,null,null,null,null,null,null,null,null,null,null,null,null,"St-Brieuc",{"$f":"_xlfn.XLOOKUP(O1670,'Liste des DT-EIC-SITES'!D:D,'Liste des DT-EIC-SITES'!C:C)","v":"EIC Bretagne Pays de la Loire"}]
[null,null,null,null,null,null,null,null,null,null,null,null,null,null,"St-Césaire",{"$f":"_xlfn.XLOOKUP(O1671,'Liste des DT-EIC-SITES'!D:D,'Liste des DT-EIC-SITES'!C:C)","v":"EIC Languedoc Roussillon"}]
[null,null,null,null,null,null,null,null,null,null,null,null,null,null,"St-Chély-d'Apcher",{"$f":"_xlfn.XLOOKUP(O1672,'Liste des DT-EIC-SITES'!D:D,'Liste des DT-EIC-SITES'!C:C)","v":"EIC Languedoc Roussillon"}]
[null,null,null,null,null,null,null,null,null,null,null,null,null,null,"St-Christophe",{"$f":"_xlfn.XLOOKUP(O1673,'Liste des DT-EIC-SITES'!D:D,'Liste des DT-EIC-SITES'!C:C)","v":"EIC Midi Pyrénées"}]
[null,null,null,null,null,null,null,null,null,null,null,null,null,null,"St-Clair-les-Roches",{"$f":"_xlfn.XLOOKUP(O1674,'Liste des DT-EIC-SITES'!D:D,'Liste des DT-EIC-SITES'!C:C)","v":"EIC Rhône Alpes Lyon"}]
[null,null,null,null,null,null,null,null,null,null,null,null,null,null,"St-Claude",{"$f":"_xlfn.XLOOKUP(O1675,'Liste des DT-EIC-SITES'!D:D,'Liste des DT-EIC-SITES'!C:C)","v":"EIC Bourgogne Franche Comté"}]
[null,null,null,null,null,null,null,null,null,null,null,null,null,null,"St-Cloud",{"$f":"_xlfn.XLOOKUP(O1676,'Liste des DT-EIC-SITES'!D:D,'Liste des DT-EIC-SITES'!C:C)","v":"EIC Paris Est Ouest Francilien"}]
[null,null,null,null,null,null,null,null,null,null,null,null,null,null,"St-Cyprien-Arènes",{"$f":"_xlfn.XLOOKUP(O1677,'Liste des DT-EIC-SITES'!D:D,'Liste des DT-EIC-SITES'!C:C)","v":"EIC Midi Pyrénées"}]
[null,null,null,null,null,null,null,null,null,null,null,null,null,null,"St-Cyprien-en-Dordogne",{"$f":"_xlfn.XLOOKUP(O1678,'Liste des DT-EIC-SITES'!D:D,'Liste des DT-EIC-SITES'!C:C)","v":"EIC Aquitaine Poitou Charentes"}]
[null,null,null,null,null,null,null,null,null,null,null,null,null,null,"St-Cyr",{"$f":"_xlfn.XLOOKUP(O1679,'Liste des DT-EIC-SITES'!D:D,'Liste des DT-EIC-SITES'!C:C)","v":"EIC Paris Sud Ouest"}]
[null,null,null,null,null,null,null,null,null,null,null,null,null,null,"St-Cyr-en-Val-La Source",{"$f":"_xlfn.XLOOKUP(O1680,'Liste des DT-EIC-SITES'!D:D,'Liste des DT-EIC-SITES'!C:C)","v":"EIC Centre Limousin"}]
[null,null,null,null,null,null,null,null,null,null,null,null,null,null,"St-Cyr-les-Lècques-La Cadière",{"$f":"_xlfn.XLOOKUP(O1681,'Liste des DT-EIC-SITES'!D:D,'Liste des DT-EIC-SITES'!C:C)","v":"EIC Provence Alpes Côte d'Azur"}]
[null,null,null,null,null,null,null,null,null,null,null,null,null,null,"St-Dalmas-de-Tende",{"$f":"_xlfn.XLOOKUP(O1682,'Liste des DT-EIC-SITES'!D:D,'Liste des DT-EIC-SITES'!C:C)","v":"EIC Provence Alpes Côte d'Azur"}]
[null,null,null,null,null,null,null,null,null,null,null,null,null,null,"St-Denis",{"$f":"_xlfn.XLOOKUP(O1683,'Liste des DT-EIC-SITES'!D:D,'Liste des DT-EIC-SITES'!C:C)","v":"EIC Paris Nord"}]
[null,null,null,null,null,null,null,null,null,null,null,null,null,null,"St-Denis-Catus",{"$f":"_xlfn.XLOOKUP(O1684,'Liste des DT-EIC-SITES'!D:D,'Liste des DT-EIC-SITES'!C:C)","v":"EIC Midi Pyrénées"}]
[null,null,null,null,null,null,null,null,null,null,null,null,null,null,"St-Denis-Jargeau",{"$f":"_xlfn.XLOOKUP(O1685,'Liste des DT-EIC-SITES'!D:D,'Liste des DT-EIC-SITES'!C:C)","v":"EIC Centre Limousin"}]
[null,null,null,null,null,null,null,null,null,null,null,null,null,null,"St-Denis-près-Martel",{"$f":"_xlfn.XLOOKUP(O1686,'Liste des DT-EIC-SITES'!D:D,'Liste des DT-EIC-SITES'!C:C)","v":"EIC Centre Limousin"}]
[null,null,null,null,null,null,null,null,null,null,null,null,null,null,"St-Dié-des-Vosges",{"$f":"_xlfn.XLOOKUP(O1687,'Liste des DT-EIC-SITES'!D:D,'Liste des DT-EIC-SITES'!C:C)","v":"EIC Lorraine Champagne Ardenne"}]
[null,null,null,null,null,null,null,null,null,null,null,null,null,null,"St-Dizier",{"$f":"_xlfn.XLOOKUP(O1688,'Liste des DT-EIC-SITES'!D:D,'Liste des DT-EIC-SITES'!C:C)","v":"EIC Lorraine Champagne Ardenne"}]
[null,null,null,null,null,null,null,null,null,null,null,null,null,null,"Ste-Christie",{"$f":"_xlfn.XLOOKUP(O1689,'Liste des DT-EIC-SITES'!D:D,'Liste des DT-EIC-SITES'!C:C)","v":"EIC Midi Pyrénées"}]
[null,null,null,null,null,null,null,null,null,null,null,null,null,null,"Ste-Colombe-les-Vienne-St-Romain-en-Gal",{"$f":"_xlfn.XLOOKUP(O1690,'Liste des DT-EIC-SITES'!D:D,'Liste des DT-EIC-SITES'!C:C)","v":"EIC Rhône Alpes Lyon"}]
[null,null,null,null,null,null,null,null,null,null,null,null,null,null,"Ste-Colombe-sur-Seine",{"$f":"_xlfn.XLOOKUP(O1691,'Liste des DT-EIC-SITES'!D:D,'Liste des DT-EIC-SITES'!C:C)","v":"EIC Bourgogne Franche Comté"}]
[null,null,null,null,null,null,null,null,null,null,null,null,null,null,"Ste-Croix",{"$f":"_xlfn.XLOOKUP(O1692,'Liste des DT-EIC-SITES'!D:D,'Liste des DT-EIC-SITES'!C:C)","v":"EIC Bourgogne Franche Comté"}]
[null,null,null,null,null,null,null,null,null,null,null,null,null,null,"Ste-Croix-en-Plaine",{"$f":"_xlfn.XLOOKUP(O1693,'Liste des DT-EIC-SITES'!D:D,'Liste des DT-EIC-SITES'!C:C)","v":"EIC Alsace"}]
[null,null,null,null,null,null,null,null,null,null,null,null,null,null,"Ste-Eulalie-Carbon-Blanc",{"$f":"_xlfn.XLOOKUP(O1694,'Liste des DT-EIC-SITES'!D:D,'Liste des DT-EIC-SITES'!C:C)","v":"EIC Aquitaine Poitou Charentes"}]
[null,null,null,null,null,null,null,null,null,null,null,null,null,null,"Ste-Foy-la-Grande",{"$f":"_xlfn.XLOOKUP(O1695,'Liste des DT-EIC-SITES'!D:D,'Liste des DT-EIC-SITES'!C:C)","v":"EIC Aquitaine Poitou Charentes"}]
[null,null,null,null,null,null,null,null,null,null,null,null,null,null,"Ste-Foy-l'Argentière",{"$f":"_xlfn.XLOOKUP(O1696,'Liste des DT-EIC-SITES'!D:D,'Liste des DT-EIC-SITES'!C:C)","v":"EIC Rhône Alpes Lyon"}]
[null,null,null,null,null,null,null,null,null,null,null,null,null,null,"St-Égrève-St-Robert",{"$f":"_xlfn.XLOOKUP(O1697,'Liste des DT-EIC-SITES'!D:D,'Liste des DT-EIC-SITES'!C:C)","v":"EIC Alpes"}]
[null,null,null,null,null,null,null,null,null,null,null,null,null,null,"St-Éloy",{"$f":"_xlfn.XLOOKUP(O1698,'Liste des DT-EIC-SITES'!D:D,'Liste des DT-EIC-SITES'!C:C)","v":"EIC Auvergne Nivernais"}]
[null,null,null,null,null,null,null,null,null,null,null,null,null,null,"Ste-Maure-Noyant",{"$f":"_xlfn.XLOOKUP(O1699,'Liste des DT-EIC-SITES'!D:D,'Liste des DT-EIC-SITES'!C:C)","v":"EIC Centre Limousin"}]
[null,null,null,null,null,null,null,null,null,null,null,null,null,null,"Ste-Menehould",{"$f":"_xlfn.XLOOKUP(O1700,'Liste des DT-EIC-SITES'!D:D,'Liste des DT-EIC-SITES'!C:C)","v":"EIC Lorraine Champagne Ardenne"}]
[null,null,null,null,null,null,null,null,null,null,null,null,null,null,"Stenay",{"$f":"_xlfn.XLOOKUP(O1701,'Liste des DT-EIC-SITES'!D:D,'Liste des DT-EIC-SITES'!C:C)","v":"EIC Lorraine Champagne Ardenne"}]
[null,null,null,null,null,null,null,null,null,null,null,null,null,null,"Ste-Pazanne",{"$f":"_xlfn.XLOOKUP(O1702,'Liste des DT-EIC-SITES'!D:D,'Liste des DT-EIC-SITES'!C:C)","v":"EIC Bretagne Pays de la Loire"}]
[null,null,null,null,null,null,null,null,null,null,null,null,null,null,"St-Erme",{"$f":"_xlfn.XLOOKUP(O1703,'Liste des DT-EIC-SITES'!D:D,'Liste des DT-EIC-SITES'!C:C)","v":"EIC Lorraine Champagne Ardenne"}]
[null,null,null,null,null,null,null,null,null,null,null,null,null,null,"St-Étienne-Bellevue",{"$f":"_xlfn.XLOOKUP(O1704,'Liste des DT-EIC-SITES'!D:D,'Liste des DT-EIC-SITES'!C:C)","v":"EIC Rhône Alpes Lyon"}]
[null,null,null,null,null,null,null,null,null,null,null,null,null,null,"St-Étienne-Châteaucreux",{"$f":"_xlfn.XLOOKUP(O1705,'Liste des DT-EIC-SITES'!D:D,'Liste des DT-EIC-SITES'!C:C)","v":"EIC Rhône Alpes Lyon"}]
[null,null,null,null,null,null,null,null,null,null,null,null,null,null,"St-Étienne-de-Montluc",{"$f":"_xlfn.XLOOKUP(O1706,'Liste des DT-EIC-SITES'!D:D,'Liste des DT-EIC-SITES'!C:C)","v":"EIC Bretagne Pays de la Loire"}]
[null,null,null,null,null,null,null,null,null,null,null,null,null,null,"St-Étienne-Pont-de-l'Âne",{"$f":"_xlfn.XLOOKUP(O1707,'Liste des DT-EIC-SITES'!D:D,'Liste des DT-EIC-SITES'!C:C)","v":"EIC Rhône Alpes Lyon"}]
[null,null,null,null,null,null,null,null,null,null,null,null,null,null,"St-Florentin-Vergigny",{"$f":"_xlfn.XLOOKUP(O1708,'Liste des DT-EIC-SITES'!D:D,'Liste des DT-EIC-SITES'!C:C)","v":"EIC Paris Sud Est"}]
[null,null,null,null,null,null,null,null,null,null,null,null,null,null,"St-Florent-sur-Cher",{"$f":"_xlfn.XLOOKUP(O1709,'Liste des DT-EIC-SITES'!D:D,'Liste des DT-EIC-SITES'!C:C)","v":"EIC Centre Limousin"}]
[null,null,null,null,null,null,null,null,null,null,null,null,null,null,"St-Flour-Chaudes-Aigues",{"$f":"_xlfn.XLOOKUP(O1710,'Liste des DT-EIC-SITES'!D:D,'Liste des DT-EIC-SITES'!C:C)","v":"EIC Auvergne Nivernais"}]
[null,null,null,null,null,null,null,null,null,null,null,null,null,null,"St-Fons",{"$f":"_xlfn.XLOOKUP(O1711,'Liste des DT-EIC-SITES'!D:D,'Liste des DT-EIC-SITES'!C:C)","v":"EIC Rhône Alpes Lyon"}]
[null,null,null,null,null,null,null,null,null,null,null,null,null,null,"St-Gaudens",{"$f":"_xlfn.XLOOKUP(O1712,'Liste des DT-EIC-SITES'!D:D,'Liste des DT-EIC-SITES'!C:C)","v":"EIC Midi Pyrénées"}]
[null,null,null,null,null,null,null,null,null,null,null,null,null,null,"St-Genouph",{"$f":"_xlfn.XLOOKUP(O1713,'Liste des DT-EIC-SITES'!D:D,'Liste des DT-EIC-SITES'!C:C)","v":"EIC Centre Limousin"}]
[null,null,null,null,null,null,null,null,null,null,null,null,null,null,"St-Georges-d'Aurac",{"$f":"_xlfn.XLOOKUP(O1714,'Liste des DT-EIC-SITES'!D:D,'Liste des DT-EIC-SITES'!C:C)","v":"EIC Auvergne Nivernais"}]
[null,null,null,null,null,null,null,null,null,null,null,null,null,null,"St-Germain-au-Mont-d'Or",{"$f":"_xlfn.XLOOKUP(O1715,'Liste des DT-EIC-SITES'!D:D,'Liste des DT-EIC-SITES'!C:C)","v":"EIC Rhône Alpes Lyon"}]
[null,null,null,null,null,null,null,null,null,null,null,null,null,null,"St-Germain-des-Fossés",{"$f":"_xlfn.XLOOKUP(O1716,'Liste des DT-EIC-SITES'!D:D,'Liste des DT-EIC-SITES'!C:C)","v":"EIC Auvergne Nivernais"}]
[null,null,null,null,null,null,null,null,null,null,null,null,null,null,"St-Germain-du-Puy",{"$f":"_xlfn.XLOOKUP(O1717,'Liste des DT-EIC-SITES'!D:D,'Liste des DT-EIC-SITES'!C:C)","v":"EIC Centre Limousin"}]
[null,null,null,null,null,null,null,null,null,null,null,null,null,null,"St-Germain-en-Laye-Grande-Ceinture",{"$f":"_xlfn.XLOOKUP(O1718,'Liste des DT-EIC-SITES'!D:D,'Liste des DT-EIC-SITES'!C:C)","v":"EIC Paris Est Ouest Francilien"}]
[null,null,null,null,null,null,null,null,null,null,null,null,null,null,"St-Germain-les-Belles",{"$f":"_xlfn.XLOOKUP(O1719,'Liste des DT-EIC-SITES'!D:D,'Liste des DT-EIC-SITES'!C:C)","v":"EIC Centre Limousin"}]
[null,null,null,null,null,null,null,null,null,null,null,null,null,null,"St-Germain-l'Espinasse",{"$f":"_xlfn.XLOOKUP(O1720,'Liste des DT-EIC-SITES'!D:D,'Liste des DT-EIC-SITES'!C:C)","v":"EIC Rhône Alpes Lyon"}]
[null,null,null,null,null,null,null,null,null,null,null,null,null,null,"St-Gervais-Châteauneuf",{"$f":"_xlfn.XLOOKUP(O1721,'Liste des DT-EIC-SITES'!D:D,'Liste des DT-EIC-SITES'!C:C)","v":"EIC Alpes"}]
[null,null,null,null,null,null,null,null,null,null,null,null,null,null,"St-Gervais-les-Bains-Le Fayet",{"$f":"_xlfn.XLOOKUP(O1722,'Liste des DT-EIC-SITES'!D:D,'Liste des DT-EIC-SITES'!C:C)","v":"EIC Alpes"}]
[null,null,null,null,null,null,null,null,null,null,null,null,null,null,"St-Gildas-des-Bois",{"$f":"_xlfn.XLOOKUP(O1723,'Liste des DT-EIC-SITES'!D:D,'Liste des DT-EIC-SITES'!C:C)","v":"EIC Bretagne Pays de la Loire"}]
[null,null,null,null,null,null,null,null,null,null,null,null,null,null,"St-Gilles-du-Gard",{"$f":"_xlfn.XLOOKUP(O1724,'Liste des DT-EIC-SITES'!D:D,'Liste des DT-EIC-SITES'!C:C)","v":"EIC Languedoc Roussillon"}]
[null,null,null,null,null,null,null,null,null,null,null,null,null,null,"St-Hilaire-au-Temple",{"$f":"_xlfn.XLOOKUP(O1725,'Liste des DT-EIC-SITES'!D:D,'Liste des DT-EIC-SITES'!C:C)","v":"EIC Lorraine Champagne Ardenne"}]
[null,null,null,null,null,null,null,null,null,null,null,null,null,null,"St-Jacques-de-la-Lande",{"$f":"_xlfn.XLOOKUP(O1726,'Liste des DT-EIC-SITES'!D:D,'Liste des DT-EIC-SITES'!C:C)","v":"EIC Bretagne Pays de la Loire"}]
[null,null,null,null,null,null,null,null,null,null,null,null,null,null,"St-Jean-d'Angély",{"$f":"_xlfn.XLOOKUP(O1727,'Liste des DT-EIC-SITES'!D:D,'Liste des DT-EIC-SITES'!C:C)","v":"EIC Aquitaine Poitou Charentes"}]
[null,null,null,null,null,null,null,null,null,null,null,null,null,null,"St-Jean-de-Braye",{"$f":"_xlfn.XLOOKUP(O1728,'Liste des DT-EIC-SITES'!D:D,'Liste des DT-EIC-SITES'!C:C)","v":"EIC Centre Limousin"}]
[null,null,null,null,null,null,null,null,null,null,null,null,null,null,"St-Jean-de-Losne",{"$f":"_xlfn.XLOOKUP(O1729,'Liste des DT-EIC-SITES'!D:D,'Liste des DT-EIC-SITES'!C:C)","v":"EIC Bourgogne Franche Comté"}]
[null,null,null,null,null,null,null,null,null,null,null,null,null,null,"St-Jean-Pied-de-Port",{"$f":"_xlfn.XLOOKUP(O1730,'Liste des DT-EIC-SITES'!D:D,'Liste des DT-EIC-SITES'!C:C)","v":"EIC Aquitaine Poitou Charentes"}]
[null,null,null,null,null,null,null,null,null,null,null,null,null,null,"St-Jean-Pla-de-Corts",{"$f":"_xlfn.XLOOKUP(O1731,'Liste des DT-EIC-SITES'!D:D,'Liste des DT-EIC-SITES'!C:C)","v":"EIC Languedoc Roussillon"}]
[null,null,null,null,null,null,null,null,null,null,null,null,null,null,"St-Jory",{"$f":"_xlfn.XLOOKUP(O1732,'Liste des DT-EIC-SITES'!D:D,'Liste des DT-EIC-SITES'!C:C)","v":"EIC Midi Pyrénées"}]
[null,null,null,null,null,null,null,null,null,null,null,null,null,null,"St-Juéry",{"$f":"_xlfn.XLOOKUP(O1733,'Liste des DT-EIC-SITES'!D:D,'Liste des DT-EIC-SITES'!C:C)","v":"EIC Midi Pyrénées"}]
[null,null,null,null,null,null,null,null,null,null,null,null,null,null,"St-Julien (Côtes-d'Armor)",{"$f":"_xlfn.XLOOKUP(O1734,'Liste des DT-EIC-SITES'!D:D,'Liste des DT-EIC-SITES'!C:C)","v":"EIC Bretagne Pays de la Loire"}]
[null,null,null,null,null,null,null,null,null,null,null,null,null,null,"St-Julien-Clénay",{"$f":"_xlfn.XLOOKUP(O1735,'Liste des DT-EIC-SITES'!D:D,'Liste des DT-EIC-SITES'!C:C)","v":"EIC Bourgogne Franche Comté"}]
[null,null,null,null,null,null,null,null,null,null,null,null,null,null,"St-Julien-du-Sault",{"$f":"_xlfn.XLOOKUP(O1736,'Liste des DT-EIC-SITES'!D:D,'Liste des DT-EIC-SITES'!C:C)","v":"EIC Paris Sud Est"}]
[null,null,null,null,null,null,null,null,null,null,null,null,null,null,"St-Julien-Écuisses",{"$f":"_xlfn.XLOOKUP(O1737,'Liste des DT-EIC-SITES'!D:D,'Liste des DT-EIC-SITES'!C:C)","v":"EIC Bourgogne Franche Comté"}]
[null,null,null,null,null,null,null,null,null,null,null,null,null,null,"St-Julien-en-Genevois",{"$f":"_xlfn.XLOOKUP(O1738,'Liste des DT-EIC-SITES'!D:D,'Liste des DT-EIC-SITES'!C:C)","v":"EIC Alpes"}]
[null,null,null,null,null,null,null,null,null,null,null,null,null,null,"St-Julien-Montricher",{"$f":"_xlfn.XLOOKUP(O1739,'Liste des DT-EIC-SITES'!D:D,'Liste des DT-EIC-SITES'!C:C)","v":"EIC Alpes"}]
[null,null,null,null,null,null,null,null,null,null,null,null,null,null,"St-Junien",{"$f":"_xlfn.XLOOKUP(O1740,'Liste des DT-EIC-SITES'!D:D,'Liste des DT-EIC-SITES'!C:C)","v":"EIC Centre Limousin"}]
[null,null,null,null,null,null,null,null,null,null,null,null,null,null,"St-Just-en-Chaussée",{"$f":"_xlfn.XLOOKUP(O1741,'Liste des DT-EIC-SITES'!D:D,'Liste des DT-EIC-SITES'!C:C)","v":"EIC Paris Nord"}]
[null,null,null,null,null,null,null,null,null,null,null,null,null,null,"St-Just-St-Rambert",{"$f":"_xlfn.XLOOKUP(O1742,'Liste des DT-EIC-SITES'!D:D,'Liste des DT-EIC-SITES'!C:C)","v":"EIC Rhône Alpes Lyon"}]
[null,null,null,null,null,null,null,null,null,null,null,null,null,null,"St-Just-sur-Loire",{"$f":"_xlfn.XLOOKUP(O1743,'Liste des DT-EIC-SITES'!D:D,'Liste des DT-EIC-SITES'!C:C)","v":"EIC Rhône Alpes Lyon"}]
[null,null,null,null,null,null,null,null,null,null,null,null,null,null,"St-Laurent (Jura)",{"$f":"_xlfn.XLOOKUP(O1744,'Liste des DT-EIC-SITES'!D:D,'Liste des DT-EIC-SITES'!C:C)","v":"EIC Bourgogne Franche Comté"}]
[null,null,null,null,null,null,null,null,null,null,null,null,null,null,"St-Léger-sur-Dheune",{"$f":"_xlfn.XLOOKUP(O1745,'Liste des DT-EIC-SITES'!D:D,'Liste des DT-EIC-SITES'!C:C)","v":"EIC Bourgogne Franche Comté"}]
[null,null,null,null,null,null,null,null,null,null,null,null,null,null,"St-Léonard",{"$f":"_xlfn.XLOOKUP(O1746,'Liste des DT-EIC-SITES'!D:D,'Liste des DT-EIC-SITES'!C:C)","v":"EIC Lorraine Champagne Ardenne"}]
[null,null,null,null,null,null,null,null,null,null,null,null,null,null,"St-Léonard-de-Noblat",{"$f":"_xlfn.XLOOKUP(O1747,'Liste des DT-EIC-SITES'!D:D,'Liste des DT-EIC-SITES'!C:C)","v":"EIC Centre Limousin"}]
[null,null,null,null,null,null,null,null,null,null,null,null,null,null,"St-Leu-la-Forêt",{"$f":"_xlfn.XLOOKUP(O1748,'Liste des DT-EIC-SITES'!D:D,'Liste des DT-EIC-SITES'!C:C)","v":"EIC Paris Nord"}]
[null,null,null,null,null,null,null,null,null,null,null,null,null,null,"St-Lô",{"$f":"_xlfn.XLOOKUP(O1749,'Liste des DT-EIC-SITES'!D:D,'Liste des DT-EIC-SITES'!C:C)","v":"EIC Normandie"}]
[null,null,null,null,null,null,null,null,null,null,null,null,null,null,"St-Louis",{"$f":"_xlfn.XLOOKUP(O1750,'Liste des DT-EIC-SITES'!D:D,'Liste des DT-EIC-SITES'!C:C)","v":"EIC Alsace"}]
[null,null,null,null,null,null,null,null,null,null,null,null,null,null,"St-Louis-les-Aygalades",{"$f":"_xlfn.XLOOKUP(O1751,'Liste des DT-EIC-SITES'!D:D,'Liste des DT-EIC-SITES'!C:C)","v":"EIC Provence Alpes Côte d'Azur"}]
[null,null,null,null,null,null,null,null,null,null,null,null,null,null,"St-Maixent-l'Ecole",{"$f":"_xlfn.XLOOKUP(O1752,'Liste des DT-EIC-SITES'!D:D,'Liste des DT-EIC-SITES'!C:C)","v":"EIC Aquitaine Poitou Charentes"}]
[null,null,null,null,null,null,null,null,null,null,null,null,null,null,"St-Malo",{"$f":"_xlfn.XLOOKUP(O1753,'Liste des DT-EIC-SITES'!D:D,'Liste des DT-EIC-SITES'!C:C)","v":"EIC Bretagne Pays de la Loire"}]
[null,null,null,null,null,null,null,null,null,null,null,null,null,null,"St-Mammès",{"$f":"_xlfn.XLOOKUP(O1754,'Liste des DT-EIC-SITES'!D:D,'Liste des DT-EIC-SITES'!C:C)","v":"EIC Paris Sud Est"}]
[null,null,null,null,null,null,null,null,null,null,null,null,null,null,"St-Marcel",{"$f":"_xlfn.XLOOKUP(O1755,'Liste des DT-EIC-SITES'!D:D,'Liste des DT-EIC-SITES'!C:C)","v":"EIC Provence Alpes Côte d'Azur"}]
[null,null,null,null,null,null,null,null,null,null,null,null,null,null,"St-Marcel-lès-Chalon",{"$f":"_xlfn.XLOOKUP(O1756,'Liste des DT-EIC-SITES'!D:D,'Liste des DT-EIC-SITES'!C:C)","v":"EIC Bourgogne Franche Comté"}]
[null,null,null,null,null,null,null,null,null,null,null,null,null,null,"St-Marcellin",{"$f":"_xlfn.XLOOKUP(O1757,'Liste des DT-EIC-SITES'!D:D,'Liste des DT-EIC-SITES'!C:C)","v":"EIC Alpes"}]
[null,null,null,null,null,null,null,null,null,null,null,null,null,null,"St-Marcellin (Loire)",{"$f":"_xlfn.XLOOKUP(O1758,'Liste des DT-EIC-SITES'!D:D,'Liste des DT-EIC-SITES'!C:C)","v":"EIC Rhône Alpes Lyon"}]
[null,null,null,null,null,null,null,null,null,null,null,null,null,null,"St-Marcel-ls-Chalon",{"$f":"_xlfn.XLOOKUP(O1759,'Liste des DT-EIC-SITES'!D:D,'Liste des DT-EIC-SITES'!C:C)","v":"EIC Bourgogne Franche Comté"}]
[null,null,null,null,null,null,null,null,null,null,null,null,null,null,"St-Mariens-St-Yzan",{"$f":"_xlfn.XLOOKUP(O1760,'Liste des DT-EIC-SITES'!D:D,'Liste des DT-EIC-SITES'!C:C)","v":"EIC Aquitaine Poitou Charentes"}]
[null,null,null,null,null,null,null,null,null,null,null,null,null,null,"St-Martin-Bellevue",{"$f":"_xlfn.XLOOKUP(O1761,'Liste des DT-EIC-SITES'!D:D,'Liste des DT-EIC-SITES'!C:C)","v":"EIC Alpes"}]
[null,null,null,null,null,null,null,null,null,null,null,null,null,null,"St-Martin-de-Crau",{"$f":"_xlfn.XLOOKUP(O1762,'Liste des DT-EIC-SITES'!D:D,'Liste des DT-EIC-SITES'!C:C)","v":"EIC Provence Alpes Côte d'Azur"}]
[null,null,null,null,null,null,null,null,null,null,null,null,null,null,"St-Martin-Sail-les-Bains",{"$f":"_xlfn.XLOOKUP(O1763,'Liste des DT-EIC-SITES'!D:D,'Liste des DT-EIC-SITES'!C:C)","v":"EIC Rhône Alpes Lyon"}]
[null,null,null,null,null,null,null,null,null,null,null,null,null,null,"St-Maurice-de-Beynost",{"$f":"_xlfn.XLOOKUP(O1764,'Liste des DT-EIC-SITES'!D:D,'Liste des DT-EIC-SITES'!C:C)","v":"EIC Rhône Alpes Lyon"}]
[null,null,null,null,null,null,null,null,null,null,null,null,null,null,"St-Maur-sur-Indre",{"$f":"_xlfn.XLOOKUP(O1765,'Liste des DT-EIC-SITES'!D:D,'Liste des DT-EIC-SITES'!C:C)","v":"EIC Centre Limousin"}]
[null,null,null,null,null,null,null,null,null,null,null,null,null,null,"St-Méen",{"$f":"_xlfn.XLOOKUP(O1766,'Liste des DT-EIC-SITES'!D:D,'Liste des DT-EIC-SITES'!C:C)","v":"EIC Bretagne Pays de la Loire"}]
[null,null,null,null,null,null,null,null,null,null,null,null,null,null,"St-Mesmin",{"$f":"_xlfn.XLOOKUP(O1767,'Liste des DT-EIC-SITES'!D:D,'Liste des DT-EIC-SITES'!C:C)","v":"EIC Lorraine Champagne Ardenne"}]
[null,null,null,null,null,null,null,null,null,null,null,null,null,null,"St-Michel-sur-Charente",{"$f":"_xlfn.XLOOKUP(O1768,'Liste des DT-EIC-SITES'!D:D,'Liste des DT-EIC-SITES'!C:C)","v":"EIC Aquitaine Poitou Charentes"}]
[null,null,null,null,null,null,null,null,null,null,null,null,null,null,"St-Michel-Valloire",{"$f":"_xlfn.XLOOKUP(O1769,'Liste des DT-EIC-SITES'!D:D,'Liste des DT-EIC-SITES'!C:C)","v":"EIC Alpes"}]
[null,null,null,null,null,null,null,null,null,null,null,null,null,null,"St-Nazaire",{"$f":"_xlfn.XLOOKUP(O1770,'Liste des DT-EIC-SITES'!D:D,'Liste des DT-EIC-SITES'!C:C)","v":"EIC Bretagne Pays de la Loire"}]
[null,null,null,null,null,null,null,null,null,null,null,null,null,null,"St-Nicolas-des-Eaux",{"$f":"_xlfn.XLOOKUP(O1771,'Liste des DT-EIC-SITES'!D:D,'Liste des DT-EIC-SITES'!C:C)","v":"EIC Bretagne Pays de la Loire"}]
[null,null,null,null,null,null,null,null,null,null,null,null,null,null,"St-Nom-la-Bretêche-Forêt-de-Marly",{"$f":"_xlfn.XLOOKUP(O1772,'Liste des DT-EIC-SITES'!D:D,'Liste des DT-EIC-SITES'!C:C)","v":"EIC Paris Est Ouest Francilien"}]
[null,null,null,null,null,null,null,null,null,null,null,null,null,null,"Stockinter",{"$f":"_xlfn.XLOOKUP(O1773,'Liste des DT-EIC-SITES'!D:D,'Liste des DT-EIC-SITES'!C:C)","v":"EIC Aquitaine Poitou Charentes"}]
[null,null,null,null,null,null,null,null,null,null,null,null,null,null,"St-Omer",{"$f":"_xlfn.XLOOKUP(O1774,'Liste des DT-EIC-SITES'!D:D,'Liste des DT-EIC-SITES'!C:C)","v":"EIC Hauts de France"}]
[null,null,null,null,null,null,null,null,null,null,null,null,null,null,"St-Ouen",{"$f":"_xlfn.XLOOKUP(O1775,'Liste des DT-EIC-SITES'!D:D,'Liste des DT-EIC-SITES'!C:C)","v":"EIC Paris Nord"}]
[null,null,null,null,null,null,null,null,null,null,null,null,null,null,"St-Ouen-les-Docks",{"$f":"_xlfn.XLOOKUP(O1776,'Liste des DT-EIC-SITES'!D:D,'Liste des DT-EIC-SITES'!C:C)","v":"EIC Paris Nord"}]
[null,null,null,null,null,null,null,null,null,null,null,null,null,null,"St-Ours-les-Roches",{"$f":"_xlfn.XLOOKUP(O1777,'Liste des DT-EIC-SITES'!D:D,'Liste des DT-EIC-SITES'!C:C)","v":"EIC Auvergne Nivernais"}]
[null,null,null,null,null,null,null,null,null,null,null,null,null,null,"St-Paul-de-Fenouillet",{"$f":"_xlfn.XLOOKUP(O1778,'Liste des DT-EIC-SITES'!D:D,'Liste des DT-EIC-SITES'!C:C)","v":"EIC Languedoc Roussillon"}]
[null,null,null,null,null,null,null,null,null,null,null,null,null,null,"St-Pé-de-Bigorre",{"$f":"_xlfn.XLOOKUP(O1779,'Liste des DT-EIC-SITES'!D:D,'Liste des DT-EIC-SITES'!C:C)","v":"EIC Midi Pyrénées"}]
[null,null,null,null,null,null,null,null,null,null,null,null,null,null,"St-Péray",{"$f":"_xlfn.XLOOKUP(O1780,'Liste des DT-EIC-SITES'!D:D,'Liste des DT-EIC-SITES'!C:C)","v":"EIC Rhône Alpes Lyon"}]
[null,null,null,null,null,null,null,null,null,null,null,null,null,null,"St-Pierre-d'Albigny",{"$f":"_xlfn.XLOOKUP(O1781,'Liste des DT-EIC-SITES'!D:D,'Liste des DT-EIC-SITES'!C:C)","v":"EIC Alpes"}]
[null,null,null,null,null,null,null,null,null,null,null,null,null,null,"St-Pierre-des-Corps",{"$f":"_xlfn.XLOOKUP(O1782,'Liste des DT-EIC-SITES'!D:D,'Liste des DT-EIC-SITES'!C:C)","v":"EIC Centre Limousin"}]
[null,null,null,null,null,null,null,null,null,null,null,null,null,null,"St-Pierre-du-Vauvray",{"$f":"_xlfn.XLOOKUP(O1783,'Liste des DT-EIC-SITES'!D:D,'Liste des DT-EIC-SITES'!C:C)","v":"EIC Normandie"}]
[null,null,null,null,null,null,null,null,null,null,null,null,null,null,"St-Pierre-la-Cour",{"$f":"_xlfn.XLOOKUP(O1784,'Liste des DT-EIC-SITES'!D:D,'Liste des DT-EIC-SITES'!C:C)","v":"EIC Bretagne Pays de la Loire"}]
[null,null,null,null,null,null,null,null,null,null,null,null,null,null,"St-Pierre-le-Moûtier",{"$f":"_xlfn.XLOOKUP(O1785,'Liste des DT-EIC-SITES'!D:D,'Liste des DT-EIC-SITES'!C:C)","v":"EIC Auvergne Nivernais"}]
[null,null,null,null,null,null,null,null,null,null,null,null,null,null,"St-Pierre-lès-Elbeuf",{"$f":"_xlfn.XLOOKUP(O1786,'Liste des DT-EIC-SITES'!D:D,'Liste des DT-EIC-SITES'!C:C)","v":"EIC Normandie"}]
[null,null,null,null,null,null,null,null,null,null,null,null,null,null,"St-Pierre-le-Viger-Fontaine-le-Dun",{"$f":"_xlfn.XLOOKUP(O1787,'Liste des DT-EIC-SITES'!D:D,'Liste des DT-EIC-SITES'!C:C)","v":"EIC Normandie"}]
[null,null,null,null,null,null,null,null,null,null,null,null,null,null,"St-Pol-sur-Ternoise",{"$f":"_xlfn.XLOOKUP(O1788,'Liste des DT-EIC-SITES'!D:D,'Liste des DT-EIC-SITES'!C:C)","v":"EIC Hauts de France"}]
[null,null,null,null,null,null,null,null,null,null,null,null,null,null,"St-Pourçain-sur-Sioule",{"$f":"_xlfn.XLOOKUP(O1789,'Liste des DT-EIC-SITES'!D:D,'Liste des DT-EIC-SITES'!C:C)","v":"EIC Auvergne Nivernais"}]
[null,null,null,null,null,null,null,null,null,null,null,null,null,null,"St-Priest",{"$f":"_xlfn.XLOOKUP(O1790,'Liste des DT-EIC-SITES'!D:D,'Liste des DT-EIC-SITES'!C:C)","v":"EIC Rhône Alpes Lyon"}]
[null,null,null,null,null,null,null,null,null,null,null,null,null,null,"St-Quentin",{"$f":"_xlfn.XLOOKUP(O1791,'Liste des DT-EIC-SITES'!D:D,'Liste des DT-EIC-SITES'!C:C)","v":"EIC Hauts de France"}]
[null,null,null,null,null,null,null,null,null,null,null,null,null,null,"St-Quentin-en-Yvelines",{"$f":"_xlfn.XLOOKUP(O1792,'Liste des DT-EIC-SITES'!D:D,'Liste des DT-EIC-SITES'!C:C)","v":"EIC Paris Sud Ouest"}]
[null,null,null,null,null,null,null,null,null,null,null,null,null,null,"St-Quentin-Fallavier",{"$f":"_xlfn.XLOOKUP(O1793,'Liste des DT-EIC-SITES'!D:D,'Liste des DT-EIC-SITES'!C:C)","v":"EIC Rhône Alpes Lyon"}]
[null,null,null,null,null,null,null,null,null,null,null,null,null,null,"St-Rambert d'Albon",{"$f":"_xlfn.XLOOKUP(O1794,'Liste des DT-EIC-SITES'!D:D,'Liste des DT-EIC-SITES'!C:C)","v":"EIC Rhône Alpes Lyon"}]
[null,null,null,null,null,null,null,null,null,null,null,null,null,null,"St-Rambert-d'Albon",{"$f":"_xlfn.XLOOKUP(O1795,'Liste des DT-EIC-SITES'!D:D,'Liste des DT-EIC-SITES'!C:C)","v":"EIC Rhône Alpes Lyon"}]
[null,null,null,null,null,null,null,null,null,null,null,null,null,null,"St-Raphaël-Valescure",{"$f":"_xlfn.XLOOKUP(O1796,'Liste des DT-EIC-SITES'!D:D,'Liste des DT-EIC-SITES'!C:C)","v":"EIC Provence Alpes Côte d'Azur"}]
[null,null,null,null,null,null,null,null,null,null,null,null,null,null,"Strasbourg-Cronenbourg",{"$f":"_xlfn.XLOOKUP(O1797,'Liste des DT-EIC-SITES'!D:D,'Liste des DT-EIC-SITES'!C:C)","v":"EIC Alsace"}]
[null,null,null,null,null,null,null,null,null,null,null,null,null,null,"Strasbourg-Neudorf",{"$f":"_xlfn.XLOOKUP(O1798,'Liste des DT-EIC-SITES'!D:D,'Liste des DT-EIC-SITES'!C:C)","v":"EIC Alsace"}]
[null,null,null,null,null,null,null,null,null,null,null,null,null,null,"Strasbourg-Port-du-Rhin",{"$f":"_xlfn.XLOOKUP(O1799,'Liste des DT-EIC-SITES'!D:D,'Liste des DT-EIC-SITES'!C:C)","v":"EIC Alsace"}]
[null,null,null,null,null,null,null,null,null,null,null,null,null,null,"Strasbourg-Ville",{"$f":"_xlfn.XLOOKUP(O1800,'Liste des DT-EIC-SITES'!D:D,'Liste des DT-EIC-SITES'!C:C)","v":"EIC Alsace"}]
[null,null,null,null,null,null,null,null,null,null,null,null,null,null,"St-Romain-le-Puy",{"$f":"_xlfn.XLOOKUP(O1801,'Liste des DT-EIC-SITES'!D:D,'Liste des DT-EIC-SITES'!C:C)","v":"EIC Rhône Alpes Lyon"}]
[null,null,null,null,null,null,null,null,null,null,null,null,null,null,"St-Rome-de-Cernon",{"$f":"_xlfn.XLOOKUP(O1802,'Liste des DT-EIC-SITES'!D:D,'Liste des DT-EIC-SITES'!C:C)","v":"EIC Languedoc Roussillon"}]
[null,null,null,null,null,null,null,null,null,null,null,null,null,null,"St-Satur (Cher)",{"$f":"_xlfn.XLOOKUP(O1803,'Liste des DT-EIC-SITES'!D:D,'Liste des DT-EIC-SITES'!C:C)","v":"EIC Paris Sud Est"}]
[null,null,null,null,null,null,null,null,null,null,null,null,null,null,"St-Sauveur-Châteauneuf",{"$f":"_xlfn.XLOOKUP(O1804,'Liste des DT-EIC-SITES'!D:D,'Liste des DT-EIC-SITES'!C:C)","v":"EIC Paris Sud Ouest"}]
[null,null,null,null,null,null,null,null,null,null,null,null,null,null,"St-Sauveur-de-Peyre",{"$f":"_xlfn.XLOOKUP(O1805,'Liste des DT-EIC-SITES'!D:D,'Liste des DT-EIC-SITES'!C:C)","v":"EIC Languedoc Roussillon"}]
[null,null,null,null,null,null,null,null,null,null,null,null,null,null,"St-Savinien-sur-Charente",{"$f":"_xlfn.XLOOKUP(O1806,'Liste des DT-EIC-SITES'!D:D,'Liste des DT-EIC-SITES'!C:C)","v":"EIC Aquitaine Poitou Charentes"}]
[null,null,null,null,null,null,null,null,null,null,null,null,null,null,"St-Saviol",{"$f":"_xlfn.XLOOKUP(O1807,'Liste des DT-EIC-SITES'!D:D,'Liste des DT-EIC-SITES'!C:C)","v":"EIC Aquitaine Poitou Charentes"}]
[null,null,null,null,null,null,null,null,null,null,null,null,null,null,"St-Sébastien",{"$f":"_xlfn.XLOOKUP(O1808,'Liste des DT-EIC-SITES'!D:D,'Liste des DT-EIC-SITES'!C:C)","v":"EIC Centre Limousin"}]
[null,null,null,null,null,null,null,null,null,null,null,null,null,null,"St-Sulpice",{"$f":"_xlfn.XLOOKUP(O1809,'Liste des DT-EIC-SITES'!D:D,'Liste des DT-EIC-SITES'!C:C)","v":"EIC Midi Pyrénées"}]
[null,null,null,null,null,null,null,null,null,null,null,null,null,null,"St-Sulpice-Laurière",{"$f":"_xlfn.XLOOKUP(O1810,'Liste des DT-EIC-SITES'!D:D,'Liste des DT-EIC-SITES'!C:C)","v":"EIC Centre Limousin"}]
[null,null,null,null,null,null,null,null,null,null,null,null,null,null,"St-Ustre",{"$f":"_xlfn.XLOOKUP(O1811,'Liste des DT-EIC-SITES'!D:D,'Liste des DT-EIC-SITES'!C:C)","v":"EIC Aquitaine Poitou Charentes"}]
[null,null,null,null,null,null,null,null,null,null,null,null,null,null,"St-Vaast-Bosville",{"$f":"_xlfn.XLOOKUP(O1812,'Liste des DT-EIC-SITES'!D:D,'Liste des DT-EIC-SITES'!C:C)","v":"EIC Normandie"}]
[null,null,null,null,null,null,null,null,null,null,null,null,null,null,"St-Valéry-en-Caux",{"$f":"_xlfn.XLOOKUP(O1813,'Liste des DT-EIC-SITES'!D:D,'Liste des DT-EIC-SITES'!C:C)","v":"EIC Normandie"}]
[null,null,null,null,null,null,null,null,null,null,null,null,null,null,"St-Vallier-sur-Rhône",{"$f":"_xlfn.XLOOKUP(O1814,'Liste des DT-EIC-SITES'!D:D,'Liste des DT-EIC-SITES'!C:C)","v":"EIC Rhône Alpes Lyon"}]
[null,null,null,null,null,null,null,null,null,null,null,null,null,null,"St-Varent",{"$f":"_xlfn.XLOOKUP(O1815,'Liste des DT-EIC-SITES'!D:D,'Liste des DT-EIC-SITES'!C:C)","v":"EIC Bretagne Pays de la Loire"}]
[null,null,null,null,null,null,null,null,null,null,null,null,null,null,"St-Victurnien",{"$f":"_xlfn.XLOOKUP(O1816,'Liste des DT-EIC-SITES'!D:D,'Liste des DT-EIC-SITES'!C:C)","v":"EIC Centre Limousin"}]
[null,null,null,null,null,null,null,null,null,null,null,null,null,null,"St-Vit",{"$f":"_xlfn.XLOOKUP(O1817,'Liste des DT-EIC-SITES'!D:D,'Liste des DT-EIC-SITES'!C:C)","v":"EIC Bourgogne Franche Comté"}]
[null,null,null,null,null,null,null,null,null,null,null,null,null,null,"St-Yorre",{"$f":"_xlfn.XLOOKUP(O1818,'Liste des DT-EIC-SITES'!D:D,'Liste des DT-EIC-SITES'!C:C)","v":"EIC Auvergne Nivernais"}]
[null,null,null,null,null,null,null,null,null,null,null,null,null,null,"St-Yrieix",{"$f":"_xlfn.XLOOKUP(O1819,'Liste des DT-EIC-SITES'!D:D,'Liste des DT-EIC-SITES'!C:C)","v":"EIC Centre Limousin"}]
[null,null,null,null,null,null,null,null,null,null,null,null,null,null,"Sucy-Bonneuil",{"$f":"_xlfn.XLOOKUP(O1820,'Liste des DT-EIC-SITES'!D:D,'Liste des DT-EIC-SITES'!C:C)","v":"EIC Paris Sud Est"}]
[null,null,null,null,null,null,null,null,null,null,null,null,null,null,"Suippes",{"$f":"_xlfn.XLOOKUP(O1821,'Liste des DT-EIC-SITES'!D:D,'Liste des DT-EIC-SITES'!C:C)","v":"EIC Lorraine Champagne Ardenne"}]
[null,null,null,null,null,null,null,null,null,null,null,null,null,null,"SULLY Faisceau impair 3 à 7",{"$f":"_xlfn.XLOOKUP(O1822,'Liste des DT-EIC-SITES'!D:D,'Liste des DT-EIC-SITES'!C:C)","v":"EIC Paris Sud Est"}]
[null,null,null,null,null,null,null,null,null,null,null,null,null,null,"Sully-sur-Loire",{"$f":"_xlfn.XLOOKUP(O1823,'Liste des DT-EIC-SITES'!D:D,'Liste des DT-EIC-SITES'!C:C)","v":"EIC Centre Limousin"}]
[null,null,null,null,null,null,null,null,null,null,null,null,null,null,"Surdon",{"$f":"_xlfn.XLOOKUP(O1824,'Liste des DT-EIC-SITES'!D:D,'Liste des DT-EIC-SITES'!C:C)","v":"EIC Normandie"}]
[null,null,null,null,null,null,null,null,null,null,null,null,null,null,"Surgères",{"$f":"_xlfn.XLOOKUP(O1825,'Liste des DT-EIC-SITES'!D:D,'Liste des DT-EIC-SITES'!C:C)","v":"EIC Aquitaine Poitou Charentes"}]
[null,null,null,null,null,null,null,null,null,null,null,null,null,null,"Survilliers-Fosses",{"$f":"_xlfn.XLOOKUP(O1826,'Liste des DT-EIC-SITES'!D:D,'Liste des DT-EIC-SITES'!C:C)","v":"EIC Paris Nord"}]
[null,null,null,null,null,null,null,null,null,null,null,null,null,null,"SYGMA",{"$f":"_xlfn.XLOOKUP(O1827,'Liste des DT-EIC-SITES'!D:D,'Liste des DT-EIC-SITES'!C:C)","v":"EIC Bourgogne Franche Comté"}]
[null,null,null,null,null,null,null,null,null,null,null,null,null,null,"Tain-l'Hermitage-Tournon",{"$f":"_xlfn.XLOOKUP(O1828,'Liste des DT-EIC-SITES'!D:D,'Liste des DT-EIC-SITES'!C:C)","v":"EIC Rhône Alpes Lyon"}]
[null,null,null,null,null,null,null,null,null,null,null,null,null,null,"Tamaris",{"$f":"_xlfn.XLOOKUP(O1829,'Liste des DT-EIC-SITES'!D:D,'Liste des DT-EIC-SITES'!C:C)","v":"EIC Languedoc Roussillon"}]
[null,null,null,null,null,null,null,null,null,null,null,null,null,null,"Tamnay-Châtillon",{"$f":"_xlfn.XLOOKUP(O1830,'Liste des DT-EIC-SITES'!D:D,'Liste des DT-EIC-SITES'!C:C)","v":"EIC Auvergne Nivernais"}]
[null,null,null,null,null,null,null,null,null,null,null,null,null,null,"Tarare",{"$f":"_xlfn.XLOOKUP(O1831,'Liste des DT-EIC-SITES'!D:D,'Liste des DT-EIC-SITES'!C:C)","v":"EIC Rhône Alpes Lyon"}]
[null,null,null,null,null,null,null,null,null,null,null,null,null,null,"Tarascon",{"$f":"_xlfn.XLOOKUP(O1832,'Liste des DT-EIC-SITES'!D:D,'Liste des DT-EIC-SITES'!C:C)","v":"EIC Provence Alpes Côte d'Azur"}]
[null,null,null,null,null,null,null,null,null,null,null,null,null,null,"Tarascon-sur-Ariège",{"$f":"_xlfn.XLOOKUP(O1833,'Liste des DT-EIC-SITES'!D:D,'Liste des DT-EIC-SITES'!C:C)","v":"EIC Midi Pyrénées"}]
[null,null,null,null,null,null,null,null,null,null,null,null,null,null,"Tarbes",{"$f":"_xlfn.XLOOKUP(O1834,'Liste des DT-EIC-SITES'!D:D,'Liste des DT-EIC-SITES'!C:C)","v":"EIC Midi Pyrénées"}]
[null,null,null,null,null,null,null,null,null,null,null,null,null,null,"Tassin",{"$f":"_xlfn.XLOOKUP(O1835,'Liste des DT-EIC-SITES'!D:D,'Liste des DT-EIC-SITES'!C:C)","v":"EIC Rhône Alpes Lyon"}]
[null,null,null,null,null,null,null,null,null,null,null,null,null,null,"Tavaux",{"$f":"_xlfn.XLOOKUP(O1836,'Liste des DT-EIC-SITES'!D:D,'Liste des DT-EIC-SITES'!C:C)","v":"EIC Bourgogne Franche Comté"}]
[null,null,null,null,null,null,null,null,null,null,null,null,null,null,"Technicentre de Paris-Rive-Gauche",{"$f":"_xlfn.XLOOKUP(O1837,'Liste des DT-EIC-SITES'!D:D,'Liste des DT-EIC-SITES'!C:C)","v":"EIC Paris Sud Ouest"}]
[null,null,null,null,null,null,null,null,null,null,null,null,null,null,"Technicentre Paris -Est",{"$f":"_xlfn.XLOOKUP(O1838,'Liste des DT-EIC-SITES'!D:D,'Liste des DT-EIC-SITES'!C:C)","v":"EIC Paris Est Ouest Francilien"}]
[null,null,null,null,null,null,null,null,null,null,null,null,null,null,"Technicentre TGV de Lyon",{"$f":"_xlfn.XLOOKUP(O1839,'Liste des DT-EIC-SITES'!D:D,'Liste des DT-EIC-SITES'!C:C)","v":"EIC Rhône Alpes Lyon"}]
[null,null,null,null,null,null,null,null,null,null,null,null,null,null,"Tenay-Hauteville",{"$f":"_xlfn.XLOOKUP(O1840,'Liste des DT-EIC-SITES'!D:D,'Liste des DT-EIC-SITES'!C:C)","v":"EIC Alpes"}]
[null,null,null,null,null,null,null,null,null,null,null,null,null,null,"Tende",{"$f":"_xlfn.XLOOKUP(O1841,'Liste des DT-EIC-SITES'!D:D,'Liste des DT-EIC-SITES'!C:C)","v":"EIC Provence Alpes Côte d'Azur"}]
[null,null,null,null,null,null,null,null,null,null,null,null,null,null,"Tergnier",{"$f":"_xlfn.XLOOKUP(O1842,'Liste des DT-EIC-SITES'!D:D,'Liste des DT-EIC-SITES'!C:C)","v":"EIC Hauts de France"}]
[null,null,null,null,null,null,null,null,null,null,null,null,null,null,"TERRADE",{"$f":"_xlfn.XLOOKUP(O1843,'Liste des DT-EIC-SITES'!D:D,'Liste des DT-EIC-SITES'!C:C)","v":"EIC Hauts de France"}]
[null,null,null,null,null,null,null,null,null,null,null,null,null,null,"Terrasson",{"$f":"_xlfn.XLOOKUP(O1844,'Liste des DT-EIC-SITES'!D:D,'Liste des DT-EIC-SITES'!C:C)","v":"EIC Aquitaine Poitou Charentes"}]
[null,null,null,null,null,null,null,null,null,null,null,null,null,null,"Tessonnières",{"$f":"_xlfn.XLOOKUP(O1845,'Liste des DT-EIC-SITES'!D:D,'Liste des DT-EIC-SITES'!C:C)","v":"EIC Midi Pyrénées"}]
[null,null,null,null,null,null,null,null,null,null,null,null,null,null,"Thann",{"$f":"_xlfn.XLOOKUP(O1846,'Liste des DT-EIC-SITES'!D:D,'Liste des DT-EIC-SITES'!C:C)","v":"EIC Alsace"}]
[null,null,null,null,null,null,null,null,null,null,null,null,null,null,"Thann-St-Jacques",{"$f":"_xlfn.XLOOKUP(O1847,'Liste des DT-EIC-SITES'!D:D,'Liste des DT-EIC-SITES'!C:C)","v":"EIC Alsace"}]
[null,null,null,null,null,null,null,null,null,null,null,null,null,null,"Thédirac-Peyrilles",{"$f":"_xlfn.XLOOKUP(O1848,'Liste des DT-EIC-SITES'!D:D,'Liste des DT-EIC-SITES'!C:C)","v":"EIC Midi Pyrénées"}]
[null,null,null,null,null,null,null,null,null,null,null,null,null,null,"Thenon",{"$f":"_xlfn.XLOOKUP(O1849,'Liste des DT-EIC-SITES'!D:D,'Liste des DT-EIC-SITES'!C:C)","v":"EIC Aquitaine Poitou Charentes"}]
[null,null,null,null,null,null,null,null,null,null,null,null,null,null,"Theuville",{"$f":"_xlfn.XLOOKUP(O1850,'Liste des DT-EIC-SITES'!D:D,'Liste des DT-EIC-SITES'!C:C)","v":"EIC Centre Limousin"}]
[null,null,null,null,null,null,null,null,null,null,null,null,null,null,"Thiers",{"$f":"_xlfn.XLOOKUP(O1851,'Liste des DT-EIC-SITES'!D:D,'Liste des DT-EIC-SITES'!C:C)","v":"EIC Auvergne Nivernais"}]
[null,null,null,null,null,null,null,null,null,null,null,null,null,null,"Thionville",{"$f":"_xlfn.XLOOKUP(O1852,'Liste des DT-EIC-SITES'!D:D,'Liste des DT-EIC-SITES'!C:C)","v":"EIC Lorraine Champagne Ardenne"}]
[null,null,null,null,null,null,null,null,null,null,null,null,null,null,"Thiviers",{"$f":"_xlfn.XLOOKUP(O1853,'Liste des DT-EIC-SITES'!D:D,'Liste des DT-EIC-SITES'!C:C)","v":"EIC Aquitaine Poitou Charentes"}]
[null,null,null,null,null,null,null,null,null,null,null,null,null,null,"Thonon-les-Bains",{"$f":"_xlfn.XLOOKUP(O1854,'Liste des DT-EIC-SITES'!D:D,'Liste des DT-EIC-SITES'!C:C)","v":"EIC Alpes"}]
[null,null,null,null,null,null,null,null,null,null,null,null,null,null,"Thoré-la-Rochette",{"$f":"_xlfn.XLOOKUP(O1855,'Liste des DT-EIC-SITES'!D:D,'Liste des DT-EIC-SITES'!C:C)","v":"EIC Centre Limousin"}]
[null,null,null,null,null,null,null,null,null,null,null,null,null,null,"Thouars",{"$f":"_xlfn.XLOOKUP(O1856,'Liste des DT-EIC-SITES'!D:D,'Liste des DT-EIC-SITES'!C:C)","v":"EIC Bretagne Pays de la Loire"}]
[null,null,null,null,null,null,null,null,null,null,null,null,null,null,"Thourotte",{"$f":"_xlfn.XLOOKUP(O1857,'Liste des DT-EIC-SITES'!D:D,'Liste des DT-EIC-SITES'!C:C)","v":"EIC Paris Nord"}]
[null,null,null,null,null,null,null,null,null,null,null,null,null,null,"Tiercé",{"$f":"_xlfn.XLOOKUP(O1858,'Liste des DT-EIC-SITES'!D:D,'Liste des DT-EIC-SITES'!C:C)","v":"EIC Bretagne Pays de la Loire"}]
[null,null,null,null,null,null,null,null,null,null,null,null,null,null,"Tilchâtel",{"$f":"_xlfn.XLOOKUP(O1859,'Liste des DT-EIC-SITES'!D:D,'Liste des DT-EIC-SITES'!C:C)","v":"EIC Paris Sud Est"}]
[null,null,null,null,null,null,null,null,null,null,null,null,null,null,"Tiroir",{"$f":"_xlfn.XLOOKUP(O1860,'Liste des DT-EIC-SITES'!D:D,'Liste des DT-EIC-SITES'!C:C)","v":"EIC Bourgogne Franche Comté"}]
[null,null,null,null,null,null,null,null,null,null,null,null,null,null,"Tonneins",{"$f":"_xlfn.XLOOKUP(O1861,'Liste des DT-EIC-SITES'!D:D,'Liste des DT-EIC-SITES'!C:C)","v":"EIC Aquitaine Poitou Charentes"}]
[null,null,null,null,null,null,null,null,null,null,null,null,null,null,"Tonnerre",{"$f":"_xlfn.XLOOKUP(O1862,'Liste des DT-EIC-SITES'!D:D,'Liste des DT-EIC-SITES'!C:C)","v":"EIC Paris Sud Est"}]
[null,null,null,null,null,null,null,null,null,null,null,null,null,null,"TONNERRE LGV",{"$f":"_xlfn.XLOOKUP(O1863,'Liste des DT-EIC-SITES'!D:D,'Liste des DT-EIC-SITES'!C:C)","v":"EIC Paris Sud Est"}]
[null,null,null,null,null,null,null,null,null,null,null,null,null,null,"Toul",{"$f":"_xlfn.XLOOKUP(O1864,'Liste des DT-EIC-SITES'!D:D,'Liste des DT-EIC-SITES'!C:C)","v":"EIC Lorraine Champagne Ardenne"}]
[null,null,null,null,null,null,null,null,null,null,null,null,null,null,"Toulon",{"$f":"_xlfn.XLOOKUP(O1865,'Liste des DT-EIC-SITES'!D:D,'Liste des DT-EIC-SITES'!C:C)","v":"EIC Provence Alpes Côte d'Azur"}]
[null,null,null,null,null,null,null,null,null,null,null,null,null,null,"Toulouse-Matabiau",{"$f":"_xlfn.XLOOKUP(O1866,'Liste des DT-EIC-SITES'!D:D,'Liste des DT-EIC-SITES'!C:C)","v":"EIC Midi Pyrénées"}]
[null,null,null,null,null,null,null,null,null,null,null,null,null,null,"Tourcoing",{"$f":"_xlfn.XLOOKUP(O1867,'Liste des DT-EIC-SITES'!D:D,'Liste des DT-EIC-SITES'!C:C)","v":"EIC Hauts de France"}]
[null,null,null,null,null,null,null,null,null,null,null,null,null,null,"Tournan",{"$f":"_xlfn.XLOOKUP(O1868,'Liste des DT-EIC-SITES'!D:D,'Liste des DT-EIC-SITES'!C:C)","v":"EIC Paris Est Ouest Francilien"}]
[null,null,null,null,null,null,null,null,null,null,null,null,null,null,"Tournay",{"$f":"_xlfn.XLOOKUP(O1869,'Liste des DT-EIC-SITES'!D:D,'Liste des DT-EIC-SITES'!C:C)","v":"EIC Midi Pyrénées"}]
[null,null,null,null,null,null,null,null,null,null,null,null,null,null,"Tournemire-Roquefort",{"$f":"_xlfn.XLOOKUP(O1870,'Liste des DT-EIC-SITES'!D:D,'Liste des DT-EIC-SITES'!C:C)","v":"EIC Languedoc Roussillon"}]
[null,null,null,null,null,null,null,null,null,null,null,null,null,null,"Tournes",{"$f":"_xlfn.XLOOKUP(O1871,'Liste des DT-EIC-SITES'!D:D,'Liste des DT-EIC-SITES'!C:C)","v":"EIC Lorraine Champagne Ardenne"}]
[null,null,null,null,null,null,null,null,null,null,null,null,null,null,"Tournon",{"$f":"_xlfn.XLOOKUP(O1872,'Liste des DT-EIC-SITES'!D:D,'Liste des DT-EIC-SITES'!C:C)","v":"EIC Rhône Alpes Lyon"}]
[null,null,null,null,null,null,null,null,null,null,null,null,null,null,"Tournus",{"$f":"_xlfn.XLOOKUP(O1873,'Liste des DT-EIC-SITES'!D:D,'Liste des DT-EIC-SITES'!C:C)","v":"EIC Bourgogne Franche Comté"}]
[null,null,null,null,null,null,null,null,null,null,null,null,null,null,"Tours",{"$f":"_xlfn.XLOOKUP(O1874,'Liste des DT-EIC-SITES'!D:D,'Liste des DT-EIC-SITES'!C:C)","v":"EIC Centre Limousin"}]
[null,null,null,null,null,null,null,null,null,null,null,null,null,null,"Toury",{"$f":"_xlfn.XLOOKUP(O1875,'Liste des DT-EIC-SITES'!D:D,'Liste des DT-EIC-SITES'!C:C)","v":"EIC Centre Limousin"}]
[null,null,null,null,null,null,null,null,null,null,null,null,null,null,"Tracy-Sancerre",{"$f":"_xlfn.XLOOKUP(O1876,'Liste des DT-EIC-SITES'!D:D,'Liste des DT-EIC-SITES'!C:C)","v":"EIC Auvergne Nivernais"}]
[null,null,null,null,null,null,null,null,null,null,null,null,null,null,"Trappes-Marchandises",{"$f":"_xlfn.XLOOKUP(O1877,'Liste des DT-EIC-SITES'!D:D,'Liste des DT-EIC-SITES'!C:C)","v":"EIC Paris Sud Ouest"}]
[null,null,null,null,null,null,null,null,null,null,null,null,null,null,"Trèbes",{"$f":"_xlfn.XLOOKUP(O1878,'Liste des DT-EIC-SITES'!D:D,'Liste des DT-EIC-SITES'!C:C)","v":"EIC Languedoc Roussillon"}]
[null,null,null,null,null,null,null,null,null,null,null,null,null,null,"Tréfileries de Conflandey",{"$f":"_xlfn.XLOOKUP(O1879,'Liste des DT-EIC-SITES'!D:D,'Liste des DT-EIC-SITES'!C:C)","v":"EIC Bourgogne Franche Comté"}]
[null,null,null,null,null,null,null,null,null,null,null,null,null,null,"Trégonneau-Squiffiec",{"$f":"_xlfn.XLOOKUP(O1880,'Liste des DT-EIC-SITES'!D:D,'Liste des DT-EIC-SITES'!C:C)","v":"EIC Bretagne Pays de la Loire"}]
[null,null,null,null,null,null,null,null,null,null,null,null,null,null,"Trémentines",{"$f":"_xlfn.XLOOKUP(O1881,'Liste des DT-EIC-SITES'!D:D,'Liste des DT-EIC-SITES'!C:C)","v":"EIC Bretagne Pays de la Loire"}]
[null,null,null,null,null,null,null,null,null,null,null,null,null,null,"Triage Avignon",{"$f":"_xlfn.XLOOKUP(O1882,'Liste des DT-EIC-SITES'!D:D,'Liste des DT-EIC-SITES'!C:C)","v":"EIC Provence Alpes Côte d'Azur"}]
[null,null,null,null,null,null,null,null,null,null,null,null,null,null,"Triage impaire de Soquence",{"$f":"_xlfn.XLOOKUP(O1883,'Liste des DT-EIC-SITES'!D:D,'Liste des DT-EIC-SITES'!C:C)","v":"EIC Normandie"}]
[null,null,null,null,null,null,null,null,null,null,null,null,null,null,"Triage Miramas",{"$f":"_xlfn.XLOOKUP(O1884,'Liste des DT-EIC-SITES'!D:D,'Liste des DT-EIC-SITES'!C:C)","v":"EIC Provence Alpes Côte d'Azur"}]
[null,null,null,null,null,null,null,null,null,null,null,null,null,null,"Trilport",{"$f":"_xlfn.XLOOKUP(O1885,'Liste des DT-EIC-SITES'!D:D,'Liste des DT-EIC-SITES'!C:C)","v":"EIC Paris Est Ouest Francilien"}]
[null,null,null,null,null,null,null,null,null,null,null,null,null,null,"Trinquetaille",{"$f":"_xlfn.XLOOKUP(O1886,'Liste des DT-EIC-SITES'!D:D,'Liste des DT-EIC-SITES'!C:C)","v":"EIC Provence Alpes Côte d'Azur"}]
[null,null,null,null,null,null,null,null,null,null,null,null,null,null,"Trith-St-Léger",{"$f":"_xlfn.XLOOKUP(O1887,'Liste des DT-EIC-SITES'!D:D,'Liste des DT-EIC-SITES'!C:C)","v":"EIC Hauts de France"}]
[null,null,null,null,null,null,null,null,null,null,null,null,null,null,"Tronget",{"$f":"_xlfn.XLOOKUP(O1888,'Liste des DT-EIC-SITES'!D:D,'Liste des DT-EIC-SITES'!C:C)","v":"EIC Rhône Alpes Lyon"}]
[null,null,null,null,null,null,null,null,null,null,null,null,null,null,"Trouville-Deauville",{"$f":"_xlfn.XLOOKUP(O1889,'Liste des DT-EIC-SITES'!D:D,'Liste des DT-EIC-SITES'!C:C)","v":"EIC Normandie"}]
[null,null,null,null,null,null,null,null,null,null,null,null,null,null,"Troyes",{"$f":"_xlfn.XLOOKUP(O1890,'Liste des DT-EIC-SITES'!D:D,'Liste des DT-EIC-SITES'!C:C)","v":"EIC Lorraine Champagne Ardenne"}]
[null,null,null,null,null,null,null,null,null,null,null,null,null,null,"Tulle",{"$f":"_xlfn.XLOOKUP(O1891,'Liste des DT-EIC-SITES'!D:D,'Liste des DT-EIC-SITES'!C:C)","v":"EIC Centre Limousin"}]
[null,null,null,null,null,null,null,null,null,null,null,null,null,null,"Tullins-Fures",{"$f":"_xlfn.XLOOKUP(O1892,'Liste des DT-EIC-SITES'!D:D,'Liste des DT-EIC-SITES'!C:C)","v":"EIC Alpes"}]
[null,null,null,null,null,null,null,null,null,null,null,null,null,null,"Turckheim",{"$f":"_xlfn.XLOOKUP(O1893,'Liste des DT-EIC-SITES'!D:D,'Liste des DT-EIC-SITES'!C:C)","v":"EIC Alsace"}]
[null,null,null,null,null,null,null,null,null,null,null,null,null,null,"Turenne",{"$f":"_xlfn.XLOOKUP(O1894,'Liste des DT-EIC-SITES'!D:D,'Liste des DT-EIC-SITES'!C:C)","v":"EIC Centre Limousin"}]
[null,null,null,null,null,null,null,null,null,null,null,null,null,null,"Uckange",{"$f":"_xlfn.XLOOKUP(O1895,'Liste des DT-EIC-SITES'!D:D,'Liste des DT-EIC-SITES'!C:C)","v":"EIC Lorraine Champagne Ardenne"}]
[null,null,null,null,null,null,null,null,null,null,null,null,null,null,"Ugine",{"$f":"_xlfn.XLOOKUP(O1896,'Liste des DT-EIC-SITES'!D:D,'Liste des DT-EIC-SITES'!C:C)","v":"EIC Alpes"}]
[null,null,null,null,null,null,null,null,null,null,null,null,null,null,"UP Miramas (Technicentre PACA)",{"$f":"_xlfn.XLOOKUP(O1897,'Liste des DT-EIC-SITES'!D:D,'Liste des DT-EIC-SITES'!C:C)","v":"EIC Provence Alpes Côte d'Azur"}]
[null,null,null,null,null,null,null,null,null,null,null,null,null,null,"UPIE LGV",{"$f":"_xlfn.XLOOKUP(O1898,'Liste des DT-EIC-SITES'!D:D,'Liste des DT-EIC-SITES'!C:C)","v":"EIC Rhône Alpes Lyon"}]
[null,null,null,null,null,null,null,null,null,null,null,null,null,null,"UPM Ivry- Masséna (Technicentre PRG)",{"$f":"_xlfn.XLOOKUP(O1899,'Liste des DT-EIC-SITES'!D:D,'Liste des DT-EIC-SITES'!C:C)","v":"EIC Paris Sud Ouest"}]
[null,null,null,null,null,null,null,null,null,null,null,null,null,null,"UPM Perrigny (Technicentre BFC)",{"$f":"_xlfn.XLOOKUP(O1900,'Liste des DT-EIC-SITES'!D:D,'Liste des DT-EIC-SITES'!C:C)","v":"EIC Paris Sud Est"}]
[null,null,null,null,null,null,null,null,null,null,null,null,null,null,"UPT Quimper (ET Bretagne)",{"$f":"_xlfn.XLOOKUP(O1901,'Liste des DT-EIC-SITES'!D:D,'Liste des DT-EIC-SITES'!C:C)","v":"EIC Bretagne Pays de la Loire"}]
[null,null,null,null,null,null,null,null,null,null,null,null,null,null,"UPT Tarbes (ET Midi-Pyrénées)",{"$f":"_xlfn.XLOOKUP(O1902,'Liste des DT-EIC-SITES'!D:D,'Liste des DT-EIC-SITES'!C:C)","v":"EIC Midi Pyrénées"}]
[null,null,null,null,null,null,null,null,null,null,null,null,null,null,"Urt",{"$f":"_xlfn.XLOOKUP(O1903,'Liste des DT-EIC-SITES'!D:D,'Liste des DT-EIC-SITES'!C:C)","v":"EIC Aquitaine Poitou Charentes"}]
[null,null,null,null,null,null,null,null,null,null,null,null,null,null,"Ussac",{"$f":"_xlfn.XLOOKUP(O1904,'Liste des DT-EIC-SITES'!D:D,'Liste des DT-EIC-SITES'!C:C)","v":"EIC Centre Limousin"}]
[null,null,null,null,null,null,null,null,null,null,null,null,null,null,"Ussat-les-Bains",{"$f":"_xlfn.XLOOKUP(O1905,'Liste des DT-EIC-SITES'!D:D,'Liste des DT-EIC-SITES'!C:C)","v":"EIC Midi Pyrénées"}]
[null,null,null,null,null,null,null,null,null,null,null,null,null,null,"Ussel",{"$f":"_xlfn.XLOOKUP(O1906,'Liste des DT-EIC-SITES'!D:D,'Liste des DT-EIC-SITES'!C:C)","v":"EIC Centre Limousin"}]
[null,null,null,null,null,null,null,null,null,null,null,null,null,null,"Uzel",{"$f":"_xlfn.XLOOKUP(O1907,'Liste des DT-EIC-SITES'!D:D,'Liste des DT-EIC-SITES'!C:C)","v":"EIC Bretagne Pays de la Loire"}]
[null,null,null,null,null,null,null,null,null,null,null,null,null,null,"Uzerche",{"$f":"_xlfn.XLOOKUP(O1908,'Liste des DT-EIC-SITES'!D:D,'Liste des DT-EIC-SITES'!C:C)","v":"EIC Centre Limousin"}]
[null,null,null,null,null,null,null,null,null,null,null,null,null,null,"Vaires-Torcy",{"$f":"_xlfn.XLOOKUP(O1909,'Liste des DT-EIC-SITES'!D:D,'Liste des DT-EIC-SITES'!C:C)","v":"EIC Paris Est Ouest Francilien"}]
[null,null,null,null,null,null,null,null,null,null,null,null,null,null,"Valence",{"$f":"_xlfn.XLOOKUP(O1910,'Liste des DT-EIC-SITES'!D:D,'Liste des DT-EIC-SITES'!C:C)","v":"EIC Rhône Alpes Lyon"}]
[null,null,null,null,null,null,null,null,null,null,null,null,null,null,"Valence-d'Agen",{"$f":"_xlfn.XLOOKUP(O1911,'Liste des DT-EIC-SITES'!D:D,'Liste des DT-EIC-SITES'!C:C)","v":"EIC Midi Pyrénées"}]
[null,null,null,null,null,null,null,null,null,null,null,null,null,null,"Valence-TGV",{"$f":"_xlfn.XLOOKUP(O1912,'Liste des DT-EIC-SITES'!D:D,'Liste des DT-EIC-SITES'!C:C)","v":"EIC Rhône Alpes Lyon"}]
[null,null,null,null,null,null,null,null,null,null,null,null,null,null,"Valenciennes",{"$f":"_xlfn.XLOOKUP(O1913,'Liste des DT-EIC-SITES'!D:D,'Liste des DT-EIC-SITES'!C:C)","v":"EIC Hauts de France"}]
[null,null,null,null,null,null,null,null,null,null,null,null,null,null,"Valenton",{"$f":"_xlfn.XLOOKUP(O1914,'Liste des DT-EIC-SITES'!D:D,'Liste des DT-EIC-SITES'!C:C)","v":"EIC Paris Sud Est"}]
[null,null,null,null,null,null,null,null,null,null,null,null,null,null,"Valleiry",{"$f":"_xlfn.XLOOKUP(O1915,'Liste des DT-EIC-SITES'!D:D,'Liste des DT-EIC-SITES'!C:C)","v":"EIC Alpes"}]
[null,null,null,null,null,null,null,null,null,null,null,null,null,null,"Vallon",{"$f":"_xlfn.XLOOKUP(O1916,'Liste des DT-EIC-SITES'!D:D,'Liste des DT-EIC-SITES'!C:C)","v":"EIC Auvergne Nivernais"}]
[null,null,null,null,null,null,null,null,null,null,null,null,null,null,"Vallorcine",{"$f":"_xlfn.XLOOKUP(O1917,'Liste des DT-EIC-SITES'!D:D,'Liste des DT-EIC-SITES'!C:C)","v":"EIC Alpes"}]
[null,null,null,null,null,null,null,null,null,null,null,null,null,null,"Valmondois",{"$f":"_xlfn.XLOOKUP(O1918,'Liste des DT-EIC-SITES'!D:D,'Liste des DT-EIC-SITES'!C:C)","v":"EIC Paris Nord"}]
[null,null,null,null,null,null,null,null,null,null,null,null,null,null,"Valmy",{"$f":"_xlfn.XLOOKUP(O1919,'Liste des DT-EIC-SITES'!D:D,'Liste des DT-EIC-SITES'!C:C)","v":"EIC Lorraine Champagne Ardenne"}]
[null,null,null,null,null,null,null,null,null,null,null,null,null,null,"Valognes",{"$f":"_xlfn.XLOOKUP(O1920,'Liste des DT-EIC-SITES'!D:D,'Liste des DT-EIC-SITES'!C:C)","v":"EIC Normandie"}]
[null,null,null,null,null,null,null,null,null,null,null,null,null,null,"Vannes",{"$f":"_xlfn.XLOOKUP(O1921,'Liste des DT-EIC-SITES'!D:D,'Liste des DT-EIC-SITES'!C:C)","v":"EIC Bretagne Pays de la Loire"}]
[null,null,null,null,null,null,null,null,null,null,null,null,null,null,"Vanvey-Villiers",{"$f":"_xlfn.XLOOKUP(O1922,'Liste des DT-EIC-SITES'!D:D,'Liste des DT-EIC-SITES'!C:C)","v":"EIC Paris Sud Est"}]
[null,null,null,null,null,null,null,null,null,null,null,null,null,null,"Varangéville-St-Nicolas",{"$f":"_xlfn.XLOOKUP(O1923,'Liste des DT-EIC-SITES'!D:D,'Liste des DT-EIC-SITES'!C:C)","v":"EIC Lorraine Champagne Ardenne"}]
[null,null,null,null,null,null,null,null,null,null,null,null,null,null,"Varennes-sur-Allier",{"$f":"_xlfn.XLOOKUP(O1924,'Liste des DT-EIC-SITES'!D:D,'Liste des DT-EIC-SITES'!C:C)","v":"EIC Rhône Alpes Lyon"}]
[null,null,null,null,null,null,null,null,null,null,null,null,null,null,"Vaumoise",{"$f":"_xlfn.XLOOKUP(O1925,'Liste des DT-EIC-SITES'!D:D,'Liste des DT-EIC-SITES'!C:C)","v":"EIC Paris Nord"}]
[null,null,null,null,null,null,null,null,null,null,null,null,null,null,"VAUMORT Faisceau Pair V8 à V10",{"$f":"_xlfn.XLOOKUP(O1926,'Liste des DT-EIC-SITES'!D:D,'Liste des DT-EIC-SITES'!C:C)","v":"EIC Paris Sud Est"}]
[null,null,null,null,null,null,null,null,null,null,null,null,null,null,"VAUMORT Faisceau V6",{"$f":"_xlfn.XLOOKUP(O1927,'Liste des DT-EIC-SITES'!D:D,'Liste des DT-EIC-SITES'!C:C)","v":"EIC Paris Sud Est"}]
[null,null,null,null,null,null,null,null,null,null,null,null,null,null,"Vauvert",{"$f":"_xlfn.XLOOKUP(O1928,'Liste des DT-EIC-SITES'!D:D,'Liste des DT-EIC-SITES'!C:C)","v":"EIC Languedoc Roussillon"}]
[null,null,null,null,null,null,null,null,null,null,null,null,null,null,"VAUX EN PRE Faisceau impair 3 à 7",{"$f":"_xlfn.XLOOKUP(O1929,'Liste des DT-EIC-SITES'!D:D,'Liste des DT-EIC-SITES'!C:C)","v":"EIC Paris Sud Est"}]
[null,null,null,null,null,null,null,null,null,null,null,null,null,null,"Vaux-en-Bugey",{"$f":"_xlfn.XLOOKUP(O1930,'Liste des DT-EIC-SITES'!D:D,'Liste des DT-EIC-SITES'!C:C)","v":"EIC Alpes"}]
[null,null,null,null,null,null,null,null,null,null,null,null,null,null,"Vaux-et-Chantegrue",{"$f":"_xlfn.XLOOKUP(O1931,'Liste des DT-EIC-SITES'!D:D,'Liste des DT-EIC-SITES'!C:C)","v":"EIC Bourgogne Franche Comté"}]
[null,null,null,null,null,null,null,null,null,null,null,null,null,null,"Vaux-sous-Aubigny",{"$f":"_xlfn.XLOOKUP(O1932,'Liste des DT-EIC-SITES'!D:D,'Liste des DT-EIC-SITES'!C:C)","v":"EIC Lorraine Champagne Ardenne"}]
[null,null,null,null,null,null,null,null,null,null,null,null,null,null,"Vayres",{"$f":"_xlfn.XLOOKUP(O1933,'Liste des DT-EIC-SITES'!D:D,'Liste des DT-EIC-SITES'!C:C)","v":"EIC Aquitaine Poitou Charentes"}]
[null,null,null,null,null,null,null,null,null,null,null,null,null,null,"Veauche-St-Galmier",{"$f":"_xlfn.XLOOKUP(O1934,'Liste des DT-EIC-SITES'!D:D,'Liste des DT-EIC-SITES'!C:C)","v":"EIC Rhône Alpes Lyon"}]
[null,null,null,null,null,null,null,null,null,null,null,null,null,null,"Velars",{"$f":"_xlfn.XLOOKUP(O1935,'Liste des DT-EIC-SITES'!D:D,'Liste des DT-EIC-SITES'!C:C)","v":"EIC Bourgogne Franche Comté"}]
[null,null,null,null,null,null,null,null,null,null,null,null,null,null,"Velluire",{"$f":"_xlfn.XLOOKUP(O1936,'Liste des DT-EIC-SITES'!D:D,'Liste des DT-EIC-SITES'!C:C)","v":"EIC Bretagne Pays de la Loire"}]
[null,null,null,null,null,null,null,null,null,null,null,null,null,null,"Vendenheim",{"$f":"_xlfn.XLOOKUP(O1937,'Liste des DT-EIC-SITES'!D:D,'Liste des DT-EIC-SITES'!C:C)","v":"EIC Alsace"}]
[null,null,null,null,null,null,null,null,null,null,null,null,null,null,"Vendeuvre (Aube)",{"$f":"_xlfn.XLOOKUP(O1938,'Liste des DT-EIC-SITES'!D:D,'Liste des DT-EIC-SITES'!C:C)","v":"EIC Lorraine Champagne Ardenne"}]
[null,null,null,null,null,null,null,null,null,null,null,null,null,null,"Vendôme",{"$f":"_xlfn.XLOOKUP(O1939,'Liste des DT-EIC-SITES'!D:D,'Liste des DT-EIC-SITES'!C:C)","v":"EIC Centre Limousin"}]
[null,null,null,null,null,null,null,null,null,null,null,null,null,null,"Vendôme-Villiers-sur-Loir",{"$f":"_xlfn.XLOOKUP(O1940,'Liste des DT-EIC-SITES'!D:D,'Liste des DT-EIC-SITES'!C:C)","v":"EIC Centre Limousin"}]
[null,null,null,null,null,null,null,null,null,null,null,null,null,null,"Vénerque-le-Vernet",{"$f":"_xlfn.XLOOKUP(O1941,'Liste des DT-EIC-SITES'!D:D,'Liste des DT-EIC-SITES'!C:C)","v":"EIC Midi Pyrénées"}]
[null,null,null,null,null,null,null,null,null,null,null,null,null,null,"Vénissieux",{"$f":"_xlfn.XLOOKUP(O1942,'Liste des DT-EIC-SITES'!D:D,'Liste des DT-EIC-SITES'!C:C)","v":"EIC Rhône Alpes Lyon"}]
[null,null,null,null,null,null,null,null,null,null,null,null,null,null,"Vénissieux-Sud",{"$f":"_xlfn.XLOOKUP(O1943,'Liste des DT-EIC-SITES'!D:D,'Liste des DT-EIC-SITES'!C:C)","v":"EIC Rhône Alpes Lyon"}]
[null,null,null,null,null,null,null,null,null,null,null,null,null,null,"Venizel",{"$f":"_xlfn.XLOOKUP(O1944,'Liste des DT-EIC-SITES'!D:D,'Liste des DT-EIC-SITES'!C:C)","v":"EIC Hauts de France"}]
[null,null,null,null,null,null,null,null,null,null,null,null,null,null,"Vennecy",{"$f":"_xlfn.XLOOKUP(O1945,'Liste des DT-EIC-SITES'!D:D,'Liste des DT-EIC-SITES'!C:C)","v":"EIC Centre Limousin"}]
[null,null,null,null,null,null,null,null,null,null,null,null,null,null,"Verberie",{"$f":"_xlfn.XLOOKUP(O1946,'Liste des DT-EIC-SITES'!D:D,'Liste des DT-EIC-SITES'!C:C)","v":"EIC Paris Nord"}]
[null,null,null,null,null,null,null,null,null,null,null,null,null,null,"Verdun",{"$f":"_xlfn.XLOOKUP(O1947,'Liste des DT-EIC-SITES'!D:D,'Liste des DT-EIC-SITES'!C:C)","v":"EIC Lorraine Champagne Ardenne"}]
[null,null,null,null,null,null,null,null,null,null,null,null,null,null,"Verdun-sur-le-Doubs",{"$f":"_xlfn.XLOOKUP(O1948,'Liste des DT-EIC-SITES'!D:D,'Liste des DT-EIC-SITES'!C:C)","v":"EIC Bourgogne Franche Comté"}]
[null,null,null,null,null,null,null,null,null,null,null,null,null,null,"Vereux",{"$f":"_xlfn.XLOOKUP(O1949,'Liste des DT-EIC-SITES'!D:D,'Liste des DT-EIC-SITES'!C:C)","v":"EIC Bourgogne Franche Comté"}]
[null,null,null,null,null,null,null,null,null,null,null,null,null,null,"Verneuil-l'Étang",{"$f":"_xlfn.XLOOKUP(O1950,'Liste des DT-EIC-SITES'!D:D,'Liste des DT-EIC-SITES'!C:C)","v":"EIC Paris Est Ouest Francilien"}]
[null,null,null,null,null,null,null,null,null,null,null,null,null,null,"Verneuil-sur-Avre",{"$f":"_xlfn.XLOOKUP(O1951,'Liste des DT-EIC-SITES'!D:D,'Liste des DT-EIC-SITES'!C:C)","v":"EIC Paris Sud Ouest"}]
[null,null,null,null,null,null,null,null,null,null,null,null,null,null,"Verneuil-sur-Vienne",{"$f":"_xlfn.XLOOKUP(O1952,'Liste des DT-EIC-SITES'!D:D,'Liste des DT-EIC-SITES'!C:C)","v":"EIC Centre Limousin"}]
[null,null,null,null,null,null,null,null,null,null,null,null,null,null,"Vernon-Giverny",{"$f":"_xlfn.XLOOKUP(O1953,'Liste des DT-EIC-SITES'!D:D,'Liste des DT-EIC-SITES'!C:C)","v":"EIC Normandie"}]
[null,null,null,null,null,null,null,null,null,null,null,null,null,null,"Vernouillet-Verneuil",{"$f":"_xlfn.XLOOKUP(O1954,'Liste des DT-EIC-SITES'!D:D,'Liste des DT-EIC-SITES'!C:C)","v":"EIC Paris Est Ouest Francilien"}]
[null,null,null,null,null,null,null,null,null,null,null,null,null,null,"Vernou-sur-Seine",{"$f":"_xlfn.XLOOKUP(O1955,'Liste des DT-EIC-SITES'!D:D,'Liste des DT-EIC-SITES'!C:C)","v":"EIC Paris Sud Est"}]
[null,null,null,null,null,null,null,null,null,null,null,null,null,null,"Versailles-Chantiers",{"$f":"_xlfn.XLOOKUP(O1956,'Liste des DT-EIC-SITES'!D:D,'Liste des DT-EIC-SITES'!C:C)","v":"EIC Paris Sud Ouest"}]
[null,null,null,null,null,null,null,null,null,null,null,null,null,null,"Versailles-Matelots",{"$f":"_xlfn.XLOOKUP(O1957,'Liste des DT-EIC-SITES'!D:D,'Liste des DT-EIC-SITES'!C:C)","v":"EIC Paris Sud Ouest"}]
[null,null,null,null,null,null,null,null,null,null,null,null,null,null,"Versailles-Rive-Droite",{"$f":"_xlfn.XLOOKUP(O1958,'Liste des DT-EIC-SITES'!D:D,'Liste des DT-EIC-SITES'!C:C)","v":"EIC Paris Est Ouest Francilien"}]
[null,null,null,null,null,null,null,null,null,null,null,null,null,null,"Versailles-Rive-Gauche",{"$f":"_xlfn.XLOOKUP(O1959,'Liste des DT-EIC-SITES'!D:D,'Liste des DT-EIC-SITES'!C:C)","v":"EIC Paris Sud Ouest"}]
[null,null,null,null,null,null,null,null,null,null,null,null,null,null,"Vertaizon",{"$f":"_xlfn.XLOOKUP(O1960,'Liste des DT-EIC-SITES'!D:D,'Liste des DT-EIC-SITES'!C:C)","v":"EIC Auvergne Nivernais"}]
[null,null,null,null,null,null,null,null,null,null,null,null,null,null,"Vertou",{"$f":"_xlfn.XLOOKUP(O1961,'Liste des DT-EIC-SITES'!D:D,'Liste des DT-EIC-SITES'!C:C)","v":"EIC Bretagne Pays de la Loire"}]
[null,null,null,null,null,null,null,null,null,null,null,null,null,null,"Vesoul",{"$f":"_xlfn.XLOOKUP(O1962,'Liste des DT-EIC-SITES'!D:D,'Liste des DT-EIC-SITES'!C:C)","v":"EIC Bourgogne Franche Comté"}]
[null,null,null,null,null,null,null,null,null,null,null,null,null,null,"Veuxhaulles",{"$f":"_xlfn.XLOOKUP(O1963,'Liste des DT-EIC-SITES'!D:D,'Liste des DT-EIC-SITES'!C:C)","v":"EIC Lorraine Champagne Ardenne"}]
[null,null,null,null,null,null,null,null,null,null,null,null,null,null,"Veynes-Dévoluy",{"$f":"_xlfn.XLOOKUP(O1964,'Liste des DT-EIC-SITES'!D:D,'Liste des DT-EIC-SITES'!C:C)","v":"EIC Provence Alpes Côte d'Azur"}]
[null,null,null,null,null,null,null,null,null,null,null,null,null,null,"Vézelise",{"$f":"_xlfn.XLOOKUP(O1965,'Liste des DT-EIC-SITES'!D:D,'Liste des DT-EIC-SITES'!C:C)","v":"EIC Lorraine Champagne Ardenne"}]
[null,null,null,null,null,null,null,null,null,null,null,null,null,null,"Viam",{"$f":"_xlfn.XLOOKUP(O1966,'Liste des DT-EIC-SITES'!D:D,'Liste des DT-EIC-SITES'!C:C)","v":"EIC Centre Limousin"}]
[null,null,null,null,null,null,null,null,null,null,null,null,null,null,"Vias",{"$f":"_xlfn.XLOOKUP(O1967,'Liste des DT-EIC-SITES'!D:D,'Liste des DT-EIC-SITES'!C:C)","v":"EIC Languedoc Roussillon"}]
[null,null,null,null,null,null,null,null,null,null,null,null,null,null,"Vic-Bigorre",{"$f":"_xlfn.XLOOKUP(O1968,'Liste des DT-EIC-SITES'!D:D,'Liste des DT-EIC-SITES'!C:C)","v":"EIC Midi Pyrénées"}]
[null,null,null,null,null,null,null,null,null,null,null,null,null,null,"Vichy",{"$f":"_xlfn.XLOOKUP(O1969,'Liste des DT-EIC-SITES'!D:D,'Liste des DT-EIC-SITES'!C:C)","v":"EIC Auvergne Nivernais"}]
[null,null,null,null,null,null,null,null,null,null,null,null,null,null,"Vic-le-Comte",{"$f":"_xlfn.XLOOKUP(O1970,'Liste des DT-EIC-SITES'!D:D,'Liste des DT-EIC-SITES'!C:C)","v":"EIC Auvergne Nivernais"}]
[null,null,null,null,null,null,null,null,null,null,null,null,null,null,"Vic-sur-Cère",{"$f":"_xlfn.XLOOKUP(O1971,'Liste des DT-EIC-SITES'!D:D,'Liste des DT-EIC-SITES'!C:C)","v":"EIC Auvergne Nivernais"}]
[null,null,null,null,null,null,null,null,null,null,null,null,null,null,"Vieilleville",{"$f":"_xlfn.XLOOKUP(O1972,'Liste des DT-EIC-SITES'!D:D,'Liste des DT-EIC-SITES'!C:C)","v":"EIC Centre Limousin"}]
[null,null,null,null,null,null,null,null,null,null,null,null,null,null,"Vielmur-sur-Agout",{"$f":"_xlfn.XLOOKUP(O1973,'Liste des DT-EIC-SITES'!D:D,'Liste des DT-EIC-SITES'!C:C)","v":"EIC Languedoc Roussillon"}]
[null,null,null,null,null,null,null,null,null,null,null,null,null,null,"Vienne",{"$f":"_xlfn.XLOOKUP(O1974,'Liste des DT-EIC-SITES'!D:D,'Liste des DT-EIC-SITES'!C:C)","v":"EIC Rhône Alpes Lyon"}]
[null,null,null,null,null,null,null,null,null,null,null,null,null,null,"Vierzon-Forges",{"$f":"_xlfn.XLOOKUP(O1975,'Liste des DT-EIC-SITES'!D:D,'Liste des DT-EIC-SITES'!C:C)","v":"EIC Centre Limousin"}]
[null,null,null,null,null,null,null,null,null,null,null,null,null,null,"Vierzon-Ville",{"$f":"_xlfn.XLOOKUP(O1976,'Liste des DT-EIC-SITES'!D:D,'Liste des DT-EIC-SITES'!C:C)","v":"EIC Centre Limousin"}]
[null,null,null,null,null,null,null,null,null,null,null,null,null,null,"Vierzy",{"$f":"_xlfn.XLOOKUP(O1977,'Liste des DT-EIC-SITES'!D:D,'Liste des DT-EIC-SITES'!C:C)","v":"EIC Hauts de France"}]
[null,null,null,null,null,null,null,null,null,null,null,null,null,null,"Viescamp-sous-Jalles",{"$f":"_xlfn.XLOOKUP(O1978,'Liste des DT-EIC-SITES'!D:D,'Liste des DT-EIC-SITES'!C:C)","v":"EIC Auvergne Nivernais"}]
[null,null,null,null,null,null,null,null,null,null,null,null,null,null,"Vieuvicq-Montigny",{"$f":"_xlfn.XLOOKUP(O1979,'Liste des DT-EIC-SITES'!D:D,'Liste des DT-EIC-SITES'!C:C)","v":"EIC Centre Limousin"}]
[null,null,null,null,null,null,null,null,null,null,null,null,null,null,"Viévola",{"$f":"_xlfn.XLOOKUP(O1980,'Liste des DT-EIC-SITES'!D:D,'Liste des DT-EIC-SITES'!C:C)","v":"EIC Provence Alpes Côte d'Azur"}]
[null,null,null,null,null,null,null,null,null,null,null,null,null,null,"Vif",{"$f":"_xlfn.XLOOKUP(O1981,'Liste des DT-EIC-SITES'!D:D,'Liste des DT-EIC-SITES'!C:C)","v":"EIC Alpes"}]
[null,null,null,null,null,null,null,null,null,null,null,null,null,null,"Vigeois",{"$f":"_xlfn.XLOOKUP(O1982,'Liste des DT-EIC-SITES'!D:D,'Liste des DT-EIC-SITES'!C:C)","v":"EIC Centre Limousin"}]
[null,null,null,null,null,null,null,null,null,null,null,null,null,null,"VIGNA",{"$f":"_xlfn.XLOOKUP(O1983,'Liste des DT-EIC-SITES'!D:D,'Liste des DT-EIC-SITES'!C:C)","v":"EIC Centre Limousin"}]
[null,null,null,null,null,null,null,null,null,null,null,null,null,null,"Vignats",{"$f":"_xlfn.XLOOKUP(O1984,'Liste des DT-EIC-SITES'!D:D,'Liste des DT-EIC-SITES'!C:C)","v":"EIC Normandie"}]
[null,null,null,null,null,null,null,null,null,null,null,null,null,null,"Vignory",{"$f":"_xlfn.XLOOKUP(O1985,'Liste des DT-EIC-SITES'!D:D,'Liste des DT-EIC-SITES'!C:C)","v":"EIC Lorraine Champagne Ardenne"}]
[null,null,null,null,null,null,null,null,null,null,null,null,null,null,"Villars-les-Dombes",{"$f":"_xlfn.XLOOKUP(O1986,'Liste des DT-EIC-SITES'!D:D,'Liste des DT-EIC-SITES'!C:C)","v":"EIC Rhône Alpes Lyon"}]
[null,null,null,null,null,null,null,null,null,null,null,null,null,null,"Villars-Santenoge",{"$f":"_xlfn.XLOOKUP(O1987,'Liste des DT-EIC-SITES'!D:D,'Liste des DT-EIC-SITES'!C:C)","v":"EIC Paris Sud Est"}]
[null,null,null,null,null,null,null,null,null,null,null,null,null,null,"Villedieu-Chanliau",{"$f":"_xlfn.XLOOKUP(O1988,'Liste des DT-EIC-SITES'!D:D,'Liste des DT-EIC-SITES'!C:C)","v":"EIC Bourgogne Franche Comté"}]
[null,null,null,null,null,null,null,null,null,null,null,null,null,null,"Villedieu-les-Poêles",{"$f":"_xlfn.XLOOKUP(O1989,'Liste des DT-EIC-SITES'!D:D,'Liste des DT-EIC-SITES'!C:C)","v":"EIC Normandie"}]
[null,null,null,null,null,null,null,null,null,null,null,null,null,null,"Ville-en-Vermois",{"$f":"_xlfn.XLOOKUP(O1990,'Liste des DT-EIC-SITES'!D:D,'Liste des DT-EIC-SITES'!C:C)","v":"EIC Lorraine Champagne Ardenne"}]
[null,null,null,null,null,null,null,null,null,null,null,null,null,null,"Villefort",{"$f":"_xlfn.XLOOKUP(O1991,'Liste des DT-EIC-SITES'!D:D,'Liste des DT-EIC-SITES'!C:C)","v":"EIC Languedoc Roussillon"}]
[null,null,null,null,null,null,null,null,null,null,null,null,null,null,"Villefranche-de-Lauragais",{"$f":"_xlfn.XLOOKUP(O1992,'Liste des DT-EIC-SITES'!D:D,'Liste des DT-EIC-SITES'!C:C)","v":"EIC Midi Pyrénées"}]
[null,null,null,null,null,null,null,null,null,null,null,null,null,null,"Villefranche-de-Rouergue",{"$f":"_xlfn.XLOOKUP(O1993,'Liste des DT-EIC-SITES'!D:D,'Liste des DT-EIC-SITES'!C:C)","v":"EIC Midi Pyrénées"}]
[null,null,null,null,null,null,null,null,null,null,null,null,null,null,"Villefranche-sur-Cher",{"$f":"_xlfn.XLOOKUP(O1994,'Liste des DT-EIC-SITES'!D:D,'Liste des DT-EIC-SITES'!C:C)","v":"EIC Centre Limousin"}]
[null,null,null,null,null,null,null,null,null,null,null,null,null,null,"Villefranche-sur-Saône",{"$f":"_xlfn.XLOOKUP(O1995,'Liste des DT-EIC-SITES'!D:D,'Liste des DT-EIC-SITES'!C:C)","v":"EIC Rhône Alpes Lyon"}]
[null,null,null,null,null,null,null,null,null,null,null,null,null,null,"Villefranche-Vernet-les-Bains",{"$f":"_xlfn.XLOOKUP(O1996,'Liste des DT-EIC-SITES'!D:D,'Liste des DT-EIC-SITES'!C:C)","v":"EIC Languedoc Roussillon"}]
[null,null,null,null,null,null,null,null,null,null,null,null,null,null,"Villefrancoeur",{"$f":"_xlfn.XLOOKUP(O1997,'Liste des DT-EIC-SITES'!D:D,'Liste des DT-EIC-SITES'!C:C)","v":"EIC Centre Limousin"}]
[null,null,null,null,null,null,null,null,null,null,null,null,null,null,"Villeneuve-d'Ingré",{"$f":"_xlfn.XLOOKUP(O1998,'Liste des DT-EIC-SITES'!D:D,'Liste des DT-EIC-SITES'!C:C)","v":"EIC Centre Limousin"}]
[null,null,null,null,null,null,null,null,null,null,null,null,null,null,"Villeneuve-l'Archevêque",{"$f":"_xlfn.XLOOKUP(O1999,'Liste des DT-EIC-SITES'!D:D,'Liste des DT-EIC-SITES'!C:C)","v":"EIC Lorraine Champagne Ardenne"}]
[null,null,null,null,null,null,null,null,null,null,null,null,null,null,"Villeneuve-le-Roi",{"$f":"_xlfn.XLOOKUP(O2000,'Liste des DT-EIC-SITES'!D:D,'Liste des DT-EIC-SITES'!C:C)","v":"EIC Paris Sud Ouest"}]
[null,null,null,null,null,null,null,null,null,null,null,null,null,null,"Villeneuve-lès-Avignon",{"$f":"_xlfn.XLOOKUP(O2001,'Liste des DT-EIC-SITES'!D:D,'Liste des DT-EIC-SITES'!C:C)","v":"EIC Languedoc Roussillon"}]
[null,null,null,null,null,null,null,null,null,null,null,null,null,null,"Villeneuve-St-Georges",{"$f":"_xlfn.XLOOKUP(O2002,'Liste des DT-EIC-SITES'!D:D,'Liste des DT-EIC-SITES'!C:C)","v":"EIC Paris Sud Est"}]
[null,null,null,null,null,null,null,null,null,null,null,null,null,null,"Villeneuve-Triage",{"$f":"_xlfn.XLOOKUP(O2003,'Liste des DT-EIC-SITES'!D:D,'Liste des DT-EIC-SITES'!C:C)","v":"EIC Paris Sud Est"}]
[null,null,null,null,null,null,null,null,null,null,null,null,null,null,"Villeparisis",{"$f":"_xlfn.XLOOKUP(O2004,'Liste des DT-EIC-SITES'!D:D,'Liste des DT-EIC-SITES'!C:C)","v":"EIC Paris Nord"}]
[null,null,null,null,null,null,null,null,null,null,null,null,null,null,"Villeperdue",{"$f":"_xlfn.XLOOKUP(O2005,'Liste des DT-EIC-SITES'!D:D,'Liste des DT-EIC-SITES'!C:C)","v":"EIC Centre Limousin"}]
[null,null,null,null,null,null,null,null,null,null,null,null,null,null,"Villereversure",{"$f":"_xlfn.XLOOKUP(O2006,'Liste des DT-EIC-SITES'!D:D,'Liste des DT-EIC-SITES'!C:C)","v":"EIC Alpes"}]
[null,null,null,null,null,null,null,null,null,null,null,null,null,null,"Villers-Cotterêts",{"$f":"_xlfn.XLOOKUP(O2007,'Liste des DT-EIC-SITES'!D:D,'Liste des DT-EIC-SITES'!C:C)","v":"EIC Hauts de France"}]
[null,null,null,null,null,null,null,null,null,null,null,null,null,null,"Villiers-St-Georges",{"$f":"_xlfn.XLOOKUP(O2008,'Liste des DT-EIC-SITES'!D:D,'Liste des DT-EIC-SITES'!C:C)","v":"EIC Paris Est Ouest Francilien"}]
[null,null,null,null,null,null,null,null,null,null,null,null,null,null,"Villiers-sur-Marne-Le Plessis-Trévise",{"$f":"_xlfn.XLOOKUP(O2009,'Liste des DT-EIC-SITES'!D:D,'Liste des DT-EIC-SITES'!C:C)","v":"EIC Paris Est Ouest Francilien"}]
[null,null,null,null,null,null,null,null,null,null,null,null,null,null,"Vincey",{"$f":"_xlfn.XLOOKUP(O2010,'Liste des DT-EIC-SITES'!D:D,'Liste des DT-EIC-SITES'!C:C)","v":"EIC Lorraine Champagne Ardenne"}]
[null,null,null,null,null,null,null,null,null,null,null,null,null,null,"Vire",{"$f":"_xlfn.XLOOKUP(O2011,'Liste des DT-EIC-SITES'!D:D,'Liste des DT-EIC-SITES'!C:C)","v":"EIC Normandie"}]
[null,null,null,null,null,null,null,null,null,null,null,null,null,null,"Vireux-Molhain",{"$f":"_xlfn.XLOOKUP(O2012,'Liste des DT-EIC-SITES'!D:D,'Liste des DT-EIC-SITES'!C:C)","v":"EIC Lorraine Champagne Ardenne"}]
[null,null,null,null,null,null,null,null,null,null,null,null,null,null,"Virieu-le-Grand-Belley",{"$f":"_xlfn.XLOOKUP(O2013,'Liste des DT-EIC-SITES'!D:D,'Liste des DT-EIC-SITES'!C:C)","v":"EIC Alpes"}]
[null,null,null,null,null,null,null,null,null,null,null,null,null,null,"Viry",{"$f":"_xlfn.XLOOKUP(O2014,'Liste des DT-EIC-SITES'!D:D,'Liste des DT-EIC-SITES'!C:C)","v":"EIC Alpes"}]
[null,null,null,null,null,null,null,null,null,null,null,null,null,null,"Vitré",{"$f":"_xlfn.XLOOKUP(O2015,'Liste des DT-EIC-SITES'!D:D,'Liste des DT-EIC-SITES'!C:C)","v":"EIC Bretagne Pays de la Loire"}]
[null,null,null,null,null,null,null,null,null,null,null,null,null,null,"Vitrey-Vernois",{"$f":"_xlfn.XLOOKUP(O2016,'Liste des DT-EIC-SITES'!D:D,'Liste des DT-EIC-SITES'!C:C)","v":"EIC Bourgogne Franche Comté"}]
[null,null,null,null,null,null,null,null,null,null,null,null,null,null,"Vitry-la-Ville",{"$f":"_xlfn.XLOOKUP(O2017,'Liste des DT-EIC-SITES'!D:D,'Liste des DT-EIC-SITES'!C:C)","v":"EIC Lorraine Champagne Ardenne"}]
[null,null,null,null,null,null,null,null,null,null,null,null,null,null,"Vitry-le-François",{"$f":"_xlfn.XLOOKUP(O2018,'Liste des DT-EIC-SITES'!D:D,'Liste des DT-EIC-SITES'!C:C)","v":"EIC Lorraine Champagne Ardenne"}]
[null,null,null,null,null,null,null,null,null,null,null,null,null,null,"Vitry-sur-Seine",{"$f":"_xlfn.XLOOKUP(O2019,'Liste des DT-EIC-SITES'!D:D,'Liste des DT-EIC-SITES'!C:C)","v":"EIC Paris Sud Ouest"}]
[null,null,null,null,null,null,null,null,null,null,null,null,null,null,"Vittel",{"$f":"_xlfn.XLOOKUP(O2020,'Liste des DT-EIC-SITES'!D:D,'Liste des DT-EIC-SITES'!C:C)","v":"EIC Lorraine Champagne Ardenne"}]
[null,null,null,null,null,null,null,null,null,null,null,null,null,null,"Viviez-Decazeville",{"$f":"_xlfn.XLOOKUP(O2021,'Liste des DT-EIC-SITES'!D:D,'Liste des DT-EIC-SITES'!C:C)","v":"EIC Midi Pyrénées"}]
[null,null,null,null,null,null,null,null,null,null,null,null,null,null,"Vivonne",{"$f":"_xlfn.XLOOKUP(O2022,'Liste des DT-EIC-SITES'!D:D,'Liste des DT-EIC-SITES'!C:C)","v":"EIC Aquitaine Poitou Charentes"}]
[null,null,null,null,null,null,null,null,null,null,null,null,null,null,"Vivy",{"$f":"_xlfn.XLOOKUP(O2023,'Liste des DT-EIC-SITES'!D:D,'Liste des DT-EIC-SITES'!C:C)","v":"EIC Bretagne Pays de la Loire"}]
[null,null,null,null,null,null,null,null,null,null,null,null,null,null,"Volvic",{"$f":"_xlfn.XLOOKUP(O2024,'Liste des DT-EIC-SITES'!D:D,'Liste des DT-EIC-SITES'!C:C)","v":"EIC Auvergne Nivernais"}]
[null,null,null,null,null,null,null,null,null,null,null,null,null,null,"Vonnas",{"$f":"_xlfn.XLOOKUP(O2025,'Liste des DT-EIC-SITES'!D:D,'Liste des DT-EIC-SITES'!C:C)","v":"EIC Alpes"}]
[null,null,null,null,null,null,null,null,null,null,null,null,null,null,"Voreppe",{"$f":"_xlfn.XLOOKUP(O2026,'Liste des DT-EIC-SITES'!D:D,'Liste des DT-EIC-SITES'!C:C)","v":"EIC Alpes"}]
[null,null,null,null,null,null,null,null,null,null,null,null,null,null,"Vorey",{"$f":"_xlfn.XLOOKUP(O2027,'Liste des DT-EIC-SITES'!D:D,'Liste des DT-EIC-SITES'!C:C)","v":"EIC Auvergne Nivernais"}]
[null,null,null,null,null,null,null,null,null,null,null,null,null,null,"Voutré",{"$f":"_xlfn.XLOOKUP(O2028,'Liste des DT-EIC-SITES'!D:D,'Liste des DT-EIC-SITES'!C:C)","v":"EIC Bretagne Pays de la Loire"}]
[null,null,null,null,null,null,null,null,null,null,null,null,null,null,"Voves",{"$f":"_xlfn.XLOOKUP(O2029,'Liste des DT-EIC-SITES'!D:D,'Liste des DT-EIC-SITES'!C:C)","v":"EIC Centre Limousin"}]
[null,null,null,null,null,null,null,null,null,null,null,null,null,null,"Wesserling",{"$f":"_xlfn.XLOOKUP(O2030,'Liste des DT-EIC-SITES'!D:D,'Liste des DT-EIC-SITES'!C:C)","v":"EIC Alsace"}]
[null,null,null,null,null,null,null,null,null,null,null,null,null,null,"Wingen-sur-Moder",{"$f":"_xlfn.XLOOKUP(O2031,'Liste des DT-EIC-SITES'!D:D,'Liste des DT-EIC-SITES'!C:C)","v":"EIC Alsace"}]
[null,null,null,null,null,null,null,null,null,null,null,null,null,null,"Wissembourg",{"$f":"_xlfn.XLOOKUP(O2032,'Liste des DT-EIC-SITES'!D:D,'Liste des DT-EIC-SITES'!C:C)","v":"EIC Alsace"}]
[null,null,null,null,null,null,null,null,null,null,null,null,null,null,"Wizernes",{"$f":"_xlfn.XLOOKUP(O2033,'Liste des DT-EIC-SITES'!D:D,'Liste des DT-EIC-SITES'!C:C)","v":"EIC Hauts de France"}]
[null,null,null,null,null,null,null,null,null,null,null,null,null,null,"Woippy",{"$f":"_xlfn.XLOOKUP(O2034,'Liste des DT-EIC-SITES'!D:D,'Liste des DT-EIC-SITES'!C:C)","v":"EIC Lorraine Champagne Ardenne"}]
[null,null,null,null,null,null,null,null,null,null,null,null,null,null,"Xertigny",{"$f":"_xlfn.XLOOKUP(O2035,'Liste des DT-EIC-SITES'!D:D,'Liste des DT-EIC-SITES'!C:C)","v":"EIC Lorraine Champagne Ardenne"}]
[null,null,null,null,null,null,null,null,null,null,null,null,null,null,"Ychoux",{"$f":"_xlfn.XLOOKUP(O2036,'Liste des DT-EIC-SITES'!D:D,'Liste des DT-EIC-SITES'!C:C)","v":"EIC Aquitaine Poitou Charentes"}]
[null,null,null,null,null,null,null,null,null,null,null,null,null,null,"Ygos",{"$f":"_xlfn.XLOOKUP(O2037,'Liste des DT-EIC-SITES'!D:D,'Liste des DT-EIC-SITES'!C:C)","v":"EIC Aquitaine Poitou Charentes"}]
[null,null,null,null,null,null,null,null,null,null,null,null,null,null,"Yvetot",{"$f":"_xlfn.XLOOKUP(O2038,'Liste des DT-EIC-SITES'!D:D,'Liste des DT-EIC-SITES'!C:C)","v":"EIC Normandie"}]
[null,null,null,null,null,null,null,null,null,null,null,null,null,null,"ZI Chenove",{"$f":"_xlfn.XLOOKUP(O2039,'Liste des DT-EIC-SITES'!D:D,'Liste des DT-EIC-SITES'!C:C)","v":"EIC Bourgogne Franche Comté"}]
[null,null,null,null,null,null,null,null,null,null,null,null,null,null,"Zone Industrielle Soissons St-Paul",{"$f":"_xlfn.XLOOKUP(O2040,'Liste des DT-EIC-SITES'!D:D,'Liste des DT-EIC-SITES'!C:C)","v":"EIC Hauts de France"}]
[null,null,null,null,null,null,null,null,null,null,null,null,null,null,null,{"$f":"_xlfn.XLOOKUP(O2041,'Liste des DT-EIC-SITES'!D:D,'Liste des DT-EIC-SITES'!C:C)","v":0}]
[null,null,null,null,null,null,null,null,null,null,null,null,null,null,null,{"$f":"_xlfn.XLOOKUP(O2042,'Liste des DT-EIC-SITES'!D:D,'Liste des DT-EIC-SITES'!C:C)","v":0}]
[null,null,null,null,null,null,null,null,null,null,null,null,null,null,null,{"$f":"_xlfn.XLOOKUP(O2043,'Liste des DT-EIC-SITES'!D:D,'Liste des DT-EIC-SITES'!C:C)","v":0}]
[null,null,null,null,null,null,null,null,null,null,null,null,null,null,null,{"$f":"_xlfn.XLOOKUP(O2044,'Liste des DT-EIC-SITES'!D:D,'Liste des DT-EIC-SITES'!C:C)","v":0}]
[null,null,null,null,null,null,null,null,null,null,null,null,null,null,null,{"$f":"_xlfn.XLOOKUP(O2045,'Liste des DT-EIC-SITES'!D:D,'Liste des DT-EIC-SITES'!C:C)","v":0}]
[null,null,null,null,null,null,null,null,null,null,null,null,null,null,null,{"$f":"_xlfn.XLOOKUP(O2046,'Liste des DT-EIC-SITES'!D:D,'Liste des DT-EIC-SITES'!C:C)","v":0}]
[null,null,null,null,null,null,null,null,null,null,null,null,null,null,null,{"$f":"_xlfn.XLOOKUP(O2047,'Liste des DT-EIC-SITES'!D:D,'Liste des DT-EIC-SITES'!C:C)","v":0}]
[null,null,null,null,null,null,null,null,null,null,null,null,null,null,null,{"$f":"_xlfn.XLOOKUP(O2048,'Liste des DT-EIC-SITES'!D:D,'Liste des DT-EIC-SITES'!C:C)","v":0}]
[null,null,null,null,null,null,null,null,null,null,null,null,null,null,null,{"$f":"_xlfn.XLOOKUP(O2049,'Liste des DT-EIC-SITES'!D:D,'Liste des DT-EIC-SITES'!C:C)","v":0}]
[null,null,null,null,null,null,null,null,null,null,null,null,null,null,null,{"$f":"_xlfn.XLOOKUP(O2050,'Liste des DT-EIC-SITES'!D:D,'Liste des DT-EIC-SITES'!C:C)","v":0}]
[null,null,null,null,null,null,null,null,null,null,null,null,null,null,null,{"$f":"_xlfn.XLOOKUP(O2051,'Liste des DT-EIC-SITES'!D:D,'Liste des DT-EIC-SITES'!C:C)","v":0}]
[null,null,null,null,null,null,null,null,null,null,null,null,null,null,null,{"$f":"_xlfn.XLOOKUP(O2052,'Liste des DT-EIC-SITES'!D:D,'Liste des DT-EIC-SITES'!C:C)","v":0}]
[null,null,null,null,null,null,null,null,null,null,null,null,null,null,null,{"$f":"_xlfn.XLOOKUP(O2053,'Liste des DT-EIC-SITES'!D:D,'Liste des DT-EIC-SITES'!C:C)","v":0}]
[null,null,null,null,null,null,null,null,null,null,null,null,null,null,null,{"$f":"_xlfn.XLOOKUP(O2054,'Liste des DT-EIC-SITES'!D:D,'Liste des DT-EIC-SITES'!C:C)","v":0}]
[null,null,null,null,null,null,null,null,null,null,null,null,null,null,null,{"$f":"_xlfn.XLOOKUP(O2055,'Liste des DT-EIC-SITES'!D:D,'Liste des DT-EIC-SITES'!C:C)","v":0}]
[null,null,null,null,null,null,null,null,null,null,null,null,null,null,null,{"$f":"_xlfn.XLOOKUP(O2056,'Liste des DT-EIC-SITES'!D:D,'Liste des DT-EIC-SITES'!C:C)","v":0}]